Workbook

Sheet 考核奖励规则
A1: 考核目标 | B1: 月度目标里程(km) | C1: 当月达标 | D1: 当月未达标 | E1: 结转 | F1: 补发/累计补发
A2: 交投40辆4.5T普货 | B2: 3000 | C2: 150元×天数折算 | D2: 不发 | E2: 150元整月 | F2: 150元×折算
A3: 交投190辆4.5T冷链车 | B3: 3000 | C3: 150元×天数折算 | D3: 不发 | E3: 150元整月 | F3: 150元×折算
A4: 羚牛136辆4.5T冷链车 | B4: 5000 | C4: 260元×天数折算 | D4: 不发 | E4: 260元整月 | F4: 260元×折算
A5: 恒运50辆4.5T普货 | B5: 5000 | C5: 260元×天数折算 | D5: 不发 | E5: 260元整月 | F5: 260元×折算
A6: 羚牛100辆18T | B6: 6000 | C6: 1000元×天数折算 | D6: 不发 | E6: 1000元整月 | F6: 1000元×折算
A9: 名单对应考核目标 | B9: 月目标不变 | C9: 名单当月奖励 | D9: 未达标 | E9: 名单结转 | F9: 9月补发基准
A10: 交投40辆4.5T普货 | B10: 3000 | C10: 150元×天数折算 | D10: 不发 | E10: 150元整月 | F10: 150元×折算
A11: 交投190辆4.5T冷链车 | B11: 3000 | C11: 150元×天数折算 | D11: 不发 | E11: 150元整月 | F11: 150元×折算
A12: 羚牛136辆4.5T冷链车 | B12: 5000 | C12: 300元×天数折算 | D12: 不发 | E12: 300元整月 | F12: 300元×折算
A13: 恒运50辆4.5T普货 | B13: 5000 | C13: 300元×天数折算 | D13: 不发 | E13: 300元整月 | F13: 300元×折算
A14: 羚牛100辆18T | B14: 6000 | C14: 150元×天数折算 | D14: 不发 | E14: 150元整月 | F14: 150元×折算
A16: 沿用8月原始39辆名单，本月匹配36辆；名单外沿用原金额。折算、结转、补发规则不变，历史月补发仍使用历史基准。亏损暂不处理。
A20: 8月实际已发45,065.47元锁定。9月沿用8月逐日取数，交接日计前段。缺少所需来源的车辆日保留缺口，按已有里程累计；补数后重新核算。具体口径及完整名单见“规则与名单”。
A24: 名单车牌 | B24: 考核源表行 | C24: 9月月奖励（元） | D24: 业务员 | E24: 部门 | F24: 考核目标
A25: 粤A00615F | B25: 2 | C25: 150 | D25: 赵伟军 | E25: 综合业务部 | F25: 羚牛100辆18T
A26: 粤A01939F | B26: 4 | C26: 150 | D26: 赵伟军 | E26: 综合业务部 | F26: 羚牛100辆18T
A27: 粤A02661F | B27: 6 | C27: 150 | D27: 赵伟军 | E27: 综合业务部 | F27: 羚牛100辆18T
A28: 粤A05322F | B28: 7 | C28: 150 | D28: 赵伟军 | E28: 综合业务部 | F28: 羚牛100辆18T
A29: 粤A05428F | B29: 8 | C29: 150 | D29: 赵伟军 | E29: 综合业务部 | F29: 羚牛100辆18T
A30: 粤A08933F | B30: 11 | C30: 150 | D30: 赵伟军 | E30: 综合业务部 | F30: 羚牛100辆18T
A31: 粤A09578F | B31: 12 | C31: 150 | D31: 赵伟军 | E31: 综合业务部 | F31: 羚牛100辆18T
A32: 粤A09706F | B32: 14 | C32: 150 | D32: 赵伟军 | E32: 综合业务部 | F32: 羚牛100辆18T
A33: 粤A01620F | B33: 26 | C33: 150 | D33: 童军林 | E33: 综合业务部 | F33: 羚牛100辆18T
A34: 粤A01620F | B34: 33 | C34: 150 | D34: 陈高伟 | E34: 业务一部 | F34: 羚牛100辆18T
A35: 粤AGP3628 | B35: 142 | C35: 150 | D35: 钟祥 | E35: 业务一部 | F35: 交投190辆4.5T冷链车
A36: 粤AGP3660 | B36: 146 | C36: 300 | D36: 钟祥 | E36: 业务一部 | F36: 羚牛136辆4.5T冷链车
... A62: 粤AGP9780 | B62: 342 | C62: 150 | D62: 秦挺 | E62: 业务五部 | F62: 交投190辆4.5T冷链车

Sheet 里程明细9月
A1: 车牌号 | B1: 部门名称 | C1: 销售经理 | D1: 客户名称 | E1: 合同编号 | F1: 考核目标 | G1: 月度目标里程 | H1: 月奖励金额 | I1: 考核天数 | J1: 9月应考核里程 | K1: 9月实际行驶里程 | L1: 完成率 | M1: 9月是否达标 | N1: 9月奖金(天数折算) | O1: 多跑里程 | P1: 可结转月数 | Q1: 考核状态 | R1: 源表行 | S1: 取数方式 | T1: 新政策 | U1: 考核开始日期 | V1: 考核结束日期 | W1: 说明 | X1: 缺口天数
A2: 粤A00615F | B2: 综合业务部 | C2: 赵伟军 | D2: 保定市施达物流有限公司 | E2: LNZLHT2026082402-042 | F2: 羚牛100辆18T | G2: 6000 | H2: 150 | I2: 30 | J2: =业务考核视图!N2 -> 6000 | K2: =业务考核视图!O2 -> 4564.6 | L2: =K2/J2 -> 0.76076667 | M2: =业务考核视图!Q2 -> 未达标 | N2: =IF(K2>=J2,ROUND(H2*I2/规则与名单!$B$3,2),0) -> 0 | O2: 0 | P2: 0 | Q2: 进行中 | R2: 2 | S2: 非测试日纯氢30天 | T2: 是 | U2: 2026-09-01T00:00:00.000Z | V2: 2026-09-30T00:00:00.000Z | X2: 0
A3: 粤A01209F | B3: 综合业务部 | C3: 赵伟军 | D3: 河北昌裕物流有限公司 | E3: LNZLHT2026091701-042 | F3: 羚牛100辆18T | G3: 6000 | H3: 1000 | I3: 9 | J3: =业务考核视图!N3 -> 1800 | K3: =业务考核视图!O3 -> 1377.7 | L3: =K3/J3 -> 0.76538889 | M3: =业务考核视图!Q3 -> 未达标 | N3: =IF(K3>=J3,ROUND(H3*I3/规则与名单!$B$3,2),0) -> 0 | O3: 0 | P3: 0 | Q3: 进行中 | R3: 3 | S3: 非测试日纯氢5天；测试日GPS1天；测试名单无纯氢GPS2天；非测试日仪表1天 | T3: 否 | U3: 2026-09-22T00:00:00.000Z | V3: 2026-09-30T00:00:00.000Z | X3: 0
A4: 粤A01939F | B4: 综合业务部 | C4: 赵伟军 | D4: 保定市施达物流有限公司 | E4: LNZLHT2026082402-042 | F4: 羚牛100辆18T | G4: 6000 | H4: 150 | I4: 30 | J4: =业务考核视图!N4 -> 6000 | K4: =业务考核视图!O4 -> 599.3 | L4: =K4/J4 -> 0.099883333 | M4: =业务考核视图!Q4 -> 未达标 | N4: =IF(K4>=J4,ROUND(H4*I4/规则与名单!$B$3,2),0) -> 0 | O4: 0 | P4: 0 | Q4: 进行中 | R4: 4 | S4: 非测试日纯氢30天 | T4: 是 | U4: 2026-09-01T00:00:00.000Z | V4: 2026-09-30T00:00:00.000Z | X4: 0
A5: 粤A02058F | B5: 综合业务部 | C5: 赵伟军 | D5: 河北昌裕物流有限公司 | E5: LNZLHT2026091701-042 | F5: 羚牛100辆18T | G5: 6000 | H5: 1000 | I5: 9 | J5: =业务考核视图!N5 -> 1800 | K5: =业务考核视图!O5 -> 1333.3 | L5: =K5/J5 -> 0.74072222 | M5: =业务考核视图!Q5 -> 未达标 | N5: =IF(K5>=J5,ROUND(H5*I5/规则与名单!$B$3,2),0) -> 0 | O5: 0 | P5: 0 | Q5: 进行中 | R5: 5 | S5: 测试日GPS2天；测试名单无纯氢GPS3天；非测试日纯氢3天；非测试日仪表1天 | T5: 否 | U5: 2026-09-22T00:00:00.000Z | V5: 2026-09-30T00:00:00.000Z | X5: 0
A6: 粤A02661F | B6: 综合业务部 | C6: 赵伟军 | D6: 保定市施达物流有限公司 | E6: LNZLHT2026082402-042 | F6: 羚牛100辆18T | G6: 6000 | H6: 150 | I6: 30 | J6: =业务考核视图!N6 -> 6000 | K6: =业务考核视图!O6 -> 4785.8 | L6: =K6/J6 -> 0.79763333 | M6: =业务考核视图!Q6 -> 已有里程未达标 | N6: =IF(K6>=J6,ROUND(H6*I6/规则与名单!$B$3,2),0) -> 0 | O6: 0 | P6: 0 | Q6: 进行中 | R6: 6 | S6: 非测试日纯氢28天；缺失1天；非测试日仪表1天 | T6: 是 | U6: 2026-09-01T00:00:00.000Z | V6: 2026-09-30T00:00:00.000Z | X6: 1
A7: 粤A05322F | B7: 综合业务部 | C7: 赵伟军 | D7: 保定市施达物流有限公司 | E7: LNZLHT2026082402-042 | F7: 羚牛100辆18T | G7: 6000 | H7: 150 | I7: 30 | J7: =业务考核视图!N7 -> 6000 | K7: =业务考核视图!O7 -> 3467.7 | L7: =K7/J7 -> 0.57795 | M7: =业务考核视图!Q7 -> 已有里程未达标 | N7: =IF(K7>=J7,ROUND(H7*I7/规则与名单!$B$3,2),0) -> 0 | O7: 0 | P7: 0 | Q7: 进行中 | R7: 7 | S7: 非测试日纯氢24天；缺失3天；非测试日仪表3天 | T7: 是 | U7: 2026-09-01T00:00:00.000Z | V7: 2026-09-30T00:00:00.000Z | X7: 3
A8: 粤A05428F | B8: 综合业务部 | C8: 赵伟军 | D8: 保定市施达物流有限公司 | E8: LNZLHT2026082402-042 | F8: 羚牛100辆18T | G8: 6000 | H8: 150 | I8: 30 | J8: =业务考核视图!N8 -> 6000 | K8: =业务考核视图!O8 -> 5217 | L8: =K8/J8 -> 0.8695 | M8: =业务考核视图!Q8 -> 已有里程未达标 | N8: =IF(K8>=J8,ROUND(H8*I8/规则与名单!$B$3,2),0) -> 0 | O8: 0 | P8: 0 | Q8: 进行中 | R8: 8 | S8: 非测试日仪表1天；非测试日纯氢28天；缺失1天 | T8: 是 | U8: 2026-09-01T00:00:00.000Z | V8: 2026-09-30T00:00:00.000Z | X8: 1
A9: 粤A06158F | B9: 综合业务部 | C9: 赵伟军 | D9: 河北昌裕物流有限公司 | E9: LNZLHT2026091701-042 | F9: 羚牛100辆18T | G9: 6000 | H9: 1000 | I9: 9 | J9: =业务考核视图!N9 -> 1800 | K9: =业务考核视图!O9 -> 1486.3 | L9: =K9/J9 -> 0.82572222 | M9: =业务考核视图!Q9 -> 已有里程未达标 | N9: =IF(K9>=J9,ROUND(H9*I9/规则与名单!$B$3,2),0) -> 0 | O9: 0 | P9: 0 | Q9: 进行中 | R9: 9 | S9: 非测试日纯氢7天；缺失1天；非测试日仪表1天 | T9: 否 | U9: 2026-09-22T00:00:00.000Z | V9: 2026-09-30T00:00:00.000Z | X9: 1
A10: 粤A08875F | B10: 综合业务部 | C10: 赵伟军 | D10: 河北昌裕物流有限公司 | E10: LNZLHT2026091701-042 | F10: 羚牛100辆18T | G10: 6000 | H10: 1000 | I10: 9 | J10: =业务考核视图!N10 -> 1800 | K10: =业务考核视图!O10 -> 1356.8 | L10: =K10/J10 -> 0.75377778 | M10: =业务考核视图!Q10 -> 已有里程未达标 | N10: =IF(K10>=J10,ROUND(H10*I10/规则与名单!$B$3,2),0) -> 0 | O10: 0 | P10: 0 | Q10: 进行中 | R10: 10 | S10: 非测试日纯氢5天；缺失2天；非测试日仪表2天 | T10: 否 | U10: 2026-09-22T00:00:00.000Z | V10: 2026-09-30T00:00:00.000Z | X10: 2
A11: 粤A08933F | B11: 综合业务部 | C11: 赵伟军 | D11: 保定市施达物流有限公司 | E11: LNZLHT2026082402-042 | F11: 羚牛100辆18T | G11: 6000 | H11: 150 | I11: 30 | J11: =业务考核视图!N11 -> 6000 | K11: =业务考核视图!O11 -> 4483.8 | L11: =K11/J11 -> 0.7473 | M11: =业务考核视图!Q11 -> 已有里程未达标 | N11: =IF(K11>=J11,ROUND(H11*I11/规则与名单!$B$3,2),0) -> 0 | O11: 0 | P11: 0 | Q11: 进行中 | R11: 11 | S11: 非测试日纯氢27天；缺失3天 | T11: 是 | U11: 2026-09-01T00:00:00.000Z | V11: 2026-09-30T00:00:00.000Z | X11: 3
A12: 粤A09578F | B12: 综合业务部 | C12: 赵伟军 | D12: 保定市施达物流有限公司 | E12: LNZLHT2026082402-042 | F12: 羚牛100辆18T | G12: 6000 | H12: 150 | I12: 30 | J12: =业务考核视图!N12 -> 6000 | K12: =业务考核视图!O12 -> 9010.7 | L12: =K12/J12 -> 1.5017833 | M12: =业务考核视图!Q12 -> 达标 | N12: =IF(K12>=J12,ROUND(H12*I12/规则与名单!$B$3,2),0) -> 150 | O12: 3010.7 | P12: 0 | Q12: 进行中 | R12: 12 | S12: 非测试日纯氢30天 | T12: 是 | U12: 2026-09-01T00:00:00.000Z | V12: 2026-09-30T00:00:00.000Z | X12: 0
A13: 粤A09635F | B13: 综合业务部 | C13: 赵伟军 | D13: 河北昌裕物流有限公司 | E13: LNZLHT2026091701-042 | F13: 羚牛100辆18T | G13: 6000 | H13: 1000 | I13: 9 | J13: =业务考核视图!N13 -> 1800 | K13: =业务考核视图!O13 -> 1222.5 | L13: =K13/J13 -> 0.67916667 | M13: =业务考核视图!Q13 -> 已有里程未达标 | N13: =IF(K13>=J13,ROUND(H13*I13/规则与名单!$B$3,2),0) -> 0 | O13: 0 | P13: 0 | Q13: 进行中 | R13: 13 | S13: 非测试日纯氢6天；缺失3天 | T13: 否 | U13: 2026-09-22T00:00:00.000Z | V13: 2026-09-30T00:00:00.000Z | X13: 3
... A342: 粤AGP9780 | B342: 业务五部 | C342: 秦挺 | D342: 武汉飞飞鹭供应链有限公司 | E342: LNZLHT2026072903-042 | F342: 交投190辆4.5T冷链车 | G342: 3000 | H342: 150 | I342: 30 | J342: =业务考核视图!N342 -> 3000 | K342: =业务考核视图!O342 -> 6826.8 | L342: =K342/J342 -> 2.2756 | M342: =业务考核视图!Q342 -> 达标 | N342: =IF(K342>=J342,ROUND(H342*I342/规则与名单!$B$3,2),0) -> 150 | O342: 3826.8 | P342: 1 | Q342: 进行中 | R342: 342 | S342: 缺失4天；非测试日纯氢26天 | T342: 是 | U342: 2026-09-01T00:00:00.000Z | V342: 2026-09-30T00:00:00.000Z | X342: 4

Sheet 9月计算过程
A1: 车牌号 | B1: 销售经理 | C1: 部门 | D1: 9月记录数 | E1: 9月总天数 | F1: 9月应考核 | G1: 9月实际 | H1: 9月有达标 | I1: 9月奖金 | J1: 累计应考核 | K1: 累计实际 | L1: 累计达标 | M1: 可结转 | N1: 结转发放 | O1: 当月奖金 | P1: 累计补发9月 | Q1: 补发8月 | R1: 补发7月 | S1: 补发6月 | T1: 补发5月 | U1: 补发4月 | V1: 补发3月 | W1: 补发2月 | X1: 补发1月 | Y1: 9月发放合计 | Z1: 无本月考核记录 | AA1: 9月缺口天数 | AB1: 8月缺口天数 | AC1: 上期可用结转
A2: 粤AGP5768 | B2: 何文斌 | C2: 业务一部 | D2: 1 | E2: 15 | F2: 1500 | G2: 1243.9 | H2: 否 | I2: 0 | J2: 1500 | K2: 1243.9 | L2: 已有里程未达标 | M2: 0 | N2: =SUMIFS('9月奖金发放记录'!$J$2:$J$146,'9月奖金发放记录'!$B$2:$B$146,B2,'9月奖金发放记录'!$A$2:$A$146,A2,'9月奖金发放记录'!$E$2:$E$146,"结转") -> 0 | O2: =SUMIFS('9月奖金发放记录'!$J$2:$J$146,'9月奖金发放记录'!$B$2:$B$146,B2,'9月奖金发放记录'!$A$2:$A$146,A2,'9月奖金发放记录'!$E$2:$E$146,"当月") -> 0 | P2: =SUMIFS('9月奖金发放记录'!$J$2:$J$146,'9月奖金发放记录'!$B$2:$B$146,B2,'9月奖金发放记录'!$A$2:$A$146,A2,'9月奖金发放记录'!$E$2:$E$146,"累计补发9月") -> 0 | Q2: =SUMIFS('9月奖金发放记录'!$J$2:$J$146,'9月奖金发放记录'!$B$2:$B$146,B2,'9月奖金发放记录'!$A$2:$A$146,A2,'9月奖金发放记录'!$E$2:$E$146,"补发8月") -> 0 | R2: =SUMIFS('9月奖金发放记录'!$J$2:$J$146,'9月奖金发放记录'!$B$2:$B$146,B2,'9月奖金发放记录'!$A$2:$A$146,A2,'9月奖金发放记录'!$E$2:$E$146,"补发7月") -> 0 | S2: =SUMIFS('9月奖金发放记录'!$J$2:$J$146,'9月奖金发放记录'!$B$2:$B$146,B2,'9月奖金发放记录'!$A$2:$A$146,A2,'9月奖金发放记录'!$E$2:$E$146,"补发6月") -> 0 | T2: =SUMIFS('9月奖金发放记录'!$J$2:$J$146,'9月奖金发放记录'!$B$2:$B$146,B2,'9月奖金发放记录'!$A$2:$A$146,A2,'9月奖金发放记录'!$E$2:$E$146,"补发5月") -> 0 | U2: =SUMIFS('9月奖金发放记录'!$J$2:$J$146,'9月奖金发放记录'!$B$2:$B$146,B2,'9月奖金发放记录'!$A$2:$A$146,A2,'9月奖金发放记录'!$E$2:$E$146,"补发4月") -> 0 | V2: =SUMIFS('9月奖金发放记录'!$J$2:$J$146,'9月奖金发放记录'!$B$2:$B$146,B2,'9月奖金发放记录'!$A$2:$A$146,A2,'9月奖金发放记录'!$E$2:$E$146,"补发3月") -> 0 | W2: =SUMIFS('9月奖金发放记录'!$J$2:$J$146,'9月奖金发放记录'!$B$2:$B$146,B2,'9月奖金发放记录'!$A$2:$A$146,A2,'9月奖金发放记录'!$E$2:$E$146,"补发2月") -> 0 | X2: =SUMIFS('9月奖金发放记录'!$J$2:$J$146,'9月奖金发放记录'!$B$2:$B$146,B2,'9月奖金发放记录'!$A$2:$A$146,A2,'9月奖金发放记录'!$E$2:$E$146,"补发1月") -> 0 | Y2: =SUM(N2:X2) -> 0 | Z2: 否 | AA2: 0 | AB2: 0 | AC2: 0
A3: 粤AGP9773 | B3: 何文斌 | C3: 业务一部 | D3: 1 | E3: 30 | F3: 3000 | G3: 3583 | H3: 是 | I3: 150 | J3: 4548.39 | K3: 4177.8 | L3: 已有里程未达标 | M3: 0 | N3: =SUMIFS('9月奖金发放记录'!$J$2:$J$146,'9月奖金发放记录'!$B$2:$B$146,B3,'9月奖金发放记录'!$A$2:$A$146,A3,'9月奖金发放记录'!$E$2:$E$146,"结转") -> 0 | O3: =SUMIFS('9月奖金发放记录'!$J$2:$J$146,'9月奖金发放记录'!$B$2:$B$146,B3,'9月奖金发放记录'!$A$2:$A$146,A3,'9月奖金发放记录'!$E$2:$E$146,"当月") -> 150 | P3: =SUMIFS('9月奖金发放记录'!$J$2:$J$146,'9月奖金发放记录'!$B$2:$B$146,B3,'9月奖金发放记录'!$A$2:$A$146,A3,'9月奖金发放记录'!$E$2:$E$146,"累计补发9月") -> 0 | Q3: =SUMIFS('9月奖金发放记录'!$J$2:$J$146,'9月奖金发放记录'!$B$2:$B$146,B3,'9月奖金发放记录'!$A$2:$A$146,A3,'9月奖金发放记录'!$E$2:$E$146,"补发8月") -> 0 | R3: =SUMIFS('9月奖金发放记录'!$J$2:$J$146,'9月奖金发放记录'!$B$2:$B$146,B3,'9月奖金发放记录'!$A$2:$A$146,A3,'9月奖金发放记录'!$E$2:$E$146,"补发7月") -> 0 | S3: =SUMIFS('9月奖金发放记录'!$J$2:$J$146,'9月奖金发放记录'!$B$2:$B$146,B3,'9月奖金发放记录'!$A$2:$A$146,A3,'9月奖金发放记录'!$E$2:$E$146,"补发6月") -> 0 | T3: =SUMIFS('9月奖金发放记录'!$J$2:$J$146,'9月奖金发放记录'!$B$2:$B$146,B3,'9月奖金发放记录'!$A$2:$A$146,A3,'9月奖金发放记录'!$E$2:$E$146,"补发5月") -> 0 | U3: =SUMIFS('9月奖金发放记录'!$J$2:$J$146,'9月奖金发放记录'!$B$2:$B$146,B3,'9月奖金发放记录'!$A$2:$A$146,A3,'9月奖金发放记录'!$E$2:$E$146,"补发4月") -> 0 | V3: =SUMIFS('9月奖金发放记录'!$J$2:$J$146,'9月奖金发放记录'!$B$2:$B$146,B3,'9月奖金发放记录'!$A$2:$A$146,A3,'9月奖金发放记录'!$E$2:$E$146,"补发3月") -> 0 | W3: =SUMIFS('9月奖金发放记录'!$J$2:$J$146,'9月奖金发放记录'!$B$2:$B$146,B3,'9月奖金发放记录'!$A$2:$A$146,A3,'9月奖金发放记录'!$E$2:$E$146,"补发2月") -> 0 | X3: =SUMIFS('9月奖金发放记录'!$J$2:$J$146,'9月奖金发放记录'!$B$2:$B$146,B3,'9月奖金发放记录'!$A$2:$A$146,A3,'9月奖金发放记录'!$E$2:$E$146,"补发1月") -> 0 | Y3: =SUM(N3:X3) -> 150 | Z3: 否 | AA3: 1 | AB3: 0 | AC3: 0
A4: 粤AGR8739 | B4: 何文斌 | C4: 业务一部 | D4: 1 | E4: 9 | F4: 900 | G4: 925.4 | H4: 是 | I4: 45 | J4: 900 | K4: 925.4 | L4: 达标 | M4: 0 | N4: =SUMIFS('9月奖金发放记录'!$J$2:$J$146,'9月奖金发放记录'!$B$2:$B$146,B4,'9月奖金发放记录'!$A$2:$A$146,A4,'9月奖金发放记录'!$E$2:$E$146,"结转") -> 0 | O4: =SUMIFS('9月奖金发放记录'!$J$2:$J$146,'9月奖金发放记录'!$B$2:$B$146,B4,'9月奖金发放记录'!$A$2:$A$146,A4,'9月奖金发放记录'!$E$2:$E$146,"当月") -> 45 | P4: =SUMIFS('9月奖金发放记录'!$J$2:$J$146,'9月奖金发放记录'!$B$2:$B$146,B4,'9月奖金发放记录'!$A$2:$A$146,A4,'9月奖金发放记录'!$E$2:$E$146,"累计补发9月") -> 0 | Q4: =SUMIFS('9月奖金发放记录'!$J$2:$J$146,'9月奖金发放记录'!$B$2:$B$146,B4,'9月奖金发放记录'!$A$2:$A$146,A4,'9月奖金发放记录'!$E$2:$E$146,"补发8月") -> 0 | R4: =SUMIFS('9月奖金发放记录'!$J$2:$J$146,'9月奖金发放记录'!$B$2:$B$146,B4,'9月奖金发放记录'!$A$2:$A$146,A4,'9月奖金发放记录'!$E$2:$E$146,"补发7月") -> 0 | S4: =SUMIFS('9月奖金发放记录'!$J$2:$J$146,'9月奖金发放记录'!$B$2:$B$146,B4,'9月奖金发放记录'!$A$2:$A$146,A4,'9月奖金发放记录'!$E$2:$E$146,"补发6月") -> 0 | T4: =SUMIFS('9月奖金发放记录'!$J$2:$J$146,'9月奖金发放记录'!$B$2:$B$146,B4,'9月奖金发放记录'!$A$2:$A$146,A4,'9月奖金发放记录'!$E$2:$E$146,"补发5月") -> 0 | U4: =SUMIFS('9月奖金发放记录'!$J$2:$J$146,'9月奖金发放记录'!$B$2:$B$146,B4,'9月奖金发放记录'!$A$2:$A$146,A4,'9月奖金发放记录'!$E$2:$E$146,"补发4月") -> 0 | V4: =SUMIFS('9月奖金发放记录'!$J$2:$J$146,'9月奖金发放记录'!$B$2:$B$146,B4,'9月奖金发放记录'!$A$2:$A$146,A4,'9月奖金发放记录'!$E$2:$E$146,"补发3月") -> 0 | W4: =SUMIFS('9月奖金发放记录'!$J$2:$J$146,'9月奖金发放记录'!$B$2:$B$146,B4,'9月奖金发放记录'!$A$2:$A$146,A4,'9月奖金发放记录'!$E$2:$E$146,"补发2月") -> 0 | X4: =SUMIFS('9月奖金发放记录'!$J$2:$J$146,'9月奖金发放记录'!$B$2:$B$146,B4,'9月奖金发放记录'!$A$2:$A$146,A4,'9月奖金发放记录'!$E$2:$E$146,"补发1月") -> 0 | Y4: =SUM(N4:X4) -> 45 | Z4: 否 | AA4: 0 | AB4: 0 | AC4: 0
A5: 粤A00116F | B5: 刘念念 | C5: 业务一部 | D5: 1 | E5: 30 | F5: 6000 | G5: 393.7 | H5: 否 | I5: 0 | J5: 53225.81 | K5: 22950.4 | L5: 已有里程未达标 | M5: 0 | N5: =SUMIFS('9月奖金发放记录'!$J$2:$J$146,'9月奖金发放记录'!$B$2:$B$146,B5,'9月奖金发放记录'!$A$2:$A$146,A5,'9月奖金发放记录'!$E$2:$E$146,"结转") -> 0 | O5: =SUMIFS('9月奖金发放记录'!$J$2:$J$146,'9月奖金发放记录'!$B$2:$B$146,B5,'9月奖金发放记录'!$A$2:$A$146,A5,'9月奖金发放记录'!$E$2:$E$146,"当月") -> 0 | P5: =SUMIFS('9月奖金发放记录'!$J$2:$J$146,'9月奖金发放记录'!$B$2:$B$146,B5,'9月奖金发放记录'!$A$2:$A$146,A5,'9月奖金发放记录'!$E$2:$E$146,"累计补发9月") -> 0 | Q5: =SUMIFS('9月奖金发放记录'!$J$2:$J$146,'9月奖金发放记录'!$B$2:$B$146,B5,'9月奖金发放记录'!$A$2:$A$146,A5,'9月奖金发放记录'!$E$2:$E$146,"补发8月") -> 0 | R5: =SUMIFS('9月奖金发放记录'!$J$2:$J$146,'9月奖金发放记录'!$B$2:$B$146,B5,'9月奖金发放记录'!$A$2:$A$146,A5,'9月奖金发放记录'!$E$2:$E$146,"补发7月") -> 0 | S5: =SUMIFS('9月奖金发放记录'!$J$2:$J$146,'9月奖金发放记录'!$B$2:$B$146,B5,'9月奖金发放记录'!$A$2:$A$146,A5,'9月奖金发放记录'!$E$2:$E$146,"补发6月") -> 0 | T5: =SUMIFS('9月奖金发放记录'!$J$2:$J$146,'9月奖金发放记录'!$B$2:$B$146,B5,'9月奖金发放记录'!$A$2:$A$146,A5,'9月奖金发放记录'!$E$2:$E$146,"补发5月") -> 0 | U5: =SUMIFS('9月奖金发放记录'!$J$2:$J$146,'9月奖金发放记录'!$B$2:$B$146,B5,'9月奖金发放记录'!$A$2:$A$146,A5,'9月奖金发放记录'!$E$2:$E$146,"补发4月") -> 0 | V5: =SUMIFS('9月奖金发放记录'!$J$2:$J$146,'9月奖金发放记录'!$B$2:$B$146,B5,'9月奖金发放记录'!$A$2:$A$146,A5,'9月奖金发放记录'!$E$2:$E$146,"补发3月") -> 0 | W5: =SUMIFS('9月奖金发放记录'!$J$2:$J$146,'9月奖金发放记录'!$B$2:$B$146,B5,'9月奖金发放记录'!$A$2:$A$146,A5,'9月奖金发放记录'!$E$2:$E$146,"补发2月") -> 0 | X5: =SUMIFS('9月奖金发放记录'!$J$2:$J$146,'9月奖金发放记录'!$B$2:$B$146,B5,'9月奖金发放记录'!$A$2:$A$146,A5,'9月奖金发放记录'!$E$2:$E$146,"补发1月") -> 0 | Y5: =SUM(N5:X5) -> 0 | Z5: 否 | AA5: 6 | AB5: 0 | AC5: 0
A6: 粤A00828F | B6: 刘念念 | C6: 业务一部 | D6: 1 | E6: 30 | F6: 6000 | G6: 960.1 | H6: 否 | I6: 0 | J6: 37161.29 | K6: 40394.8 | L6: 达标 | M6: 0 | N6: =SUMIFS('9月奖金发放记录'!$J$2:$J$146,'9月奖金发放记录'!$B$2:$B$146,B6,'9月奖金发放记录'!$A$2:$A$146,A6,'9月奖金发放记录'!$E$2:$E$146,"结转") -> 0 | O6: =SUMIFS('9月奖金发放记录'!$J$2:$J$146,'9月奖金发放记录'!$B$2:$B$146,B6,'9月奖金发放记录'!$A$2:$A$146,A6,'9月奖金发放记录'!$E$2:$E$146,"当月") -> 0 | P6: =SUMIFS('9月奖金发放记录'!$J$2:$J$146,'9月奖金发放记录'!$B$2:$B$146,B6,'9月奖金发放记录'!$A$2:$A$146,A6,'9月奖金发放记录'!$E$2:$E$146,"累计补发9月") -> 1000 | Q6: =SUMIFS('9月奖金发放记录'!$J$2:$J$146,'9月奖金发放记录'!$B$2:$B$146,B6,'9月奖金发放记录'!$A$2:$A$146,A6,'9月奖金发放记录'!$E$2:$E$146,"补发8月") -> 0 | R6: =SUMIFS('9月奖金发放记录'!$J$2:$J$146,'9月奖金发放记录'!$B$2:$B$146,B6,'9月奖金发放记录'!$A$2:$A$146,A6,'9月奖金发放记录'!$E$2:$E$146,"补发7月") -> 0 | S6: =SUMIFS('9月奖金发放记录'!$J$2:$J$146,'9月奖金发放记录'!$B$2:$B$146,B6,'9月奖金发放记录'!$A$2:$A$146,A6,'9月奖金发放记录'!$E$2:$E$146,"补发6月") -> 0 | T6: =SUMIFS('9月奖金发放记录'!$J$2:$J$146,'9月奖金发放记录'!$B$2:$B$146,B6,'9月奖金发放记录'!$A$2:$A$146,A6,'9月奖金发放记录'!$E$2:$E$146,"补发5月") -> 0 | U6: =SUMIFS('9月奖金发放记录'!$J$2:$J$146,'9月奖金发放记录'!$B$2:$B$146,B6,'9月奖金发放记录'!$A$2:$A$146,A6,'9月奖金发放记录'!$E$2:$E$146,"补发4月") -> 0 | V6: =SUMIFS('9月奖金发放记录'!$J$2:$J$146,'9月奖金发放记录'!$B$2:$B$146,B6,'9月奖金发放记录'!$A$2:$A$146,A6,'9月奖金发放记录'!$E$2:$E$146,"补发3月") -> 0 | W6: =SUMIFS('9月奖金发放记录'!$J$2:$J$146,'9月奖金发放记录'!$B$2:$B$146,B6,'9月奖金发放记录'!$A$2:$A$146,A6,'9月奖金发放记录'!$E$2:$E$146,"补发2月") -> 0 | X6: =SUMIFS('9月奖金发放记录'!$J$2:$J$146,'9月奖金发放记录'!$B$2:$B$146,B6,'9月奖金发放记录'!$A$2:$A$146,A6,'9月奖金发放记录'!$E$2:$E$146,"补发1月") -> 0 | Y6: =SUM(N6:X6) -> 1000 | Z6: 否 | AA6: 3 | AB6: 0 | AC6: 0
A7: 粤A01013F | B7: 刘念念 | C7: 业务一部 | D7: 1 | E7: 5 | F7: 1000 | G7: 359 | H7: 否 | I7: 0 | J7: 46290.31 | K7: 44561.4 | L7: 已有里程未达标 | M7: 0 | N7: =SUMIFS('9月奖金发放记录'!$J$2:$J$146,'9月奖金发放记录'!$B$2:$B$146,B7,'9月奖金发放记录'!$A$2:$A$146,A7,'9月奖金发放记录'!$E$2:$E$146,"结转") -> 0 | O7: =SUMIFS('9月奖金发放记录'!$J$2:$J$146,'9月奖金发放记录'!$B$2:$B$146,B7,'9月奖金发放记录'!$A$2:$A$146,A7,'9月奖金发放记录'!$E$2:$E$146,"当月") -> 0 | P7: =SUMIFS('9月奖金发放记录'!$J$2:$J$146,'9月奖金发放记录'!$B$2:$B$146,B7,'9月奖金发放记录'!$A$2:$A$146,A7,'9月奖金发放记录'!$E$2:$E$146,"累计补发9月") -> 0 | Q7: =SUMIFS('9月奖金发放记录'!$J$2:$J$146,'9月奖金发放记录'!$B$2:$B$146,B7,'9月奖金发放记录'!$A$2:$A$146,A7,'9月奖金发放记录'!$E$2:$E$146,"补发8月") -> 0 | R7: =SUMIFS('9月奖金发放记录'!$J$2:$J$146,'9月奖金发放记录'!$B$2:$B$146,B7,'9月奖金发放记录'!$A$2:$A$146,A7,'9月奖金发放记录'!$E$2:$E$146,"补发7月") -> 0 | S7: =SUMIFS('9月奖金发放记录'!$J$2:$J$146,'9月奖金发放记录'!$B$2:$B$146,B7,'9月奖金发放记录'!$A$2:$A$146,A7,'9月奖金发放记录'!$E$2:$E$146,"补发6月") -> 0 | T7: =SUMIFS('9月奖金发放记录'!$J$2:$J$146,'9月奖金发放记录'!$B$2:$B$146,B7,'9月奖金发放记录'!$A$2:$A$146,A7,'9月奖金发放记录'!$E$2:$E$146,"补发5月") -> 0 | U7: =SUMIFS('9月奖金发放记录'!$J$2:$J$146,'9月奖金发放记录'!$B$2:$B$146,B7,'9月奖金发放记录'!$A$2:$A$146,A7,'9月奖金发放记录'!$E$2:$E$146,"补发4月") -> 0 | V7: =SUMIFS('9月奖金发放记录'!$J$2:$J$146,'9月奖金发放记录'!$B$2:$B$146,B7,'9月奖金发放记录'!$A$2:$A$146,A7,'9月奖金发放记录'!$E$2:$E$146,"补发3月") -> 0 | W7: =SUMIFS('9月奖金发放记录'!$J$2:$J$146,'9月奖金发放记录'!$B$2:$B$146,B7,'9月奖金发放记录'!$A$2:$A$146,A7,'9月奖金发放记录'!$E$2:$E$146,"补发2月") -> 0 | X7: =SUMIFS('9月奖金发放记录'!$J$2:$J$146,'9月奖金发放记录'!$B$2:$B$146,B7,'9月奖金发放记录'!$A$2:$A$146,A7,'9月奖金发放记录'!$E$2:$E$146,"补发1月") -> 0 | Y7: =SUM(N7:X7) -> 0 | Z7: 否 | AA7: 1 | AB7: 0 | AC7: 0
A8: 粤A01505F | B8: 刘念念 | C8: 业务一部 | D8: 1 | E8: 30 | F8: 6000 | G8: 5613.7 | H8: 否 | I8: 0 | J8: 30600 | K8: 25533.8 | L8: 已有里程未达标 | M8: 0 | N8: =SUMIFS('9月奖金发放记录'!$J$2:$J$146,'9月奖金发放记录'!$B$2:$B$146,B8,'9月奖金发放记录'!$A$2:$A$146,A8,'9月奖金发放记录'!$E$2:$E$146,"结转") -> 0 | O8: =SUMIFS('9月奖金发放记录'!$J$2:$J$146,'9月奖金发放记录'!$B$2:$B$146,B8,'9月奖金发放记录'!$A$2:$A$146,A8,'9月奖金发放记录'!$E$2:$E$146,"当月") -> 0 | P8: =SUMIFS('9月奖金发放记录'!$J$2:$J$146,'9月奖金发放记录'!$B$2:$B$146,B8,'9月奖金发放记录'!$A$2:$A$146,A8,'9月奖金发放记录'!$E$2:$E$146,"累计补发9月") -> 0 | Q8: =SUMIFS('9月奖金发放记录'!$J$2:$J$146,'9月奖金发放记录'!$B$2:$B$146,B8,'9月奖金发放记录'!$A$2:$A$146,A8,'9月奖金发放记录'!$E$2:$E$146,"补发8月") -> 0 | R8: =SUMIFS('9月奖金发放记录'!$J$2:$J$146,'9月奖金发放记录'!$B$2:$B$146,B8,'9月奖金发放记录'!$A$2:$A$146,A8,'9月奖金发放记录'!$E$2:$E$146,"补发7月") -> 0 | S8: =SUMIFS('9月奖金发放记录'!$J$2:$J$146,'9月奖金发放记录'!$B$2:$B$146,B8,'9月奖金发放记录'!$A$2:$A$146,A8,'9月奖金发放记录'!$E$2:$E$146,"补发6月") -> 0 | T8: =SUMIFS('9月奖金发放记录'!$J$2:$J$146,'9月奖金发放记录'!$B$2:$B$146,B8,'9月奖金发放记录'!$A$2:$A$146,A8,'9月奖金发放记录'!$E$2:$E$146,"补发5月") -> 0 | U8: =SUMIFS('9月奖金发放记录'!$J$2:$J$146,'9月奖金发放记录'!$B$2:$B$146,B8,'9月奖金发放记录'!$A$2:$A$146,A8,'9月奖金发放记录'!$E$2:$E$146,"补发4月") -> 0 | V8: =SUMIFS('9月奖金发放记录'!$J$2:$J$146,'9月奖金发放记录'!$B$2:$B$146,B8,'9月奖金发放记录'!$A$2:$A$146,A8,'9月奖金发放记录'!$E$2:$E$146,"补发3月") -> 0 | W8: =SUMIFS('9月奖金发放记录'!$J$2:$J$146,'9月奖金发放记录'!$B$2:$B$146,B8,'9月奖金发放记录'!$A$2:$A$146,A8,'9月奖金发放记录'!$E$2:$E$146,"补发2月") -> 0 | X8: =SUMIFS('9月奖金发放记录'!$J$2:$J$146,'9月奖金发放记录'!$B$2:$B$146,B8,'9月奖金发放记录'!$A$2:$A$146,A8,'9月奖金发放记录'!$E$2:$E$146,"补发1月") -> 0 | Y8: =SUM(N8:X8) -> 0 | Z8: 否 | AA8: 3 | AB8: 0 | AC8: 0
A9: 粤A01506F | B9: 刘念念 | C9: 业务一部 | D9: 1 | E9: 30 | F9: 6000 | G9: 5495.4 | H9: 否 | I9: 0 | J9: 47357.14 | K9: 40328.8 | L9: 已有里程未达标 | M9: 0 | N9: =SUMIFS('9月奖金发放记录'!$J$2:$J$146,'9月奖金发放记录'!$B$2:$B$146,B9,'9月奖金发放记录'!$A$2:$A$146,A9,'9月奖金发放记录'!$E$2:$E$146,"结转") -> 0 | O9: =SUMIFS('9月奖金发放记录'!$J$2:$J$146,'9月奖金发放记录'!$B$2:$B$146,B9,'9月奖金发放记录'!$A$2:$A$146,A9,'9月奖金发放记录'!$E$2:$E$146,"当月") -> 0 | P9: =SUMIFS('9月奖金发放记录'!$J$2:$J$146,'9月奖金发放记录'!$B$2:$B$146,B9,'9月奖金发放记录'!$A$2:$A$146,A9,'9月奖金发放记录'!$E$2:$E$146,"累计补发9月") -> 0 | Q9: =SUMIFS('9月奖金发放记录'!$J$2:$J$146,'9月奖金发放记录'!$B$2:$B$146,B9,'9月奖金发放记录'!$A$2:$A$146,A9,'9月奖金发放记录'!$E$2:$E$146,"补发8月") -> 0 | R9: =SUMIFS('9月奖金发放记录'!$J$2:$J$146,'9月奖金发放记录'!$B$2:$B$146,B9,'9月奖金发放记录'!$A$2:$A$146,A9,'9月奖金发放记录'!$E$2:$E$146,"补发7月") -> 0 | S9: =SUMIFS('9月奖金发放记录'!$J$2:$J$146,'9月奖金发放记录'!$B$2:$B$146,B9,'9月奖金发放记录'!$A$2:$A$146,A9,'9月奖金发放记录'!$E$2:$E$146,"补发6月") -> 0 | T9: =SUMIFS('9月奖金发放记录'!$J$2:$J$146,'9月奖金发放记录'!$B$2:$B$146,B9,'9月奖金发放记录'!$A$2:$A$146,A9,'9月奖金发放记录'!$E$2:$E$146,"补发5月") -> 0 | U9: =SUMIFS('9月奖金发放记录'!$J$2:$J$146,'9月奖金发放记录'!$B$2:$B$146,B9,'9月奖金发放记录'!$A$2:$A$146,A9,'9月奖金发放记录'!$E$2:$E$146,"补发4月") -> 0 | V9: =SUMIFS('9月奖金发放记录'!$J$2:$J$146,'9月奖金发放记录'!$B$2:$B$146,B9,'9月奖金发放记录'!$A$2:$A$146,A9,'9月奖金发放记录'!$E$2:$E$146,"补发3月") -> 0 | W9: =SUMIFS('9月奖金发放记录'!$J$2:$J$146,'9月奖金发放记录'!$B$2:$B$146,B9,'9月奖金发放记录'!$A$2:$A$146,A9,'9月奖金发放记录'!$E$2:$E$146,"补发2月") -> 0 | X9: =SUMIFS('9月奖金发放记录'!$J$2:$J$146,'9月奖金发放记录'!$B$2:$B$146,B9,'9月奖金发放记录'!$A$2:$A$146,A9,'9月奖金发放记录'!$E$2:$E$146,"补发1月") -> 0 | Y9: =SUM(N9:X9) -> 0 | Z9: 否 | AA9: 3 | AB9: 0 | AC9: 0
A10: 粤A02007F | B10: 刘念念 | C10: 业务一部 | D10: 1 | E10: 30 | F10: 6000 | G10: 436.5 | H10: 否 | I10: 0 | J10: 53419.35 | K10: 34873.4 | L10: 已有里程未达标 | M10: 0 | N10: =SUMIFS('9月奖金发放记录'!$J$2:$J$146,'9月奖金发放记录'!$B$2:$B$146,B10,'9月奖金发放记录'!$A$2:$A$146,A10,'9月奖金发放记录'!$E$2:$E$146,"结转") -> 0 | O10: =SUMIFS('9月奖金发放记录'!$J$2:$J$146,'9月奖金发放记录'!$B$2:$B$146,B10,'9月奖金发放记录'!$A$2:$A$146,A10,'9月奖金发放记录'!$E$2:$E$146,"当月") -> 0 | P10: =SUMIFS('9月奖金发放记录'!$J$2:$J$146,'9月奖金发放记录'!$B$2:$B$146,B10,'9月奖金发放记录'!$A$2:$A$146,A10,'9月奖金发放记录'!$E$2:$E$146,"累计补发9月") -> 0 | Q10: =SUMIFS('9月奖金发放记录'!$J$2:$J$146,'9月奖金发放记录'!$B$2:$B$146,B10,'9月奖金发放记录'!$A$2:$A$146,A10,'9月奖金发放记录'!$E$2:$E$146,"补发8月") -> 0 | R10: =SUMIFS('9月奖金发放记录'!$J$2:$J$146,'9月奖金发放记录'!$B$2:$B$146,B10,'9月奖金发放记录'!$A$2:$A$146,A10,'9月奖金发放记录'!$E$2:$E$146,"补发7月") -> 0 | S10: =SUMIFS('9月奖金发放记录'!$J$2:$J$146,'9月奖金发放记录'!$B$2:$B$146,B10,'9月奖金发放记录'!$A$2:$A$146,A10,'9月奖金发放记录'!$E$2:$E$146,"补发6月") -> 0 | T10: =SUMIFS('9月奖金发放记录'!$J$2:$J$146,'9月奖金发放记录'!$B$2:$B$146,B10,'9月奖金发放记录'!$A$2:$A$146,A10,'9月奖金发放记录'!$E$2:$E$146,"补发5月") -> 0 | U10: =SUMIFS('9月奖金发放记录'!$J$2:$J$146,'9月奖金发放记录'!$B$2:$B$146,B10,'9月奖金发放记录'!$A$2:$A$146,A10,'9月奖金发放记录'!$E$2:$E$146,"补发4月") -> 0 | V10: =SUMIFS('9月奖金发放记录'!$J$2:$J$146,'9月奖金发放记录'!$B$2:$B$146,B10,'9月奖金发放记录'!$A$2:$A$146,A10,'9月奖金发放记录'!$E$2:$E$146,"补发3月") -> 0 | W10: =SUMIFS('9月奖金发放记录'!$J$2:$J$146,'9月奖金发放记录'!$B$2:$B$146,B10,'9月奖金发放记录'!$A$2:$A$146,A10,'9月奖金发放记录'!$E$2:$E$146,"补发2月") -> 0 | X10: =SUMIFS('9月奖金发放记录'!$J$2:$J$146,'9月奖金发放记录'!$B$2:$B$146,B10,'9月奖金发放记录'!$A$2:$A$146,A10,'9月奖金发放记录'!$E$2:$E$146,"补发1月") -> 0 | Y10: =SUM(N10:X10) -> 0 | Z10: 否 | AA10: 2 | AB10: 0 | AC10: 0
A11: 粤A02058F | B11: 刘念念 | C11: 业务一部 | D11: 1 | E11: 7 | F11: 1400 | G11: 496.2 | H11: 否 | I11: 0 | J11: 32264.05 | K11: 11296.3 | L11: 已有里程未达标 | M11: 0 | N11: =SUMIFS('9月奖金发放记录'!$J$2:$J$146,'9月奖金发放记录'!$B$2:$B$146,B11,'9月奖金发放记录'!$A$2:$A$146,A11,'9月奖金发放记录'!$E$2:$E$146,"结转") -> 0 | O11: =SUMIFS('9月奖金发放记录'!$J$2:$J$146,'9月奖金发放记录'!$B$2:$B$146,B11,'9月奖金发放记录'!$A$2:$A$146,A11,'9月奖金发放记录'!$E$2:$E$146,"当月") -> 0 | P11: =SUMIFS('9月奖金发放记录'!$J$2:$J$146,'9月奖金发放记录'!$B$2:$B$146,B11,'9月奖金发放记录'!$A$2:$A$146,A11,'9月奖金发放记录'!$E$2:$E$146,"累计补发9月") -> 0 | Q11: =SUMIFS('9月奖金发放记录'!$J$2:$J$146,'9月奖金发放记录'!$B$2:$B$146,B11,'9月奖金发放记录'!$A$2:$A$146,A11,'9月奖金发放记录'!$E$2:$E$146,"补发8月") -> 0 | R11: =SUMIFS('9月奖金发放记录'!$J$2:$J$146,'9月奖金发放记录'!$B$2:$B$146,B11,'9月奖金发放记录'!$A$2:$A$146,A11,'9月奖金发放记录'!$E$2:$E$146,"补发7月") -> 0 | S11: =SUMIFS('9月奖金发放记录'!$J$2:$J$146,'9月奖金发放记录'!$B$2:$B$146,B11,'9月奖金发放记录'!$A$2:$A$146,A11,'9月奖金发放记录'!$E$2:$E$146,"补发6月") -> 0 | T11: =SUMIFS('9月奖金发放记录'!$J$2:$J$146,'9月奖金发放记录'!$B$2:$B$146,B11,'9月奖金发放记录'!$A$2:$A$146,A11,'9月奖金发放记录'!$E$2:$E$146,"补发5月") -> 0 | U11: =SUMIFS('9月奖金发放记录'!$J$2:$J$146,'9月奖金发放记录'!$B$2:$B$146,B11,'9月奖金发放记录'!$A$2:$A$146,A11,'9月奖金发放记录'!$E$2:$E$146,"补发4月") -> 0 | V11: =SUMIFS('9月奖金发放记录'!$J$2:$J$146,'9月奖金发放记录'!$B$2:$B$146,B11,'9月奖金发放记录'!$A$2:$A$146,A11,'9月奖金发放记录'!$E$2:$E$146,"补发3月") -> 0 | W11: =SUMIFS('9月奖金发放记录'!$J$2:$J$146,'9月奖金发放记录'!$B$2:$B$146,B11,'9月奖金发放记录'!$A$2:$A$146,A11,'9月奖金发放记录'!$E$2:$E$146,"补发2月") -> 0 | X11: =SUMIFS('9月奖金发放记录'!$J$2:$J$146,'9月奖金发放记录'!$B$2:$B$146,B11,'9月奖金发放记录'!$A$2:$A$146,A11,'9月奖金发放记录'!$E$2:$E$146,"补发1月") -> 0 | Y11: =SUM(N11:X11) -> 0 | Z11: 否 | AA11: 0 | AB11: 0 | AC11: 0
A12: 粤A02298F | B12: 刘念念 | C12: 业务一部 | D12: 1 | E12: 30 | F12: 6000 | G12: 504 | H12: 否 | I12: 0 | J12: 52838.71 | K12: 41954.7 | L12: 已有里程未达标 | M12: 0 | N12: =SUMIFS('9月奖金发放记录'!$J$2:$J$146,'9月奖金发放记录'!$B$2:$B$146,B12,'9月奖金发放记录'!$A$2:$A$146,A12,'9月奖金发放记录'!$E$2:$E$146,"结转") -> 0 | O12: =SUMIFS('9月奖金发放记录'!$J$2:$J$146,'9月奖金发放记录'!$B$2:$B$146,B12,'9月奖金发放记录'!$A$2:$A$146,A12,'9月奖金发放记录'!$E$2:$E$146,"当月") -> 0 | P12: =SUMIFS('9月奖金发放记录'!$J$2:$J$146,'9月奖金发放记录'!$B$2:$B$146,B12,'9月奖金发放记录'!$A$2:$A$146,A12,'9月奖金发放记录'!$E$2:$E$146,"累计补发9月") -> 0 | Q12: =SUMIFS('9月奖金发放记录'!$J$2:$J$146,'9月奖金发放记录'!$B$2:$B$146,B12,'9月奖金发放记录'!$A$2:$A$146,A12,'9月奖金发放记录'!$E$2:$E$146,"补发8月") -> 0 | R12: =SUMIFS('9月奖金发放记录'!$J$2:$J$146,'9月奖金发放记录'!$B$2:$B$146,B12,'9月奖金发放记录'!$A$2:$A$146,A12,'9月奖金发放记录'!$E$2:$E$146,"补发7月") -> 0 | S12: =SUMIFS('9月奖金发放记录'!$J$2:$J$146,'9月奖金发放记录'!$B$2:$B$146,B12,'9月奖金发放记录'!$A$2:$A$146,A12,'9月奖金发放记录'!$E$2:$E$146,"补发6月") -> 0 | T12: =SUMIFS('9月奖金发放记录'!$J$2:$J$146,'9月奖金发放记录'!$B$2:$B$146,B12,'9月奖金发放记录'!$A$2:$A$146,A12,'9月奖金发放记录'!$E$2:$E$146,"补发5月") -> 0 | U12: =SUMIFS('9月奖金发放记录'!$J$2:$J$146,'9月奖金发放记录'!$B$2:$B$146,B12,'9月奖金发放记录'!$A$2:$A$146,A12,'9月奖金发放记录'!$E$2:$E$146,"补发4月") -> 0 | V12: =SUMIFS('9月奖金发放记录'!$J$2:$J$146,'9月奖金发放记录'!$B$2:$B$146,B12,'9月奖金发放记录'!$A$2:$A$146,A12,'9月奖金发放记录'!$E$2:$E$146,"补发3月") -> 0 | W12: =SUMIFS('9月奖金发放记录'!$J$2:$J$146,'9月奖金发放记录'!$B$2:$B$146,B12,'9月奖金发放记录'!$A$2:$A$146,A12,'9月奖金发放记录'!$E$2:$E$146,"补发2月") -> 0 | X12: =SUMIFS('9月奖金发放记录'!$J$2:$J$146,'9月奖金发放记录'!$B$2:$B$146,B12,'9月奖金发放记录'!$A$2:$A$146,A12,'9月奖金发放记录'!$E$2:$E$146,"补发1月") -> 0 | Y12: =SUM(N12:X12) -> 0 | Z12: 否 | AA12: 1 | AB12: 0 | AC12: 0
A13: 粤A03350F | B13: 刘念念 | C13: 业务一部 | D13: 1 | E13: 30 | F13: 6000 | G13: 581.4 | H13: 否 | I13: 0 | J13: 50709.68 | K13: 32720.9 | L13: 已有里程未达标 | M13: 0 | N13: =SUMIFS('9月奖金发放记录'!$J$2:$J$146,'9月奖金发放记录'!$B$2:$B$146,B13,'9月奖金发放记录'!$A$2:$A$146,A13,'9月奖金发放记录'!$E$2:$E$146,"结转") -> 0 | O13: =SUMIFS('9月奖金发放记录'!$J$2:$J$146,'9月奖金发放记录'!$B$2:$B$146,B13,'9月奖金发放记录'!$A$2:$A$146,A13,'9月奖金发放记录'!$E$2:$E$146,"当月") -> 0 | P13: =SUMIFS('9月奖金发放记录'!$J$2:$J$146,'9月奖金发放记录'!$B$2:$B$146,B13,'9月奖金发放记录'!$A$2:$A$146,A13,'9月奖金发放记录'!$E$2:$E$146,"累计补发9月") -> 0 | Q13: =SUMIFS('9月奖金发放记录'!$J$2:$J$146,'9月奖金发放记录'!$B$2:$B$146,B13,'9月奖金发放记录'!$A$2:$A$146,A13,'9月奖金发放记录'!$E$2:$E$146,"补发8月") -> 0 | R13: =SUMIFS('9月奖金发放记录'!$J$2:$J$146,'9月奖金发放记录'!$B$2:$B$146,B13,'9月奖金发放记录'!$A$2:$A$146,A13,'9月奖金发放记录'!$E$2:$E$146,"补发7月") -> 0 | S13: =SUMIFS('9月奖金发放记录'!$J$2:$J$146,'9月奖金发放记录'!$B$2:$B$146,B13,'9月奖金发放记录'!$A$2:$A$146,A13,'9月奖金发放记录'!$E$2:$E$146,"补发6月") -> 0 | T13: =SUMIFS('9月奖金发放记录'!$J$2:$J$146,'9月奖金发放记录'!$B$2:$B$146,B13,'9月奖金发放记录'!$A$2:$A$146,A13,'9月奖金发放记录'!$E$2:$E$146,"补发5月") -> 0 | U13: =SUMIFS('9月奖金发放记录'!$J$2:$J$146,'9月奖金发放记录'!$B$2:$B$146,B13,'9月奖金发放记录'!$A$2:$A$146,A13,'9月奖金发放记录'!$E$2:$E$146,"补发4月") -> 0 | V13: =SUMIFS('9月奖金发放记录'!$J$2:$J$146,'9月奖金发放记录'!$B$2:$B$146,B13,'9月奖金发放记录'!$A$2:$A$146,A13,'9月奖金发放记录'!$E$2:$E$146,"补发3月") -> 0 | W13: =SUMIFS('9月奖金发放记录'!$J$2:$J$146,'9月奖金发放记录'!$B$2:$B$146,B13,'9月奖金发放记录'!$A$2:$A$146,A13,'9月奖金发放记录'!$E$2:$E$146,"补发2月") -> 0 | X13: =SUMIFS('9月奖金发放记录'!$J$2:$J$146,'9月奖金发放记录'!$B$2:$B$146,B13,'9月奖金发放记录'!$A$2:$A$146,A13,'9月奖金发放记录'!$E$2:$E$146,"补发1月") -> 0 | Y13: =SUM(N13:X13) -> 0 | Z13: 否 | AA13: 5 | AB13: 0 | AC13: 0
... A370: 粤AGR8558 | B370: 陈高伟 | C370: 业务一部 | D370: 1 | E370: 15 | F370: 1500 | G370: 1057.6 | H370: 否 | I370: 0 | J370: 1500 | K370: 1057.6 | L370: 已有里程未达标 | M370: 0 | N370: =SUMIFS('9月奖金发放记录'!$J$2:$J$146,'9月奖金发放记录'!$B$2:$B$146,B370,'9月奖金发放记录'!$A$2:$A$146,A370,'9月奖金发放记录'!$E$2:$E$146,"结转") -> 0 | O370: =SUMIFS('9月奖金发放记录'!$J$2:$J$146,'9月奖金发放记录'!$B$2:$B$146,B370,'9月奖金发放记录'!$A$2:$A$146,A370,'9月奖金发放记录'!$E$2:$E$146,"当月") -> 0 | P370: =SUMIFS('9月奖金发放记录'!$J$2:$J$146,'9月奖金发放记录'!$B$2:$B$146,B370,'9月奖金发放记录'!$A$2:$A$146,A370,'9月奖金发放记录'!$E$2:$E$146,"累计补发9月") -> 0 | Q370: =SUMIFS('9月奖金发放记录'!$J$2:$J$146,'9月奖金发放记录'!$B$2:$B$146,B370,'9月奖金发放记录'!$A$2:$A$146,A370,'9月奖金发放记录'!$E$2:$E$146,"补发8月") -> 0 | R370: =SUMIFS('9月奖金发放记录'!$J$2:$J$146,'9月奖金发放记录'!$B$2:$B$146,B370,'9月奖金发放记录'!$A$2:$A$146,A370,'9月奖金发放记录'!$E$2:$E$146,"补发7月") -> 0 | S370: =SUMIFS('9月奖金发放记录'!$J$2:$J$146,'9月奖金发放记录'!$B$2:$B$146,B370,'9月奖金发放记录'!$A$2:$A$146,A370,'9月奖金发放记录'!$E$2:$E$146,"补发6月") -> 0 | T370: =SUMIFS('9月奖金发放记录'!$J$2:$J$146,'9月奖金发放记录'!$B$2:$B$146,B370,'9月奖金发放记录'!$A$2:$A$146,A370,'9月奖金发放记录'!$E$2:$E$146,"补发5月") -> 0 | U370: =SUMIFS('9月奖金发放记录'!$J$2:$J$146,'9月奖金发放记录'!$B$2:$B$146,B370,'9月奖金发放记录'!$A$2:$A$146,A370,'9月奖金发放记录'!$E$2:$E$146,"补发4月") -> 0 | V370: =SUMIFS('9月奖金发放记录'!$J$2:$J$146,'9月奖金发放记录'!$B$2:$B$146,B370,'9月奖金发放记录'!$A$2:$A$146,A370,'9月奖金发放记录'!$E$2:$E$146,"补发3月") -> 0 | W370: =SUMIFS('9月奖金发放记录'!$J$2:$J$146,'9月奖金发放记录'!$B$2:$B$146,B370,'9月奖金发放记录'!$A$2:$A$146,A370,'9月奖金发放记录'!$E$2:$E$146,"补发2月") -> 0 | X370: =SUMIFS('9月奖金发放记录'!$J$2:$J$146,'9月奖金发放记录'!$B$2:$B$146,B370,'9月奖金发放记录'!$A$2:$A$146,A370,'9月奖金发放记录'!$E$2:$E$146,"补发1月") -> 0 | Y370: =SUM(N370:X370) -> 0 | Z370: 否 | AA370: 3 | AB370: 0 | AC370: 0

Sheet 车辆考核追踪
A1: 车牌号 | B1: 车架号 | C1: 归属公司 | D1: 车型 | E1: 考核目标 | F1: 月度奖励 | G1: 业务员 | H1: 1月应考核 | I1: 1月实际 | J1: 1月达标 | K1: 2月应考核 | L1: 2月实际 | M1: 2月达标 | N1: 3月应考核 | O1: 3月实际 | P1: 3月达标 | Q1: 4月应考核 | R1: 4月实际 | S1: 4月达标 | T1: 5月应考核 | U1: 5月实际 | V1: 5月达标 | W1: 6月应考核 | X1: 6月实际 | Y1: 6月达标 | Z1: 7月应考核 | AA1: 7月实际 | AB1: 7月达标 | AC1: 8月应考核 | AD1: 8月实际 | AE1: 8月达标 | AF1: 9月应考核 | AG1: 9月实际 | AH1: 9月达标 | AI1: 累计应完成 | AJ1: 累计实际 | AK1: 累计达标 | AL1: 客户名称 | AM1: 客户是否亏损 | AN1: 考核应发 | AO1: 最终发放 | AP1: 未发放原因 | AQ1: 本月无考核记录 | AR1: 9月缺口天数
A2: 粤AGP5768 | B2: LB9A32A22R0LS1389 | C2: 广州开发区交投氢能运营管理有限公司 | D2: 4.5吨冷链车 | E2: 交投190辆4.5T冷链车 | F2: 150 | G2: 何文斌 | AF2: 1500 | AG2: 1243.9 | AH2: ✗ | AI2: 1500 | AJ2: 1243.9 | AK2: ✗ | AL2: 广州民安商贸有限公司 | AM2: 暂不处理 | AN2: =SUMIFS('9月奖金发放记录'!$J$2:$J$146,'9月奖金发放记录'!$B$2:$B$146,G2,'9月奖金发放记录'!$A$2:$A$146,A2) -> 0 | AO2: =SUMIFS('9月奖金发放记录'!$J$2:$J$146,'9月奖金发放记录'!$B$2:$B$146,G2,'9月奖金发放记录'!$A$2:$A$146,A2) -> 0 | AP2: 未满足本月奖励、结转或补发条件 | AQ2: 否 | AR2: 0
A3: 粤AGP9773 | B3: LB9A32A27R0LS1548 | C3: 广州开发区交投氢能运营管理有限公司 | D3: 4.5吨冷链车 | E3: 交投190辆4.5T冷链车 | F3: 150 | G3: 何文斌 | AC3: 1548.39 | AD3: 594.8 | AE3: ✗ | AF3: 3000 | AG3: 3583 | AH3: ✓ | AI3: 4548.39 | AJ3: 4177.8 | AK3: ✗ | AL3: 广州超俊供应链有限公司 | AM3: 暂不处理 | AN3: =SUMIFS('9月奖金发放记录'!$J$2:$J$146,'9月奖金发放记录'!$B$2:$B$146,G3,'9月奖金发放记录'!$A$2:$A$146,A3) -> 150 | AO3: =SUMIFS('9月奖金发放记录'!$J$2:$J$146,'9月奖金发放记录'!$B$2:$B$146,G3,'9月奖金发放记录'!$A$2:$A$146,A3) -> 150 | AQ3: 否 | AR3: 1
A4: 粤AGR8739 | B4: LB9A32A26R0LS1346 | C4: 广州开发区交投氢能运营管理有限公司 | D4: 4.5吨冷链车 | E4: 交投190辆4.5T冷链车 | F4: 150 | G4: 何文斌 | AF4: 900 | AG4: 925.4 | AH4: ✓ | AI4: 900 | AJ4: 925.4 | AK4: ✓ | AL4: 广州菲衡达贸易有限责任公司 | AM4: 暂不处理 | AN4: =SUMIFS('9月奖金发放记录'!$J$2:$J$146,'9月奖金发放记录'!$B$2:$B$146,G4,'9月奖金发放记录'!$A$2:$A$146,A4) -> 45 | AO4: =SUMIFS('9月奖金发放记录'!$J$2:$J$146,'9月奖金发放记录'!$B$2:$B$146,G4,'9月奖金发放记录'!$A$2:$A$146,A4) -> 45 | AQ4: 否 | AR4: 0
A5: 粤A00116F | B5: LNXNEGRR9SR318213 | C5: 羚牛氢能科技(广东)有限公司 | D5: 18吨双飞翼货车 | E5: 羚牛100辆18T | F5: 1000 | G5: 刘念念 | H5: 5032.26 | I5: 3360.9 | J5: ✗ | K5: 6000 | L5: 0.2 | M5: ✗ | N5: 6000 | O5: 5303.6 | P5: ✗ | Q5: 6000 | R5: 7704.5 | S5: ✓ | T5: 6193.55 | U5: 4580.8 | V5: ✗ | W5: 6000 | X5: 685.3 | Y5: ✗ | Z5: 6000 | AA5: 760.2 | AB5: ✗ | AC5: 6000 | AD5: 161.2 | AE5: ✗ | AF5: 6000 | AG5: 393.7 | AH5: 待补里程 | AI5: 53225.81 | AJ5: 22950.4 | AK5: ✗ | AL5: 嘉兴市京宝物流有限公司 | AM5: 暂不处理 | AN5: =SUMIFS('9月奖金发放记录'!$J$2:$J$146,'9月奖金发放记录'!$B$2:$B$146,G5,'9月奖金发放记录'!$A$2:$A$146,A5) -> 0 | AO5: =SUMIFS('9月奖金发放记录'!$J$2:$J$146,'9月奖金发放记录'!$B$2:$B$146,G5,'9月奖金发放记录'!$A$2:$A$146,A5) -> 0 | AP5: 已有里程不足，补数后重算 | AQ5: 否 | AR5: 6
A6: 粤A00828F | B6: LNXNEGRR0SR319444 | C6: 羚牛氢能科技(广东)有限公司 | D6: 18吨双飞翼货车 | E6: 羚牛100辆18T | F6: 1000 | G6: 刘念念 | N6: 1161.29 | O6: 2472.8 | P6: ✓ | Q6: 6000 | R6: 11145.9 | S6: ✓ | T6: 6000 | U6: 11262.7 | V6: ✓ | W6: 6000 | X6: 10851.6 | Y6: ✓ | Z6: 6000 | AA6: 2227.2 | AB6: ✗ | AC6: 6000 | AD6: 1474.5 | AE6: ✗ | AF6: 6000 | AG6: 960.1 | AH6: 待补里程 | AI6: 37161.29 | AJ6: 40394.8 | AK6: ✓ | AL6: 苏州望亭远方物流有限公司 | AM6: 暂不处理 | AN6: =SUMIFS('9月奖金发放记录'!$J$2:$J$146,'9月奖金发放记录'!$B$2:$B$146,G6,'9月奖金发放记录'!$A$2:$A$146,A6) -> 1000 | AO6: =SUMIFS('9月奖金发放记录'!$J$2:$J$146,'9月奖金发放记录'!$B$2:$B$146,G6,'9月奖金发放记录'!$A$2:$A$146,A6) -> 1000 | AQ6: 否 | AR6: 3
A7: 粤A01013F | B7: LNXNEGRR5SR318208 | C7: 羚牛氢能科技(广东)有限公司 | D7: 18吨双飞翼货车 | E7: 羚牛100辆18T | F7: 1000 | G7: 刘念念 | H7: 3096.77 | I7: 5432.4 | J7: ✓ | K7: 6000 | L7: 8908.1 | M7: ✓ | N7: 6000 | O7: 12352 | P7: ✓ | Q7: 6000 | R7: 12029.4 | S7: ✓ | T7: 6193.54 | U7: 4331.7 | V7: ✗ | W7: 6000 | X7: 367.2 | Y7: ✗ | Z7: 6000 | AA7: 228.4 | AB7: ✗ | AC7: 6000 | AD7: 553.2 | AE7: ✗ | AF7: 1000 | AG7: 359 | AH7: 待补里程 | AI7: 46290.31 | AJ7: 44561.4 | AK7: ✗ | AL7: 嘉兴市京宝物流有限公司 | AM7: 暂不处理 | AN7: =SUMIFS('9月奖金发放记录'!$J$2:$J$146,'9月奖金发放记录'!$B$2:$B$146,G7,'9月奖金发放记录'!$A$2:$A$146,A7) -> 0 | AO7: =SUMIFS('9月奖金发放记录'!$J$2:$J$146,'9月奖金发放记录'!$B$2:$B$146,G7,'9月奖金发放记录'!$A$2:$A$146,A7) -> 0 | AP7: 已有里程不足，补数后重算 | AQ7: 否 | AR7: 1
A8: 粤A01505F | B8: LNXNEGRR8SR319448 | C8: 羚牛氢能科技(广东)有限公司 | D8: 18吨双飞翼货车 | E8: 羚牛100辆18T | F8: 1000 | G8: 刘念念 | Q8: 600 | R8: 490.9 | S8: ✗ | T8: 6000 | U8: 5250.8 | V8: ✗ | W8: 6000 | X8: 5490.6 | Y8: ✗ | Z8: 6000 | AA8: 2727.7 | AB8: ✗ | AC8: 6000 | AD8: 5960.1 | AE8: ✗ | AF8: 6000 | AG8: 5613.7 | AH8: 待补里程 | AI8: 30600 | AJ8: 25533.8 | AK8: ✗ | AL8: 上海利合供应链管理有限公司 (二部) | AM8: 暂不处理 | AN8: =SUMIFS('9月奖金发放记录'!$J$2:$J$146,'9月奖金发放记录'!$B$2:$B$146,G8,'9月奖金发放记录'!$A$2:$A$146,A8) -> 0 | AO8: =SUMIFS('9月奖金发放记录'!$J$2:$J$146,'9月奖金发放记录'!$B$2:$B$146,G8,'9月奖金发放记录'!$A$2:$A$146,A8) -> 0 | AP8: 已有里程不足，补数后重算 | AQ8: 否 | AR8: 3
A9: 粤A01506F | B9: LNXNEGRR8SR319451 | C9: 羚牛氢能科技(广东)有限公司 | D9: 18吨双飞翼货车 | E9: 羚牛100辆18T | F9: 1000 | G9: 刘念念 | K9: 5357.14 | L9: 1280.3 | M9: ✗ | N9: 6000 | O9: 5869.4 | P9: ✗ | Q9: 6000 | R9: 5132.5 | S9: ✗ | T9: 6000 | U9: 5177.3 | V9: ✗ | W9: 6000 | X9: 6413.5 | Y9: ✓ | Z9: 6000 | AA9: 4959.9 | AB9: ✗ | AC9: 6000 | AD9: 6000.5 | AE9: ✓ | AF9: 6000 | AG9: 5495.4 | AH9: 待补里程 | AI9: 47357.14 | AJ9: 40328.8 | AK9: ✗ | AL9: 上海利合供应链管理有限公司 (二部) | AM9: 暂不处理 | AN9: =SUMIFS('9月奖金发放记录'!$J$2:$J$146,'9月奖金发放记录'!$B$2:$B$146,G9,'9月奖金发放记录'!$A$2:$A$146,A9) -> 0 | AO9: =SUMIFS('9月奖金发放记录'!$J$2:$J$146,'9月奖金发放记录'!$B$2:$B$146,G9,'9月奖金发放记录'!$A$2:$A$146,A9) -> 0 | AP9: 已有里程不足，补数后重算 | AQ9: 否 | AR9: 3
A10: 粤A02007F | B10: LNXNEGRR7SR319487 | C10: 羚牛氢能科技(广东)有限公司 | D10: 18吨双飞翼货车 | E10: 羚牛100辆18T | F10: 1000 | G10: 刘念念 | H10: 5225.81 | I10: 6896 | J10: ✓ | K10: 6000 | L10: 6339.7 | M10: ✓ | N10: 6000 | O10: 6512.4 | P10: ✓ | Q10: 6000 | R10: 10520.2 | S10: ✓ | T10: 6193.54 | U10: 3325 | V10: ✗ | W10: 6000 | X10: 483.1 | Y10: ✗ | Z10: 6000 | AA10: 48.9 | AB10: ✗ | AC10: 6000 | AD10: 311.6 | AE10: ✗ | AF10: 6000 | AG10: 436.5 | AH10: 待补里程 | AI10: 53419.35 | AJ10: 34873.4 | AK10: ✗ | AL10: 嘉兴市京宝物流有限公司 | AM10: 暂不处理 | AN10: =SUMIFS('9月奖金发放记录'!$J$2:$J$146,'9月奖金发放记录'!$B$2:$B$146,G10,'9月奖金发放记录'!$A$2:$A$146,A10) -> 0 | AO10: =SUMIFS('9月奖金发放记录'!$J$2:$J$146,'9月奖金发放记录'!$B$2:$B$146,G10,'9月奖金发放记录'!$A$2:$A$146,A10) -> 0 | AP10: 已有里程不足，补数后重算 | AQ10: 否 | AR10: 2
A11: 粤A02058F | B11: LNXNEGRR4SR319480 | C11: 羚牛氢能科技(广东)有限公司 | D11: 18吨双飞翼货车 | E11: 羚牛100辆18T | F11: 1000 | G11: 刘念念 | K11: 4928.57 | L11: 2901.6 | M11: ✗ | N11: 5419.35 | O11: 2302.9 | P11: ✗ | T11: 2516.13 | U11: 254.8 | V11: ✗ | W11: 6000 | X11: 3773.6 | Y11: ✗ | Z11: 6000 | AA11: 909.2 | AB11: ✗ | AC11: 6000 | AD11: 658 | AE11: ✗ | AF11: 1400 | AG11: 496.2 | AH11: ✗ | AI11: 32264.05 | AJ11: 11296.3 | AK11: ✗ | AL11: 嘉兴市京宝物流有限公司 | AM11: 暂不处理 | AN11: =SUMIFS('9月奖金发放记录'!$J$2:$J$146,'9月奖金发放记录'!$B$2:$B$146,G11,'9月奖金发放记录'!$A$2:$A$146,A11) -> 0 | AO11: =SUMIFS('9月奖金发放记录'!$J$2:$J$146,'9月奖金发放记录'!$B$2:$B$146,G11,'9月奖金发放记录'!$A$2:$A$146,A11) -> 0 | AP11: 未满足本月奖励、结转或补发条件 | AQ11: 否 | AR11: 0
A12: 粤A02298F | B12: LNXNEGRR0SR321372 | C12: 羚牛氢能科技(广东)有限公司 | D12: 18吨双飞翼货车 | E12: 羚牛100辆18T | F12: 1000 | G12: 刘念念 | H12: 5032.26 | I12: 7545.3 | J12: ✓ | K12: 6000 | L12: 6233.2 | M12: ✓ | N12: 6000 | O12: 10051.7 | P12: ✓ | Q12: 6000 | R12: 10756.2 | S12: ✓ | T12: 5806.45 | U12: 5339.7 | V12: ✗ | W12: 6000 | X12: 311.5 | Y12: ✗ | Z12: 6000 | AA12: 140.4 | AB12: ✗ | AC12: 6000 | AD12: 1072.7 | AE12: ✗ | AF12: 6000 | AG12: 504 | AH12: 待补里程 | AI12: 52838.71 | AJ12: 41954.7 | AK12: ✗ | AL12: 嘉兴市京宝物流有限公司 | AM12: 暂不处理 | AN12: =SUMIFS('9月奖金发放记录'!$J$2:$J$146,'9月奖金发放记录'!$B$2:$B$146,G12,'9月奖金发放记录'!$A$2:$A$146,A12) -> 0 | AO12: =SUMIFS('9月奖金发放记录'!$J$2:$J$146,'9月奖金发放记录'!$B$2:$B$146,G12,'9月奖金发放记录'!$A$2:$A$146,A12) -> 0 | AP12: 已有里程不足，补数后重算 | AQ12: 否 | AR12: 1
A13: 粤A03350F | B13: LNXNEGRR3SR319485 | C13: 羚牛氢能科技(广东)有限公司 | D13: 18吨双飞翼货车 | E13: 羚牛100辆18T | F13: 1000 | G13: 刘念念 | H13: 2903.23 | I13: 4462.9 | J13: ✓ | K13: 6000 | L13: 836.4 | M13: ✗ | N13: 6000 | O13: 12162 | P13: ✓ | Q13: 6000 | R13: 9826.1 | S13: ✓ | T13: 5806.45 | U13: 3544.2 | V13: ✗ | W13: 6000 | X13: 294.7 | Y13: ✗ | Z13: 6000 | AA13: 256.3 | AB13: ✗ | AC13: 6000 | AD13: 756.9 | AE13: ✗ | AF13: 6000 | AG13: 581.4 | AH13: 待补里程 | AI13: 50709.68 | AJ13: 32720.9 | AK13: ✗ | AL13: 嘉兴市京宝物流有限公司 | AM13: 暂不处理 | AN13: =SUMIFS('9月奖金发放记录'!$J$2:$J$146,'9月奖金发放记录'!$B$2:$B$146,G13,'9月奖金发放记录'!$A$2:$A$146,A13) -> 0 | AO13: =SUMIFS('9月奖金发放记录'!$J$2:$J$146,'9月奖金发放记录'!$B$2:$B$146,G13,'9月奖金发放记录'!$A$2:$A$146,A13) -> 0 | AP13: 已有里程不足，补数后重算 | AQ13: 否 | AR13: 5
A14: 粤A03517F | B14: LNXNEGRR4SR321374 | C14: 羚牛氢能科技(广东)有限公司 | D14: 18吨双飞翼货车 | E14: 羚牛100辆18T | F14: 1000 | G14: 刘念念 | N14: 2516.13 | O14: 3699.3 | P14: ✓ | Q14: 6000 | R14: 7673.6 | S14: ✓ | T14: 6000 | U14: 11301.9 | V14: ✓ | W14: 6000 | X14: 3687.8 | Y14: ✗ | Z14: 6000 | AA14: 1507.1 | AB14: ✗ | AC14: 6000 | AD14: 1688.6 | AE14: ✗ | AF14: 6000 | AG14: 1692.3 | AH14: ✗ | AI14: 38516.13 | AJ14: 31250.6 | AK14: ✗ | AL14: 嘉兴市南湖区新丰镇乐果货物运输服务部（个体工商户） | AM14: 暂不处理 | AN14: =SUMIFS('9月奖金发放记录'!$J$2:$J$146,'9月奖金发放记录'!$B$2:$B$146,G14,'9月奖金发放记录'!$A$2:$A$146,A14) -> 0 | AO14: =SUMIFS('9月奖金发放记录'!$J$2:$J$146,'9月奖金发放记录'!$B$2:$B$146,G14,'9月奖金发放记录'!$A$2:$A$146,A14) -> 0 | AP14: 未满足本月奖励、结转或补发条件 | AQ14: 否 | AR14: 0
A15: 粤A03676F | B15: LNXNEGRR0SR319458 | C15: 羚牛氢能科技(广东)有限公司 | D15: 18吨双飞翼货车 | E15: 羚牛100辆18T | F15: 1000 | G15: 刘念念 | N15: 1741.94 | O15: 2417 | P15: ✓ | Q15: 6200 | R15: 6031 | S15: ✗ | T15: 6000 | U15: 8266.7 | V15: ✓ | W15: 6000 | X15: 6887.5 | Y15: ✓ | Z15: 4838.71 | AA15: 2324 | AB15: ✗ | AC15: 6000 | AD15: 1478.5 | AE15: ✗ | AF15: 4400 | AG15: 1078 | AH15: ✗ | AI15: 35180.65 | AJ15: 28482.7 | AK15: ✗ | AL15: 嘉兴市南湖区大桥镇雪观运输装卸服务站 | AM15: 暂不处理 | AN15: =SUMIFS('9月奖金发放记录'!$J$2:$J$146,'9月奖金发放记录'!$B$2:$B$146,G15,'9月奖金发放记录'!$A$2:$A$146,A15) -> 0 | AO15: =SUMIFS('9月奖金发放记录'!$J$2:$J$146,'9月奖金发放记录'!$B$2:$B$146,G15,'9月奖金发放记录'!$A$2:$A$146,A15) -> 0 | AP15: 未满足本月奖励、结转或补发条件 | AQ15: 否 | AR15: 0
A16: 粤A05609F | B16: LNXNEGRR7SR319456 | C16: 羚牛氢能科技(广东)有限公司 | D16: 18吨双飞翼货车 | E16: 羚牛100辆18T | F16: 1000 | G16: 刘念念 | H16: 3677.42 | I16: 1435.6 | J16: ✗ | K16: 6000 | L16: 943.9 | M16: ✗ | N16: 6000 | O16: 6576.9 | P16: ✓ | Q16: 6000 | R16: 7551.7 | S16: ✓ | T16: 6000 | U16: 5895 | V16: ✗ | W16: 6000 | X16: 7747.2 | Y16: ✓ | Z16: 5419.35 | AA16: 285.3 | AB16: ✗ | AC16: 6000 | AD16: 458.1 | AE16: ✗ | AF16: 6000 | AG16: 318.1 | AH16: 待补里程 | AI16: 51096.77 | AJ16: 31211.8 | AK16: ✗ | AL16: 嘉兴市京宝物流有限公司 | AM16: 暂不处理 | AN16: =SUMIFS('9月奖金发放记录'!$J$2:$J$146,'9月奖金发放记录'!$B$2:$B$146,G16,'9月奖金发放记录'!$A$2:$A$146,A16) -> 0 | AO16: =SUMIFS('9月奖金发放记录'!$J$2:$J$146,'9月奖金发放记录'!$B$2:$B$146,G16,'9月奖金发放记录'!$A$2:$A$146,A16) -> 0 | AP16: 已有里程不足，补数后重算 | AQ16: 否 | AR16: 1
A17: 粤A05650F | B17: LNXNEGRR2SR318201 | C17: 羚牛氢能科技(广东)有限公司 | D17: 18吨双飞翼货车 | E17: 羚牛100辆18T | F17: 1000 | G17: 刘念念 | N17: 2516.13 | O17: 1288.8 | P17: ✗ | Q17: 6000 | R17: 2035.8 | S17: ✗ | T17: 6000 | U17: 2467.2 | V17: ✗ | W17: 3600 | X17: 1649.6 | Y17: ✗ | Z17: 3096.77 | AA17: 2994.9 | AB17: ✗ | AC17: 3290.32 | AD17: 1728.7 | AE17: ✗ | AF17: 6000 | AG17: 3547.9 | AH17: ✗ | AI17: 30503.22 | AJ17: 15712.9 | AK17: ✗ | AL17: 嘉兴港区众通快递有限公司 | AM17: 暂不处理 | AN17: =SUMIFS('9月奖金发放记录'!$J$2:$J$146,'9月奖金发放记录'!$B$2:$B$146,G17,'9月奖金发放记录'!$A$2:$A$146,A17) -> 0 | AO17: =SUMIFS('9月奖金发放记录'!$J$2:$J$146,'9月奖金发放记录'!$B$2:$B$146,G17,'9月奖金发放记录'!$A$2:$A$146,A17) -> 0 | AP17: 未满足本月奖励、结转或补发条件 | AQ17: 否 | AR17: 0
A18: 粤A05809F | B18: LNXNEGRRXSR318205 | C18: 羚牛氢能科技(广东)有限公司 | D18: 18吨双飞翼货车 | E18: 羚牛100辆18T | F18: 1000 | G18: 刘念念 | H18: 5032.26 | I18: 8877.2 | J18: ✓ | K18: 6000 | L18: 7883.9 | M18: ✓ | N18: 6000 | O18: 13240.8 | P18: ✓ | Q18: 6200 | R18: 6707.9 | S18: ✓ | T18: 6000 | U18: 446.3 | V18: ✗ | W18: 6000 | X18: 643.8 | Y18: ✗ | Z18: 6000 | AA18: 149.9 | AB18: ✗ | AC18: 6000 | AD18: 471.1 | AE18: ✗ | AF18: 6000 | AG18: 262.9 | AH18: 待补里程 | AI18: 53232.26 | AJ18: 38683.8 | AK18: ✗ | AL18: 嘉兴市京宝物流有限公司 | AM18: 暂不处理 | AN18: =SUMIFS('9月奖金发放记录'!$J$2:$J$146,'9月奖金发放记录'!$B$2:$B$146,G18,'9月奖金发放记录'!$A$2:$A$146,A18) -> 0 | AO18: =SUMIFS('9月奖金发放记录'!$J$2:$J$146,'9月奖金发放记录'!$B$2:$B$146,G18,'9月奖金发放记录'!$A$2:$A$146,A18) -> 0 | AP18: 已有里程不足，补数后重算 | AQ18: 否 | AR18: 3
A19: 粤A05906F | B19: LNXNEGRR2SR319462 | C19: 羚牛氢能科技(广东)有限公司 | D19: 18吨双飞翼货车 | E19: 羚牛100辆18T | F19: 1000 | G19: 刘念念 | N19: 1741.94 | O19: 1550.4 | P19: ✗ | Q19: 6200 | R19: 4392 | S19: ✗ | T19: 6000 | U19: 9051.6 | V19: ✓ | W19: 6000 | X19: 10525.6 | Y19: ✓ | Z19: 6000 | AA19: 0 | AB19: ✗ | AC19: 6000 | AD19: 2894.2 | AE19: ✗ | AF19: 4600 | AG19: 6016.8 | AH19: ✓ | AI19: 36541.94 | AJ19: 34430.6 | AK19: ✗ | AL19: 嘉兴智奇供应链管理有限公司 | AM19: 暂不处理 | AN19: =SUMIFS('9月奖金发放记录'!$J$2:$J$146,'9月奖金发放记录'!$B$2:$B$146,G19,'9月奖金发放记录'!$A$2:$A$146,A19) -> 766.67 | AO19: =SUMIFS('9月奖金发放记录'!$J$2:$J$146,'9月奖金发放记录'!$B$2:$B$146,G19,'9月奖金发放记录'!$A$2:$A$146,A19) -> 766.67 | AQ19: 否 | AR19: 0
A20: 粤A06177F | B20: LNXNEGRR4SR321391 | C20: 羚牛氢能科技(广东)有限公司 | D20: 18吨双飞翼货车 | E20: 羚牛100辆18T | F20: 1000 | G20: 刘念念 | H20: 4838.71 | I20: 2106.7 | J20: ✗ | K20: 6000 | L20: 0 | M20: ✗ | N20: 6000 | O20: 5854.4 | P20: ✗ | Q20: 6000 | R20: 9559.9 | S20: ✓ | T20: 6193.55 | U20: 3398.9 | V20: ✗ | W20: 6000 | X20: 472.7 | Y20: ✗ | Z20: 6000 | AA20: 708.3 | AB20: ✗ | AC20: 6000 | AD20: 551.9 | AE20: ✗ | AF20: 6000 | AG20: 317.4 | AH20: 待补里程 | AI20: 53032.26 | AJ20: 22970.2 | AK20: ✗ | AL20: 嘉兴市京宝物流有限公司 | AM20: 暂不处理 | AN20: =SUMIFS('9月奖金发放记录'!$J$2:$J$146,'9月奖金发放记录'!$B$2:$B$146,G20,'9月奖金发放记录'!$A$2:$A$146,A20) -> 0 | AO20: =SUMIFS('9月奖金发放记录'!$J$2:$J$146,'9月奖金发放记录'!$B$2:$B$146,G20,'9月奖金发放记录'!$A$2:$A$146,A20) -> 0 | AP20: 已有里程不足，补数后重算 | AQ20: 否 | AR20: 1
A21: 粤A06271F | B21: LNXNEGRR8SR319479 | C21: 羚牛氢能科技(广东)有限公司 | D21: 18吨双飞翼货车 | E21: 羚牛100辆18T | F21: 1000 | G21: 刘念念 | T21: 2516.13 | U21: 355.8 | V21: ✗ | W21: 6000 | X21: 5644.7 | Y21: ✗ | Z21: 6000 | AA21: 3156.7 | AB21: ✗ | AC21: 6000 | AD21: 618.4 | AE21: ✗ | AF21: 1400 | AG21: 438.9 | AH21: ✗ | AI21: 21916.13 | AJ21: 10214.5 | AK21: ✗ | AL21: 嘉兴市京宝物流有限公司 | AM21: 暂不处理 | AN21: =SUMIFS('9月奖金发放记录'!$J$2:$J$146,'9月奖金发放记录'!$B$2:$B$146,G21,'9月奖金发放记录'!$A$2:$A$146,A21) -> 0 | AO21: =SUMIFS('9月奖金发放记录'!$J$2:$J$146,'9月奖金发放记录'!$B$2:$B$146,G21,'9月奖金发放记录'!$A$2:$A$146,A21) -> 0 | AP21: 未满足本月奖励、结转或补发条件 | AQ21: 否 | AR21: 0
A22: 粤A06619F | B22: LNXNEGRRXSR319449 | C22: 羚牛氢能科技(广东)有限公司 | D22: 18吨双飞翼货车 | E22: 羚牛100辆18T | F22: 1000 | G22: 刘念念 | T22: 2516.13 | U22: 369.4 | V22: ✗ | W22: 6000 | X22: 687 | Y22: ✗ | Z22: 6000 | AA22: 831 | AB22: ✗ | AC22: 6000 | AD22: 267.5 | AE22: ✗ | AF22: 6000 | AG22: 224.6 | AH22: 待补里程 | AI22: 26516.13 | AJ22: 2379.5 | AK22: ✗ | AL22: 嘉兴市京宝物流有限公司 | AM22: 暂不处理 | AN22: =SUMIFS('9月奖金发放记录'!$J$2:$J$146,'9月奖金发放记录'!$B$2:$B$146,G22,'9月奖金发放记录'!$A$2:$A$146,A22) -> 0 | AO22: =SUMIFS('9月奖金发放记录'!$J$2:$J$146,'9月奖金发放记录'!$B$2:$B$146,G22,'9月奖金发放记录'!$A$2:$A$146,A22) -> 0 | AP22: 已有里程不足，补数后重算 | AQ22: 否 | AR22: 6
A23: 粤A06632F | B23: LNXNEGRR3SR321396 | C23: 羚牛氢能科技(广东)有限公司 | D23: 18吨双飞翼货车 | E23: 羚牛100辆18T | F23: 1000 | G23: 刘念念 | H23: 3677.42 | I23: 1156.8 | J23: ✗ | K23: 6000 | L23: 0 | M23: ✗ | N23: 6000 | O23: 4925.2 | P23: ✗ | Q23: 6000 | R23: 6427.4 | S23: ✓ | T23: 6000 | U23: 11292.1 | V23: ✓ | W23: 6000 | X23: 10104.2 | Y23: ✓ | Z23: 5612.91 | AA23: 4150 | AB23: ✗ | AC23: 6000 | AD23: 1152.9 | AE23: ✗ | AF23: 6000 | AG23: 1139.6 | AH23: 待补里程 | AI23: 51290.33 | AJ23: 40348.2 | AK23: ✗ | AL23: 上海昕海供应链管理有限公司 | AM23: 暂不处理 | AN23: =SUMIFS('9月奖金发放记录'!$J$2:$J$146,'9月奖金发放记录'!$B$2:$B$146,G23,'9月奖金发放记录'!$A$2:$A$146,A23) -> 0 | AO23: =SUMIFS('9月奖金发放记录'!$J$2:$J$146,'9月奖金发放记录'!$B$2:$B$146,G23,'9月奖金发放记录'!$A$2:$A$146,A23) -> 0 | AP23: 已有里程不足，补数后重算 | AQ23: 否 | AR23: 4
A24: 粤A07577F | B24: LNXNEGRRXSR319483 | C24: 羚牛氢能科技(广东)有限公司 | D24: 18吨双飞翼货车 | E24: 羚牛100辆18T | F24: 1000 | G24: 刘念念 | N24: 1161.29 | O24: 2422.9 | P24: ✓ | Q24: 6000 | R24: 10296.1 | S24: ✓ | T24: 6000 | U24: 13707.1 | V24: ✓ | W24: 6000 | X24: 11502.8 | Y24: ✓ | Z24: 5419.36 | AA24: 1432.9 | AB24: ✗ | AC24: 6000 | AD24: 1426.9 | AE24: ✗ | AF24: 800 | AG24: 106.6 | AH24: ✗ | AI24: 31380.65 | AJ24: 40895.3 | AK24: ✓ | AL24: 嘉兴港区韵达快递有限公司新仓分理部 | AM24: 暂不处理 | AN24: =SUMIFS('9月奖金发放记录'!$J$2:$J$146,'9月奖金发放记录'!$B$2:$B$146,G24,'9月奖金发放记录'!$A$2:$A$146,A24) -> 133.33 | AO24: =SUMIFS('9月奖金发放记录'!$J$2:$J$146,'9月奖金发放记录'!$B$2:$B$146,G24,'9月奖金发放记录'!$A$2:$A$146,A24) -> 133.33 | AQ24: 否 | AR24: 0
A25: 粤A08506F | B25: LNXNEGRR7SR318212 | C25: 羚牛氢能科技(广东)有限公司 | D25: 18吨双飞翼货车 | E25: 羚牛100辆18T | F25: 1000 | G25: 刘念念 | H25: 5225.81 | I25: 2772.1 | J25: ✗ | K25: 6000 | L25: 132.2 | M25: ✗ | N25: 6000 | O25: 10851.2 | P25: ✓ | Q25: 6000 | R25: 10938.1 | S25: ✓ | T25: 6193.54 | U25: 3846.2 | V25: ✗ | W25: 6000 | X25: 705.2 | Y25: ✗ | Z25: 6000 | AA25: 116 | AB25: ✗ | AC25: 6000 | AD25: 249.6 | AE25: ✗ | AF25: 1000 | AG25: 388.3 | AH25: ✗ | AI25: 48419.35 | AJ25: 29998.9 | AK25: ✗ | AL25: 嘉兴市京宝物流有限公司 | AM25: 暂不处理 | AN25: =SUMIFS('9月奖金发放记录'!$J$2:$J$146,'9月奖金发放记录'!$B$2:$B$146,G25,'9月奖金发放记录'!$A$2:$A$146,A25) -> 0 | AO25: =SUMIFS('9月奖金发放记录'!$J$2:$J$146,'9月奖金发放记录'!$B$2:$B$146,G25,'9月奖金发放记录'!$A$2:$A$146,A25) -> 0 | AP25: 未满足本月奖励、结转或补发条件 | AQ25: 否 | AR25: 0
A26: 粤A08578F | B26: LNXNEGRR9SR319443 | C26: 羚牛氢能科技(广东)有限公司 | D26: 18吨双飞翼货车 | E26: 羚牛100辆18T | F26: 1000 | G26: 刘念念 | N26: 6000 | O26: 4759.8 | P26: ✗ | Q26: 6200 | R26: 5993.2 | S26: ✗ | T26: 6000 | U26: 7531 | V26: ✓ | W26: 6000 | X26: 6947.7 | Y26: ✓ | Z26: 5225.8 | AA26: 5890.7 | AB26: ✓ | AC26: 6000 | AD26: 5379.6 | AE26: ✗ | AF26: 4600 | AG26: 4792.4 | AH26: ✓ | AI26: 40025.8 | AJ26: 41294.4 | AK26: ✓ | AL26: 嘉兴智奇供应链管理有限公司 | AM26: 暂不处理 | AN26: =SUMIFS('9月奖金发放记录'!$J$2:$J$146,'9月奖金发放记录'!$B$2:$B$146,G26,'9月奖金发放记录'!$A$2:$A$146,A26) -> 766.67 | AO26: =SUMIFS('9月奖金发放记录'!$J$2:$J$146,'9月奖金发放记录'!$B$2:$B$146,G26,'9月奖金发放记录'!$A$2:$A$146,A26) -> 766.67 | AQ26: 否 | AR26: 4
A27: 粤A09209F | B27: LNXNEGRRXSR319466 | C27: 羚牛氢能科技(广东)有限公司 | D27: 18吨双飞翼货车 | E27: 羚牛100辆18T | F27: 1000 | G27: 刘念念 | N27: 1354.84 | O27: 2759.2 | P27: ✓ | Q27: 6000 | R27: 11740.9 | S27: ✓ | T27: 6000 | U27: 13847.9 | V27: ✓ | W27: 6000 | X27: 6771.5 | Y27: ✓ | Z27: 5419.35 | AA27: 223.4 | AB27: ✗ | AC27: 6000 | AD27: 191.1 | AE27: ✗ | AF27: 6000 | AG27: 309.8 | AH27: 待补里程 | AI27: 36774.19 | AJ27: 35843.8 | AK27: ✗ | AL27: 嘉兴市京宝物流有限公司 | AM27: 暂不处理 | AN27: =SUMIFS('9月奖金发放记录'!$J$2:$J$146,'9月奖金发放记录'!$B$2:$B$146,G27,'9月奖金发放记录'!$A$2:$A$146,A27) -> 0 | AO27: =SUMIFS('9月奖金发放记录'!$J$2:$J$146,'9月奖金发放记录'!$B$2:$B$146,G27,'9月奖金发放记录'!$A$2:$A$146,A27) -> 0 | AP27: 已有里程不足，补数后重算 | AQ27: 否 | AR27: 3
A28: 粤AFH3525 | B28: LB9A32A21P0LS1252 | C28: 现代氢能科技(广州)有限公司 | D28: 4.5吨货车 | E28: 恒运50辆4.5T普货 | F28: 260 | G28: 刘念念 | Q28: 3000 | R28: 691.9 | S28: ✗ | T28: 5000 | U28: 1778.1 | V28: ✗ | W28: 5000 | X28: 1699.5 | Y28: ✗ | Z28: 5000 | AA28: 1806.8 | AB28: ✗ | AC28: 5000 | AD28: 1000.5 | AE28: ✗ | AF28: 5000 | AG28: 1695.2 | AH28: 待补里程 | AI28: 28000 | AJ28: 8672 | AK28: ✗ | AL28: 桐乡市丰韵快递有限责任公司 | AM28: 暂不处理 | AN28: =SUMIFS('9月奖金发放记录'!$J$2:$J$146,'9月奖金发放记录'!$B$2:$B$146,G28,'9月奖金发放记录'!$A$2:$A$146,A28) -> 0 | AO28: =SUMIFS('9月奖金发放记录'!$J$2:$J$146,'9月奖金发放记录'!$B$2:$B$146,G28,'9月奖金发放记录'!$A$2:$A$146,A28) -> 0 | AP28: 已有里程不足，补数后重算 | AQ28: 否 | AR28: 1
A29: 粤AFQ7882 | B29: LB9A32A27P0LS1255 | C29: 现代氢能科技(广州)有限公司 | D29: 4.5吨货车 | E29: 恒运50辆4.5T普货 | F29: 260 | G29: 刘念念 | T29: 1612.9 | U29: 386.1 | V29: ✗ | W29: 5000 | X29: 1316 | Y29: ✗ | Z29: 5000 | AA29: 1715.5 | AB29: ✗ | AC29: 5000 | AD29: 1471.2 | AE29: ✗ | AF29: 5000 | AG29: 1285.7 | AH29: ✗ | AI29: 21612.9 | AJ29: 6174.5 | AK29: ✗ | AL29: 嘉兴港区韵达快递有限公司 | AM29: 暂不处理 | AN29: =SUMIFS('9月奖金发放记录'!$J$2:$J$146,'9月奖金发放记录'!$B$2:$B$146,G29,'9月奖金发放记录'!$A$2:$A$146,A29) -> 0 | AO29: =SUMIFS('9月奖金发放记录'!$J$2:$J$146,'9月奖金发放记录'!$B$2:$B$146,G29,'9月奖金发放记录'!$A$2:$A$146,A29) -> 0 | AP29: 未满足本月奖励、结转或补发条件 | AQ29: 否 | AR29: 0
A30: 粤AG03213 | B30: LB9A32A24P0LS1245 | C30: 现代氢能科技（广州）有限公司 | D30: 4.5吨货车 | E30: 恒运50辆4.5T普货 | F30: 260 | G30: 刘念念 | W30: 3333.33 | X30: 669.4 | Y30: ✗ | Z30: 5000 | AA30: 1120.2 | AB30: ✗ | AC30: 5000 | AD30: 1686.4 | AE30: ✗ | AF30: 5000 | AG30: 2095.2 | AH30: ✗ | AI30: 18333.33 | AJ30: 5571.2 | AK30: ✗ | AL30: 嘉兴港区众通快递有限公司 | AM30: 暂不处理 | AN30: =SUMIFS('9月奖金发放记录'!$J$2:$J$146,'9月奖金发放记录'!$B$2:$B$146,G30,'9月奖金发放记录'!$A$2:$A$146,A30) -> 0 | AO30: =SUMIFS('9月奖金发放记录'!$J$2:$J$146,'9月奖金发放记录'!$B$2:$B$146,G30,'9月奖金发放记录'!$A$2:$A$146,A30) -> 0 | AP30: 未满足本月奖励、结转或补发条件 | AQ30: 否 | AR30: 0
A31: 粤AG15568 | B31: LB9A32A23P0LS1222 | C31: 现代氢能科技（广州）有限公司 | D31: 4.5吨货车 | E31: 恒运50辆4.5T普货 | F31: 260 | G31: 刘念念 | W31: 3333.33 | X31: 1034.3 | Y31: ✗ | Z31: 5000 | AA31: 1635.4 | AB31: ✗ | AC31: 5000 | AD31: 1383.6 | AE31: ✗ | AF31: 5000 | AG31: 1108.8 | AH31: ✗ | AI31: 18333.33 | AJ31: 5162.1 | AK31: ✗ | AL31: 嘉兴港区众通快递有限公司 | AM31: 暂不处理 | AN31: =SUMIFS('9月奖金发放记录'!$J$2:$J$146,'9月奖金发放记录'!$B$2:$B$146,G31,'9月奖金发放记录'!$A$2:$A$146,A31) -> 0 | AO31: =SUMIFS('9月奖金发放记录'!$J$2:$J$146,'9月奖金发放记录'!$B$2:$B$146,G31,'9月奖金发放记录'!$A$2:$A$146,A31) -> 0 | AP31: 未满足本月奖励、结转或补发条件 | AQ31: 否 | AR31: 0
A32: 粤AGP3508 | B32: LB9A32A20R0LS1424 | C32: 广州开发区交投氢能运营管理有限公司 | D32: 4.5吨冷链车 | E32: 交投190辆4.5T冷链车 | F32: 150 | G32: 刘念念 | H32: 3000 | I32: 4474.7 | J32: ✓ | K32: 3000 | L32: 4479.7 | M32: ✓ | N32: 3000 | O32: 7320 | P32: ✓ | Q32: 3000 | R32: 7444.9 | S32: ✓ | T32: 3000 | U32: 7754.7 | V32: ✓ | W32: 3000 | X32: 9009.6 | Y32: ✓ | Z32: 3000 | AA32: 7789.7 | AB32: ✓ | AC32: 2225.81 | AD32: 6707.3 | AE32: ✓ | AF32: 3000 | AG32: 0 | AH32: ✗ | AI32: 26225.81 | AJ32: 54980.6 | AK32: ✗ | AL32: 浙江洋开供应链管理有限公司 | AM32: 暂不处理 | AN32: =SUMIFS('9月奖金发放记录'!$J$2:$J$146,'9月奖金发放记录'!$B$2:$B$146,G32,'9月奖金发放记录'!$A$2:$A$146,A32) -> 150 | AO32: =SUMIFS('9月奖金发放记录'!$J$2:$J$146,'9月奖金发放记录'!$B$2:$B$146,G32,'9月奖金发放记录'!$A$2:$A$146,A32) -> 150 | AQ32: 是 | AR32: 0
A33: 粤AGP3607 | B33: LB9A32A29R0LS1597 | C33: 羚牛氢能科技(广东)有限公司 | D33: 4.5吨冷链车 | E33: 羚牛136辆4.5T冷链车 | F33: 260 | G33: 刘念念 | H33: 5000 | I33: 4292.8 | J33: ✗ | K33: 5000 | L33: 1401 | M33: ✗ | N33: 5000 | O33: 4632.8 | P33: ✗ | Q33: 5000 | R33: 1911.3 | S33: ✗ | T33: 5000 | U33: 10908.5 | V33: ✓ | W33: 5000 | X33: 13277.3 | Y33: ✓ | Z33: 5000 | AA33: 8138.6 | AB33: ✓ | AC33: 4516.13 | AD33: 8835.7 | AE33: ✓ | AF33: 5000 | AG33: 0 | AH33: ✗ | AI33: 44516.13 | AJ33: 53398 | AK33: ✗ | AL33: 浙江洋开供应链管理有限公司 | AM33: 暂不处理 | AN33: =SUMIFS('9月奖金发放记录'!$J$2:$J$146,'9月奖金发放记录'!$B$2:$B$146,G33,'9月奖金发放记录'!$A$2:$A$146,A33) -> 260 | AO33: =SUMIFS('9月奖金发放记录'!$J$2:$J$146,'9月奖金发放记录'!$B$2:$B$146,G33,'9月奖金发放记录'!$A$2:$A$146,A33) -> 260 | AQ33: 是 | AR33: 0
A34: 粤AGP3609 | B34: LB9A32A23R0LS1661 | C34: 羚牛氢能科技(广东)有限公司 | D34: 4.5吨冷链车 | E34: 羚牛136辆4.5T冷链车 | F34: 260 | G34: 刘念念 | N34: 2258.06 | O34: 3688.7 | P34: ✓ | Q34: 5000 | R34: 8068.2 | S34: ✓ | T34: 5000 | U34: 7468.3 | V34: ✓ | W34: 5000 | X34: 7261.3 | Y34: ✓ | Z34: 5000 | AA34: 4765.6 | AB34: ✗ | AC34: 5000 | AD34: 4531.5 | AE34: ✗ | AF34: 500 | AG34: 615.3 | AH34: ✓ | AI34: 27758.06 | AJ34: 36398.9 | AK34: ✓ | AL34: 嘉兴吉时物流有限公司 | AM34: 暂不处理 | AN34: =SUMIFS('9月奖金发放记录'!$J$2:$J$146,'9月奖金发放记录'!$B$2:$B$146,G34,'9月奖金发放记录'!$A$2:$A$146,A34) -> 26 | AO34: =SUMIFS('9月奖金发放记录'!$J$2:$J$146,'9月奖金发放记录'!$B$2:$B$146,G34,'9月奖金发放记录'!$A$2:$A$146,A34) -> 26 | AQ34: 否 | AR34: 0
A35: 粤AGP3690 | B35: LB9A32A20R0LS1584 | C35: 羚牛氢能科技(广东)有限公司 | D35: 4.5吨冷链车 | E35: 羚牛136辆4.5T冷链车 | F35: 260 | G35: 刘念念 | H35: 2580.65 | I35: 552.5 | J35: ✗ | K35: 5000 | L35: 364 | M35: ✗ | N35: 5000 | O35: 757 | P35: ✗ | Q35: 2166.67 | R35: 549.7 | S35: ✗ | W35: 4333.33 | X35: 159.8 | Y35: ✗ | Z35: 5000 | AA35: 272 | AB35: ✗ | AC35: 5000 | AD35: 349.5 | AE35: ✗ | AF35: 5000 | AG35: 180.6 | AH35: ✗ | AI35: 34080.65 | AJ35: 3185.1 | AK35: ✗ | AL35: 嘉兴港区韵达快递有限公司 | AM35: 暂不处理 | AN35: =SUMIFS('9月奖金发放记录'!$J$2:$J$146,'9月奖金发放记录'!$B$2:$B$146,G35,'9月奖金发放记录'!$A$2:$A$146,A35) -> 0 | AO35: =SUMIFS('9月奖金发放记录'!$J$2:$J$146,'9月奖金发放记录'!$B$2:$B$146,G35,'9月奖金发放记录'!$A$2:$A$146,A35) -> 0 | AP35: 未满足本月奖励、结转或补发条件 | AQ35: 否 | AR35: 0
A36: 粤AGP4335 | B36: LB9A32A20R0LS1634 | C36: 羚牛氢能科技(广东)有限公司 | D36: 4.5吨冷链车 | E36: 羚牛136辆4.5T冷链车 | F36: 260 | G36: 刘念念 | H36: 161.29 | I36: 73.4 | J36: ✗ | K36: 5000 | L36: 1865.7 | M36: ✗ | N36: 5000 | O36: 4896.6 | P36: ✗ | Q36: 666.67 | R36: 303.7 | S36: ✗ | T36: 2741.94 | U36: 3039.7 | V36: ✓ | W36: 5000 | X36: 6905.2 | Y36: ✓ | Z36: 5000 | AA36: 5914.1 | AB36: ✓ | AC36: 5000 | AD36: 5080 | AE36: ✓ | AF36: 5000 | AG36: 5262.3 | AH36: ✓ | AI36: 33569.9 | AJ36: 33340.7 | AK36: ✗ | AL36: 嘉兴坤鑫物流有限公司 | AM36: 暂不处理 | AN36: =SUMIFS('9月奖金发放记录'!$J$2:$J$146,'9月奖金发放记录'!$B$2:$B$146,G36,'9月奖金发放记录'!$A$2:$A$146,A36) -> 260 | AO36: =SUMIFS('9月奖金发放记录'!$J$2:$J$146,'9月奖金发放记录'!$B$2:$B$146,G36,'9月奖金发放记录'!$A$2:$A$146,A36) -> 260 | AQ36: 否 | AR36: 4
A37: 粤AGP4377 | B37: LB9A32A24R0LS1720 | C37: 羚牛氢能科技(广东)有限公司 | D37: 4.5吨冷链车 | E37: 羚牛136辆4.5T冷链车 | F37: 260 | G37: 刘念念 | AF37: 2166.67 | AG37: 1817.5 | AH37: ✗ | AI37: 2166.67 | AJ37: 1817.5 | AK37: ✗ | AL37: 上海子初供应链管理有限公司 | AM37: 暂不处理 | AN37: =SUMIFS('9月奖金发放记录'!$J$2:$J$146,'9月奖金发放记录'!$B$2:$B$146,G37,'9月奖金发放记录'!$A$2:$A$146,A37) -> 0 | AO37: =SUMIFS('9月奖金发放记录'!$J$2:$J$146,'9月奖金发放记录'!$B$2:$B$146,G37,'9月奖金发放记录'!$A$2:$A$146,A37) -> 0 | AP37: 未满足本月奖励、结转或补发条件 | AQ37: 否 | AR37: 0
A38: 粤AGP4583 | B38: LB9A32A27R0LS1663 | C38: 羚牛氢能科技(广东)有限公司 | D38: 4.5吨冷链车 | E38: 羚牛136辆4.5T冷链车 | F38: 260 | G38: 刘念念 | AF38: 4500 | AG38: 3803.6 | AH38: 待补里程 | AI38: 4500 | AJ38: 3803.6 | AK38: ✗ | AL38: 上海子初供应链管理有限公司 | AM38: 暂不处理 | AN38: =SUMIFS('9月奖金发放记录'!$J$2:$J$146,'9月奖金发放记录'!$B$2:$B$146,G38,'9月奖金发放记录'!$A$2:$A$146,A38) -> 0 | AO38: =SUMIFS('9月奖金发放记录'!$J$2:$J$146,'9月奖金发放记录'!$B$2:$B$146,G38,'9月奖金发放记录'!$A$2:$A$146,A38) -> 0 | AP38: 已有里程不足，补数后重算 | AQ38: 否 | AR38: 1
A39: 粤AGP4597 | B39: LB9A32A27R0LS1601 | C39: 羚牛氢能科技(广东)有限公司 | D39: 4.5吨冷链车 | E39: 羚牛136辆4.5T冷链车 | F39: 260 | G39: 刘念念 | H39: 5000 | I39: 1149.5 | J39: ✗ | K39: 5000 | L39: 691.1 | M39: ✗ | N39: 5000 | O39: 411.9 | P39: ✗ | Q39: 500 | R39: 53.9 | S39: ✗ | W39: 4500 | X39: 1779.6 | Y39: ✗ | Z39: 5000 | AA39: 1918.1 | AB39: ✗ | AC39: 5000 | AD39: 1952.8 | AE39: ✗ | AF39: 5000 | AG39: 842.9 | AH39: ✗ | AI39: 35000 | AJ39: 8799.8 | AK39: ✗ | AL39: 桐乡市丰韵快递有限责任公司 | AM39: 暂不处理 | AN39: =SUMIFS('9月奖金发放记录'!$J$2:$J$146,'9月奖金发放记录'!$B$2:$B$146,G39,'9月奖金发放记录'!$A$2:$A$146,A39) -> 0 | AO39: =SUMIFS('9月奖金发放记录'!$J$2:$J$146,'9月奖金发放记录'!$B$2:$B$146,G39,'9月奖金发放记录'!$A$2:$A$146,A39) -> 0 | AP39: 未满足本月奖励、结转或补发条件 | AQ39: 否 | AR39: 0
A40: 粤AGP4623 | B40: LB9A32A26R0LS1668 | C40: 羚牛氢能科技(广东)有限公司 | D40: 4.5吨冷链车 | E40: 羚牛136辆4.5T冷链车 | F40: 260 | G40: 刘念念 | H40: 161.29 | I40: 69 | J40: ✗ | K40: 5000 | L40: 451.5 | M40: ✗ | N40: 3870.97 | O40: 1537.1 | P40: ✗ | Z40: 4516.13 | AA40: 1257.6 | AB40: ✗ | AC40: 5000 | AD40: 1767.9 | AE40: ✗ | AF40: 5000 | AG40: 1397.5 | AH40: ✗ | AI40: 23548.39 | AJ40: 6480.6 | AK40: ✗ | AL40: 嘉兴港区众通快递有限公司 | AM40: 暂不处理 | AN40: =SUMIFS('9月奖金发放记录'!$J$2:$J$146,'9月奖金发放记录'!$B$2:$B$146,G40,'9月奖金发放记录'!$A$2:$A$146,A40) -> 0 | AO40: =SUMIFS('9月奖金发放记录'!$J$2:$J$146,'9月奖金发放记录'!$B$2:$B$146,G40,'9月奖金发放记录'!$A$2:$A$146,A40) -> 0 | AP40: 未满足本月奖励、结转或补发条件 | AQ40: 否 | AR40: 0
...

Sheet 9月奖金发放记录
A1: 车牌号 | B1: 业务员 | C1: 部门 | D1: 客户名称 | E1: 发放类型 | F1: 对应考核月 | G1: 考核应发 | H1: 客户盈亏 | I1: 不发/扣减 | J1: 实发金额 | K1: 奖励基准 | L1: 折算分子 | M1: 折算分母 | N1: 原发放编号 | O1: 说明 | P1: 本月缺口天数 | Q1: 8月缺口天数 | R1: 本月无考核记录
A2: 粤A09578F | B2: 赵伟军 | C2: 综合业务部 | D2: 保定市施达物流有限公司 | E2: 当月 | F2: 9 | G2: =ROUND(K2*L2/M2,2) -> 150 | H2: 暂不处理 | I2: 0 | J2: =G2-I2 -> 150 | K2: 150 | L2: 30 | M2: 30 | N2: 1 | O2: 数据齐全 | P2: 0 | Q2: 0 | R2: 否
A3: 粤AGE6410 | B3: 赵波 | C3: 综合业务部 | D3: 新疆中铁黑豹物流有限公司 | E3: 当月 | F3: 9 | G3: =ROUND(K3*L3/M3,2) -> 150 | H3: 暂不处理 | I3: 0 | J3: =G3-I3 -> 150 | K3: 150 | L3: 30 | M3: 30 | N3: 2 | O3: 数据齐全 | P3: 0 | Q3: 0 | R3: 否
A4: 粤AGP5791 | B4: 赵波 | C4: 综合业务部 | D4: 新疆中铁黑豹物流有限公司 | E4: 当月 | F4: 9 | G4: =ROUND(K4*L4/M4,2) -> 260 | H4: 暂不处理 | I4: 0 | J4: =G4-I4 -> 260 | K4: 260 | L4: 30 | M4: 30 | N4: 3 | O4: 数据齐全 | P4: 0 | Q4: 0 | R4: 否
A5: 粤AGR0789 | B5: 赵波 | C5: 综合业务部 | D5: 新疆中铁黑豹物流有限公司 | E5: 当月 | F5: 9 | G5: =ROUND(K5*L5/M5,2) -> 150 | H5: 暂不处理 | I5: 0 | J5: =G5-I5 -> 150 | K5: 150 | L5: 30 | M5: 30 | N5: 4 | O5: 数据齐全 | P5: 0 | Q5: 0 | R5: 否
A6: 粤AGR5068 | B6: 赵波 | C6: 综合业务部 | D6: 新疆中铁黑豹物流有限公司 | E6: 当月 | F6: 9 | G6: =ROUND(K6*L6/M6,2) -> 150 | H6: 暂不处理 | I6: 0 | J6: =G6-I6 -> 150 | K6: 150 | L6: 30 | M6: 30 | N6: 5 | O6: 数据齐全 | P6: 0 | Q6: 0 | R6: 否
A7: 粤A06691F | B7: 陈高伟 | C7: 业务一部 | D7: 广州市博众供应链管理有限公司 | E7: 当月 | F7: 9 | G7: =ROUND(K7*L7/M7,2) -> 1000 | H7: 暂不处理 | I7: 0 | J7: =G7-I7 -> 1000 | K7: 1000 | L7: 30 | M7: 30 | N7: 6 | O7: 数据齐全 | P7: 0 | Q7: 0 | R7: 否
A8: 粤A07555F | B8: 陈高伟 | C8: 业务一部 | D8: 广州市博众供应链管理有限公司 | E8: 当月 | F8: 9 | G8: =ROUND(K8*L8/M8,2) -> 1000 | H8: 暂不处理 | I8: 0 | J8: =G8-I8 -> 1000 | K8: 1000 | L8: 30 | M8: 30 | N8: 7 | O8: 数据齐全 | P8: 0 | Q8: 0 | R8: 否
A9: 粤A08910F | B9: 陈高伟 | C9: 业务一部 | D9: 广州市博众供应链管理有限公司 | E9: 当月 | F9: 9 | G9: =ROUND(K9*L9/M9,2) -> 1000 | H9: 暂不处理 | I9: 0 | J9: =G9-I9 -> 1000 | K9: 1000 | L9: 30 | M9: 30 | N9: 8 | O9: 按现有里程计算 | P9: 1 | Q9: 0 | R9: 否
A10: 粤AGP3673 | B10: 陈高伟 | C10: 业务一部 | D10: 武汉洛安供应链有限公司 | E10: 当月 | F10: 9 | G10: =ROUND(K10*L10/M10,2) -> 260 | H10: 暂不处理 | I10: 0 | J10: =G10-I10 -> 260 | K10: 260 | L10: 30 | M10: 30 | N10: 9 | O10: 按现有里程计算 | P10: 1 | Q10: 0 | R10: 否
A11: 粤AGP4587 | B11: 陈高伟 | C11: 业务一部 | D11: 武汉洛安供应链有限公司 | E11: 当月 | F11: 9 | G11: =ROUND(K11*L11/M11,2) -> 260 | H11: 暂不处理 | I11: 0 | J11: =G11-I11 -> 260 | K11: 260 | L11: 30 | M11: 30 | N11: 10 | O11: 按现有里程计算 | P11: 1 | Q11: 0 | R11: 否
A12: 粤AGP9827 | B12: 陈高伟 | C12: 业务一部 | D12: 重庆蜂途氢能科技有限公司 | E12: 当月 | F12: 9 | G12: =ROUND(K12*L12/M12,2) -> 260 | H12: 暂不处理 | I12: 0 | J12: =G12-I12 -> 260 | K12: 260 | L12: 30 | M12: 30 | N12: 11 | O12: 数据齐全 | P12: 0 | Q12: 0 | R12: 否
A13: 粤A05906F | B13: 刘念念 | C13: 业务一部 | D13: 嘉兴智奇供应链管理有限公司 | E13: 当月 | F13: 9 | G13: =ROUND(K13*L13/M13,2) -> 766.67 | H13: 暂不处理 | I13: 0 | J13: =G13-I13 -> 766.67 | K13: 1000 | L13: 23 | M13: 30 | N13: 12 | O13: 数据齐全 | P13: 0 | Q13: 0 | R13: 否
... A146: 粤AGP5763 | B146: 秦挺 | C146: 业务五部 | D146: 武汉飞飞鹭供应链有限公司 | E146: 累计补发9月 | F146: 9 | G146: =ROUND(K146*L146/M146,2) -> 300 | H146: 暂不处理 | I146: 0 | J146: =G146-I146 -> 300 | K146: 300 | L146: 30 | M146: 30 | N146: 145 | O146: 按现有里程计算 | P146: 5 | Q146: 0 | R146: 否
A147: 合计 | G147: =SUM(G2:G146) -> 40211.67 | I147: =SUM(I2:I146) -> 0 | J147: =SUM(J2:J146) -> 40211.67
A149: 考核应发(G)−不发/扣减(I)=实发金额(J)。本表金额按现有里程核算，存在缺口，补齐后重算；亏损暂不处理。

Sheet 9月汇总
A1: 一、实发明细（按发放类别）
A3: 实发-当月
A4: 销售人员 | B4: 车辆数 | C4: 金额
A5: 何文斌 | B5: =COUNTIFS('9月奖金发放记录'!$B$2:$B$146,A5,'9月奖金发放记录'!$E$2:$E$146,"当月") -> 2 | C5: =SUMIFS('9月奖金发放记录'!$J$2:$J$146,'9月奖金发放记录'!$B$2:$B$146,A5,'9月奖金发放记录'!$E$2:$E$146,"当月") -> 195
A6: 刘念念 | B6: =COUNTIFS('9月奖金发放记录'!$B$2:$B$146,A6,'9月奖金发放记录'!$E$2:$E$146,"当月") -> 5 | C6: =SUMIFS('9月奖金发放记录'!$J$2:$J$146,'9月奖金发放记录'!$B$2:$B$146,A6,'9月奖金发放记录'!$E$2:$E$146,"当月") -> 1969.34
A7: 吴纬涛 | B7: =COUNTIFS('9月奖金发放记录'!$B$2:$B$146,A7,'9月奖金发放记录'!$E$2:$E$146,"当月") -> 10 | C7: =SUMIFS('9月奖金发放记录'!$J$2:$J$146,'9月奖金发放记录'!$B$2:$B$146,A7,'9月奖金发放记录'!$E$2:$E$146,"当月") -> 2350
A8: 尚建华 | B8: =COUNTIFS('9月奖金发放记录'!$B$2:$B$146,A8,'9月奖金发放记录'!$E$2:$E$146,"当月") -> 7 | C8: =SUMIFS('9月奖金发放记录'!$J$2:$J$146,'9月奖金发放记录'!$B$2:$B$146,A8,'9月奖金发放记录'!$E$2:$E$146,"当月") -> 1235
A9: 秦挺 | B9: =COUNTIFS('9月奖金发放记录'!$B$2:$B$146,A9,'9月奖金发放记录'!$E$2:$E$146,"当月") -> 12 | C9: =SUMIFS('9月奖金发放记录'!$J$2:$J$146,'9月奖金发放记录'!$B$2:$B$146,A9,'9月奖金发放记录'!$E$2:$E$146,"当月") -> 10420
