Workbook

Sheet 考核奖励规则
A1: 考核目标 | B1: 月度目标里程(km) | C1: 当月达标 | D1: 当月未达标 | E1: 结转 | F1: 补发/累计补发
A2: 交投40辆4.5T普货 | B2: 3000 | C2: 150元×天数折算 | D2: 不发 | E2: 150元整月 | F2: 150元×折算
A3: 交投190辆4.5T冷链车 | B3: 3000 | C3: 150元×天数折算 | D3: 不发 | E3: 150元整月 | F3: 150元×折算
A4: 羚牛136辆4.5T冷链车 | B4: 5000 | C4: 260元×天数折算 | D4: 不发 | E4: 260元整月 | F4: 260元×折算
A5: 恒运50辆4.5T普货 | B5: 5000 | C5: 260元×天数折算 | D5: 不发 | E5: 260元整月 | F5: 260元×折算
A6: 羚牛100辆18T | B6: 6000 | C6: 1000元×天数折算 | D6: 不发 | E6: 1000元整月 | F6: 1000元×折算
A9: 8月名单对应考核目标 | B9: 月目标不变 | C9: 名单当月奖励 | D9: 未达标 | E9: 名单结转 | F9: 8月补发基准
A10: 交投40辆4.5T普货 | B10: 3000 | C10: 150元×天数折算 | D10: 不发 | E10: 150元整月 | F10: 150元×折算
A11: 交投190辆4.5T冷链车 | B11: 3000 | C11: 150元×天数折算 | D11: 不发 | E11: 150元整月 | F11: 150元×折算
A12: 羚牛136辆4.5T冷链车 | B12: 5000 | C12: 300元×天数折算 | D12: 不发 | E12: 300元整月 | F12: 300元×折算
A13: 恒运50辆4.5T普货 | B13: 5000 | C13: 300元×天数折算 | D13: 不发 | E13: 300元整月 | F13: 300元×折算
A14: 羚牛100辆18T | B14: 6000 | C14: 150元×天数折算 | D14: 不发 | E14: 150元整月 | F14: 150元×折算

Sheet 里程明细8月
A1: 车牌号 | B1: 部门名称 | C1: 销售经理 | D1: 客户名称 | E1: 合同编号 | F1: 考核目标 | G1: 月度目标里程 | H1: 月奖励金额 | I1: 考核天数 | J1: 8月应考核里程 | K1: 8月实际行驶里程 | L1: 完成率 | M1: 8月是否达标 | N1: 8月奖金(天数折算) | O1: 多跑里程 | P1: 可结转月数 | Q1: 考核状态 | R1: 源表行 | S1: 取数方式 | T1: 新政策 | U1: 考核开始日期 | V1: 考核结束日期 | W1: 说明
A2: 粤A02699F | B2: 业务一部 | C2: 陈高伟 | D2: 杭州宏狼物流有限公司 | E2: LNZLHT 20260310001 | F2: 羚牛100辆18T | G2: 6000 | H2: 1000 | I2: 14 | J2: 2709.68 | K2: 457.7 | L2: 0.16891293 | M2: 未达标 | N2: =IF(K2>=J2,ROUND(H2*I2/31,2),0) -> 0 | O2: 0 | P2: 0 | Q2: 已完成 | R2: 2 | S2: 非测试日纯氢14天 | T2: 否 | U2: 46235 | V2: 46248
A3: 粤A06158F | B3: 业务一部 | C3: 陈高伟 | D3: 杭州宏狼物流有限公司 | E3: LNZLHT 20260310001 | F3: 羚牛100辆18T | G3: 6000 | H3: 1000 | I3: 14 | J3: 2709.68 | K3: 222.2 | L3: 0.082002303 | M3: 未达标 | N3: =IF(K3>=J3,ROUND(H3*I3/31,2),0) -> 0 | O3: 0 | P3: 0 | Q3: 已完成 | R3: 3 | S3: 非测试日纯氢14天 | T3: 否 | U3: 46235 | V3: 46248
A4: 粤A08681F | B4: 业务一部 | C4: 陈高伟 | D4: 杭州宏狼物流有限公司 | E4: LNZLHT 20260310001 | F4: 羚牛100辆18T | G4: 6000 | H4: 1000 | I4: 13 | J4: 2516.13 | K4: 173 | L4: 0.068756384 | M4: 未达标 | N4: =IF(K4>=J4,ROUND(H4*I4/31,2),0) -> 0 | O4: 0 | P4: 0 | Q4: 已完成 | R4: 4 | S4: 非测试日纯氢13天 | T4: 否 | U4: 46235 | V4: 46247
A5: 粤AG37790 | B5: 业务二部 | C5: 董剑煜 | D5: 扬州力骏物流有限公司 | E5: LNZLHT 20260421001 | F5: 恒运50辆4.5T普货 | G5: 5000 | H5: 260 | I5: 31 | J5: 5000 | K5: 5675.3 | L5: 1.13506 | M5: 达标 | N5: =IF(K5>=J5,ROUND(H5*I5/31,2),0) -> 260 | O5: 675.3 | P5: 0 | Q5: 进行中 | R5: 174 | S5: 非测试日仪表31天 | T5: 否 | U5: 46235 | V5: 46265
A6: 粤AG37862 | B6: 业务二部 | C6: 董剑煜 | D6: 扬州力骏物流有限公司 | E6: LNZLHT 20260421001 | F6: 恒运50辆4.5T普货 | G6: 5000 | H6: 260 | I6: 31 | J6: 5000 | K6: 5239.1 | L6: 1.04782 | M6: 达标 | N6: =IF(K6>=J6,ROUND(H6*I6/31,2),0) -> 260 | O6: 239.1 | P6: 0 | Q6: 进行中 | R6: 175 | S6: 非测试日仪表31天 | T6: 否 | U6: 46235 | V6: 46265
A7: 粤AGP3079 | B7: 业务二部 | C7: 董剑煜 | D7: 苏州睿幄物流有限公司 | E7: LNZLHT 20260430001 | F7: 羚牛136辆4.5T冷链车 | G7: 5000 | H7: 260 | I7: 31 | J7: 5000 | K7: 4024 | L7: 0.8048 | M7: 未达标 | N7: =IF(K7>=J7,ROUND(H7*I7/31,2),0) -> 0 | O7: 0 | P7: 0 | Q7: 进行中 | R7: 176 | S7: 非测试日纯氢31天 | T7: 否 | U7: 46235 | V7: 46265
A8: 粤AGP3080 | B8: 业务二部 | C8: 董剑煜 | D8: 无锡铭康物流有限公司-1 | E8: 20260316001 | F8: 交投190辆4.5T冷链车 | G8: 3000 | H8: 150 | I8: 31 | J8: 3000 | K8: 14823.4 | L8: 4.9411333 | M8: 达标 | N8: =IF(K8>=J8,ROUND(H8*I8/31,2),0) -> 150 | O8: 11823.4 | P8: 3 | Q8: 已完成 | R8: 177 | S8: 非测试日纯氢31天 | T8: 否 | U8: 46235 | V8: 46265
A9: 粤AGP3651 | B9: 业务二部 | C9: 董剑煜 | D9: 无锡铭康物流有限公司-1 | E9: 20260316001 | F9: 羚牛136辆4.5T冷链车 | G9: 5000 | H9: 260 | I9: 1 | J9: 161.29 | K9: 5.1 | L9: 0.031620063 | M9: 未达标 | N9: =IF(K9>=J9,ROUND(H9*I9/31,2),0) -> 0 | O9: 0 | P9: 0 | Q9: 已完成 | R9: 178 | S9: 非测试日纯氢1天 | T9: 否 | U9: 46235 | V9: 46235
A10: 粤AGP3659 | B10: 业务二部 | C10: 董剑煜 | D10: 苏州睿幄物流有限公司 | E10: LNZLHT 20260430001 | F10: 羚牛136辆4.5T冷链车 | G10: 5000 | H10: 260 | I10: 31 | J10: 5000 | K10: 5460.6 | L10: 1.09212 | M10: 达标 | N10: =IF(K10>=J10,ROUND(H10*I10/31,2),0) -> 260 | O10: 460.6 | P10: 0 | Q10: 进行中 | R10: 179 | S10: 非测试日纯氢31天 | T10: 否 | U10: 46235 | V10: 46265
A11: 粤AGP3695 | B11: 业务二部 | C11: 董剑煜 | D11: 无锡铭康物流有限公司-1 | E11: 20260316001 | F11: 羚牛136辆4.5T冷链车 | G11: 5000 | H11: 260 | I11: 23 | J11: 3709.68 | K11: 4549.9 | L11: 1.2264939 | M11: 达标 | N11: =IF(K11>=J11,ROUND(H11*I11/31,2),0) -> 192.9 | O11: 840.22 | P11: 0 | Q11: 已完成 | R11: 180 | S11: 非测试日纯氢23天 | T11: 否 | U11: 46235 | V11: 46257
A12: 粤AGP4355 | B12: 业务二部 | C12: 董剑煜 | D12: 无锡铭康物流有限公司-1 | E12: 20260316001 | F12: 羚牛136辆4.5T冷链车 | G12: 5000 | H12: 260 | I12: 1 | J12: 161.29 | K12: 65.5 | L12: 0.40610081 | M12: 未达标 | N12: =IF(K12>=J12,ROUND(H12*I12/31,2),0) -> 0 | O12: 0 | P12: 0 | Q12: 已完成 | R12: 181 | S12: 非测试日纯氢1天 | T12: 否 | U12: 46235 | V12: 46235
A13: 粤AGP4522 | B13: 业务二部 | C13: 董剑煜 | D13: 无锡铭康物流有限公司-1 | E13: 20260316001 | F13: 羚牛136辆4.5T冷链车 | G13: 5000 | H13: 260 | I13: 12 | J13: 1935.48 | K13: 1672.9 | L13: 0.8643334 | M13: 未达标 | N13: =IF(K13>=J13,ROUND(H13*I13/31,2),0) -> 0 | O13: 0 | P13: 0 | Q13: 已完成 | R13: 182 | S13: 非测试日纯氢12天 | T13: 否 | U13: 46235 | V13: 46246
... A86: 粤A09209F | B86: 业务二部 | C86: 刘念念 | D86: 嘉兴市京宝物流有限公司 | E86: LNZLHT 20260518001 | F86: 羚牛100辆18T | G86: 6000 | H86: 1000 | I86: 31 | J86: 6000 | K86: 191.1 | L86: 0.03185 | M86: 未达标 | N86: =IF(K86>=J86,ROUND(H86*I86/31,2),0) -> 0 | O86: 0 | P86: 0 | Q86: 进行中 | R86: 129 | S86: 非测试日纯氢31天 | T86: 否 | U86: 46235 | V86: 46265
A87: 粤AFH3525 | B87: 业务二部 | C87: 刘念念 | D87: 桐乡市丰韵快递有限责任公司 | E87: LNZLHT 20260104001 | F87: 恒运50辆4.5T普货 | G87: 5000 | H87: 260 | I87: 31 | J87: 5000 | K87: 1000.5 | L87: 0.2001 | M87: 未达标 | N87: =IF(K87>=J87,ROUND(H87*I87/31,2),0) -> 0 | O87: 0 | P87: 0 | Q87: 进行中 | R87: 130 | S87: 非测试日仪表28天；缺失3天 | T87: 否 | U87: 46235 | V87: 46265 | W87: 按新口径3天所需来源缺失，暂按已有记录累计
A88: 粤AFQ7882 | B88: 业务二部 | C88: 刘念念 | D88: 嘉兴港区韵达快递有限公司 | E88: LNZLHT 20260515001 | F88: 恒运50辆4.5T普货 | G88: 5000 | H88: 260 | I88: 31 | J88: 5000 | K88: 1471.2 | L88: 0.29424 | M88: 未达标 | N88: =IF(K88>=J88,ROUND(H88*I88/31,2),0) -> 0 | O88: 0 | P88: 0 | Q88: 进行中 | R88: 131 | S88: 非测试日仪表31天 | T88: 否 | U88: 46235 | V88: 46265
A89: 粤AG03213 | B89: 业务二部 | C89: 刘念念 | D89: 嘉兴港区众通快递有限公司 | E89: LNZLHT 20241205001 | F89: 恒运50辆4.5T普货 | G89: 5000 | H89: 260 | I89: 31 | J89: 5000 | K89: 1686.4 | L89: 0.33728 | M89: 未达标 | N89: =IF(K89>=J89,ROUND(H89*I89/31,2),0) -> 0 | O89: 0 | P89: 0 | Q89: 进行中 | R89: 132 | S89: 非测试日仪表31天 | T89: 否 | U89: 46235 | V89: 46265
A90: 粤AG15568 | B90: 业务二部 | C90: 刘念念 | D90: 嘉兴港区众通快递有限公司 | E90: LNZLHT 20251020002 | F90: 恒运50辆4.5T普货 | G90: 5000 | H90: 260 | I90: 31 | J90: 5000 | K90: 1383.6 | L90: 0.27672 | M90: 未达标 | N90: =IF(K90>=J90,ROUND(H90*I90/31,2),0) -> 0 | O90: 0 | P90: 0 | Q90: 进行中 | R90: 133 | S90: 非测试日仪表31天 | T90: 否 | U90: 46235 | V90: 46265
A91: 粤AGP3078 | B91: 业务二部 | C91: 刘念念 | D91: 浙江洋开供应链管理有限公司 | E91: 20251215001 | F91: 羚牛136辆4.5T冷链车 | G91: 5000 | H91: 260 | I91: 28 | J91: 4516.13 | K91: 7195.2 | L91: 1.5932225 | M91: 达标 | N91: =IF(K91>=J91,ROUND(H91*I91/31,2),0) -> 234.84 | O91: 2679.07 | P91: 0 | Q91: 已完成 | R91: 134 | S91: 非测试日纯氢28天 | T91: 否 | U91: 46235 | V91: 46262
A92: 粤AGP3508 | B92: 业务二部 | C92: 刘念念 | D92: 浙江洋开供应链管理有限公司 | E92: 20250815001 | F92: 交投190辆4.5T冷链车 | G92: 3000 | H92: 150 | I92: 23 | J92: 2225.81 | K92: 6707.3 | L92: 3.0134198 | M92: 达标 | N92: =IF(K92>=J92,ROUND(H92*I92/31,2),0) -> 111.29 | O92: 4481.49 | P92: 1 | Q92: 已完成 | R92: 135 | S92: 非测试日纯氢23天 | T92: 否 | U92: 46235 | V92: 46257
A93: 粤AGP3607 | B93: 业务二部 | C93: 刘念念 | D93: 浙江洋开供应链管理有限公司 | E93: 20251215001 | F93: 羚牛136辆4.5T冷链车 | G93: 5000 | H93: 260 | I93: 28 | J93: 4516.13 | K93: 8835.7 | L93: 1.956476 | M93: 达标 | N93: =IF(K93>=J93,ROUND(H93*I93/31,2),0) -> 234.84 | O93: 4319.57 | P93: 0 | Q93: 已完成 | R93: 136 | S93: 非测试日纯氢28天 | T93: 否 | U93: 46235 | V93: 46262
A94: 粤AGP3609 | B94: 业务二部 | C94: 刘念念 | D94: 嘉兴吉时物流有限公司 | E94: LNZLHT 20260305002 | F94: 羚牛136辆4.5T冷链车 | G94: 5000 | H94: 260 | I94: 31 | J94: 5000 | K94: 4531.5 | L94: 0.9063 | M94: 未达标 | N94: =IF(K94>=J94,ROUND(H94*I94/31,2),0) -> 0 | O94: 0 | P94: 0 | Q94: 已完成 | R94: 137 | S94: 非测试日纯氢31天 | T94: 否 | U94: 46235 | V94: 46265
A95: 粤AGP3690 | B95: 业务二部 | C95: 刘念念 | D95: 嘉兴港区韵达快递有限公司 | E95: LNZLHT 20251209001 | F95: 羚牛136辆4.5T冷链车 | G95: 5000 | H95: 260 | I95: 31 | J95: 5000 | K95: 349.5 | L95: 0.0699 | M95: 未达标 | N95: =IF(K95>=J95,ROUND(H95*I95/31,2),0) -> 0 | O95: 0 | P95: 0 | Q95: 进行中 | R95: 138 | S95: 非测试日纯氢31天 | T95: 否 | U95: 46235 | V95: 46265
A96: 粤AGP4335 | B96: 业务二部 | C96: 刘念念 | D96: 嘉兴坤鑫物流有限公司 | E96: LNZLHT 20260305001 | F96: 羚牛136辆4.5T冷链车 | G96: 5000 | H96: 260 | I96: 31 | J96: 5000 | K96: 5080 | L96: 1.016 | M96: 达标 | N96: =IF(K96>=J96,ROUND(H96*I96/31,2),0) -> 260 | O96: 80 | P96: 0 | Q96: 进行中 | R96: 139 | S96: 非测试日纯氢31天 | T96: 否 | U96: 46235 | V96: 46265
A97: 粤AGP4597 | B97: 业务二部 | C97: 刘念念 | D97: 桐乡市丰韵快递有限责任公司 | E97: LNZLHT 20260104001 | F97: 羚牛136辆4.5T冷链车 | G97: 5000 | H97: 260 | I97: 31 | J97: 5000 | K97: 1952.8 | L97: 0.39056 | M97: 未达标 | N97: =IF(K97>=J97,ROUND(H97*I97/31,2),0) -> 0 | O97: 0 | P97: 0 | Q97: 进行中 | R97: 140 | S97: 非测试日纯氢31天 | T97: 否 | U97: 46235 | V97: 46265
A98: 粤AGP4623 | B98: 业务二部 | C98: 刘念念 | D98: 嘉兴港区众通快递有限公司 | E98: LNZLHT 20260703001 | F98: 羚牛136辆4.5T冷链车 | G98: 5000 | H98: 260 | I98: 31 | J98: 5000 | K98: 1767.9 | L98: 0.35358 | M98: 未达标 | N98: =IF(K98>=J98,ROUND(H98*I98/31,2),0) -> 0 | O98: 0 | P98: 0 | Q98: 进行中 | R98: 141 | S98: 非测试日纯氢31天 | T98: 否 | U98: 46235 | V98: 46265
A99: 粤AGP5378 | B99: 业务二部 | C99: 刘念念 | D99: 浙江洋开供应链管理有限公司 | E99: 20250815001 | F99: 交投190辆4.5T冷链车 | G99: 3000 | H99: 150 | I99: 21 | J99: 2032.26 | K99: 1013.8 | L99: 0.49885349 | M99: 未达标 | N99: =IF(K99>=J99,ROUND(H99*I99/31,2),0) -> 0 | O99: 0 | P99: 0 | Q99: 已完成 | R99: 142 | S99: 非测试日纯氢21天 | T99: 否 | U99: 46235 | V99: 46255
... A108: 粤AGR8506 | B108: 业务二部 | C108: 刘念念 | D108: 浙江洋开供应链管理有限公司 | E108: 20250815001 | F108: 交投190辆4.5T冷链车 | G108: 3000 | H108: 150 | I108: 17 | J108: 1645.16 | K108: 1197.7 | L108: 0.7280143 | M108: 未达标 | N108: =IF(K108>=J108,ROUND(H108*I108/31,2),0) -> 0 | O108: 0 | P108: 0 | Q108: 已完成 | R108: 151 | S108: 非测试日纯氢17天 | T108: 否 | U108: 46235 | V108: 46251
A109: 粤AFF7936 | B109: 业务二部 | C109: 谯云 | D109: 上海明纳物流有限公司 | E109: 20251127001 | F109: 恒运50辆4.5T普货 | G109: 5000 | H109: 260 | I109: 31 | J109: 5000 | K109: 6384.1 | L109: 1.27682 | M109: 达标 | N109: =IF(K109>=J109,ROUND(H109*I109/31,2),0) -> 260 | O109: 1384.1 | P109: 0 | Q109: 已完成 | R109: 152 | S109: 非测试日仪表30天；缺失1天 | T109: 否 | U109: 46235 | V109: 46265 | W109: 按新口径1天所需来源缺失，暂按已有记录累计
A110: 粤AFN0065 | B110: 业务二部 | C110: 谯云 | D110: 上海明纳物流有限公司 | E110: 20251127001 | F110: 恒运50辆4.5T普货 | G110: 5000 | H110: 260 | I110: 31 | J110: 5000 | K110: 6692.5 | L110: 1.3385 | M110: 达标 | N110: =IF(K110>=J110,ROUND(H110*I110/31,2),0) -> 260 | O110: 1692.5 | P110: 0 | Q110: 已完成 | R110: 153 | S110: 非测试日仪表31天 | T110: 否 | U110: 46235 | V110: 46265
A111: 粤AFQ8013 | B111: 业务二部 | C111: 谯云 | D111: 上海明纳物流有限公司 | E111: 20251127001 | F111: 恒运50辆4.5T普货 | G111: 5000 | H111: 260 | I111: 31 | J111: 5000 | K111: 5790.2 | L111: 1.15804 | M111: 达标 | N111: =IF(K111>=J111,ROUND(H111*I111/31,2),0) -> 260 | O111: 790.2 | P111: 0 | Q111: 已完成 | R111: 154 | S111: 非测试日仪表31天 | T111: 否 | U111: 46235 | V111: 46265
A112: 粤AG18312 | B112: 业务二部 | C112: 谯云 | D112: 上海明纳物流有限公司 | E112: 20251127001 | F112: 恒运50辆4.5T普货 | G112: 5000 | H112: 260 | I112: 18 | J112: 2903.23 | K112: 2488.1 | L112: 0.85701098 | M112: 未达标 | N112: =IF(K112>=J112,ROUND(H112*I112/31,2),0) -> 0 | O112: 0 | P112: 0 | Q112: 已完成 | R112: 155 | S112: 测试日GPS5天；非测试日仪表12天；测试名单无纯氢GPS1天 | T112: 否 | U112: 46235 | V112: 46252
A113: 粤AGP3038 | B113: 业务二部 | C113: 谯云 | D113: 无锡双庙运输有限公司 | E113: LNZLHT 20251217001 | F113: 交投190辆4.5T冷链车 | G113: 3000 | H113: 150 | I113: 31 | J113: 3000 | K113: 10036.7 | L113: 3.3455667 | M113: 达标 | N113: =IF(K113>=J113,ROUND(H113*I113/31,2),0) -> 150 | O113: 7036.7 | P113: 2 | Q113: 进行中 | R113: 156 | S113: 非测试日纯氢31天 | T113: 否 | U113: 46235 | V113: 46265
A114: 粤AGP3506 | B114: 业务二部 | C114: 谯云 | D114: 上海明纳物流有限公司 | E114: 20251127001 | F114: 羚牛136辆4.5T冷链车 | G114: 5000 | H114: 260 | I114: 19 | J114: 3064.52 | K114: 9796.2 | L114: 3.1966507 | M114: 达标 | N114: =IF(K114>=J114,ROUND(H114*I114/31,2),0) -> 159.35 | O114: 6731.68 | P114: 1 | Q114: 已完成 | R114: 157 | S114: 非测试日纯氢19天 | T114: 否 | U114: 46235 | V114: 46253
A115: 粤AGP5159 | B115: 业务二部 | C115: 谯云 | D115: 无锡双庙运输有限公司 | E115: LNZLHT 20251217001 | F115: 交投190辆4.5T冷链车 | G115: 3000 | H115: 150 | I115: 31 | J115: 3000 | K115: 4684.6 | L115: 1.5615333 | M115: 达标 | N115: =IF(K115>=J115,ROUND(H115*I115/31,2),0) -> 150 | O115: 1684.6 | P115: 0 | Q115: 进行中 | R115: 158 | S115: 非测试日纯氢31天 | T115: 否 | U115: 46235 | V115: 46265
A116: 粤AGP5760 | B116: 业务二部 | C116: 谯云 | D116: 上海明纳物流有限公司 | E116: 20251127001 | F116: 羚牛136辆4.5T冷链车 | G116: 5000 | H116: 260 | I116: 17 | J116: 2741.94 | K116: 88.8 | L116: 0.032385829 | M116: 未达标 | N116: =IF(K116>=J116,ROUND(H116*I116/31,2),0) -> 0 | O116: 0 | P116: 0 | Q116: 已完成 | R116: 159 | S116: 非测试日纯氢17天 | T116: 否 | U116: 46235 | V116: 46251
A117: 粤AGP7047 | B117: 业务二部 | C117: 谯云 | D117: 上海明纳物流有限公司 | E117: 20251127001 | F117: 羚牛136辆4.5T冷链车 | G117: 5000 | H117: 260 | I117: 31 | J117: 5000 | K117: 5238.6 | L117: 1.04772 | M117: 达标 | N117: =IF(K117>=J117,ROUND(H117*I117/31,2),0) -> 260 | O117: 238.6 | P117: 0 | Q117: 已完成 | R117: 160 | S117: 非测试日纯氢31天 | T117: 否 | U117: 46235 | V117: 46265
A118: 粤AGP9337 | B118: 业务二部 | C118: 谯云 | D118: 无锡双庙运输有限公司 | E118: LNZLHT 20251217001 | F118: 交投190辆4.5T冷链车 | G118: 3000 | H118: 150 | I118: 31 | J118: 3000 | K118: 0 | L118: 0 | M118: 未达标 | N118: =IF(K118>=J118,ROUND(H118*I118/31,2),0) -> 0 | O118: 0 | P118: 0 | Q118: 进行中 | R118: 161 | S118: 非测试日纯氢31天 | T118: 否 | U118: 46235 | V118: 46265
A119: 粤AGP9707 | B119: 业务二部 | C119: 谯云 | D119: 上海明纳物流有限公司 | E119: 20251127001 | F119: 羚牛136辆4.5T冷链车 | G119: 5000 | H119: 260 | I119: 19 | J119: 3064.52 | K119: 8197 | L119: 2.6748071 | M119: 达标 | N119: =IF(K119>=J119,ROUND(H119*I119/31,2),0) -> 159.35 | O119: 5132.48 | P119: 1 | Q119: 已完成 | R119: 162 | S119: 测试日GPS4天；非测试日纯氢15天 | T119: 否 | U119: 46235 | V119: 46253
A120: 粤AGP9753 | B120: 业务二部 | C120: 谯云 | D120: 吴凡建 | E120: LNZLHT20260806-01-11 | F120: 羚牛136辆4.5T冷链车 | G120: 5000 | H120: 300 | I120: 24 | J120: 3870.97 | K120: 5948 | L120: 1.5365658 | M120: 达标 | N120: =IF(K120>=J120,ROUND(H120*I120/31,2),0) -> 232.26 | O120: 2077.03 | P120: 0 | Q120: 进行中 | R120: 163 | S120: 非测试日纯氢24天 | T120: 是 | U120: 46242 | V120: 46265 | W120: 8月7日计前段，本段从8月8日起
A121: 粤AGP9789 | B121: 业务二部 | C121: 谯云 | D121: 无锡双庙运输有限公司 | E121: LNZLHT 20251217001 | F121: 交投190辆4.5T冷链车 | G121: 3000 | H121: 150 | I121: 31 | J121: 3000 | K121: 8493.4 | L121: 2.8311333 | M121: 达标 | N121: =IF(K121>=J121,ROUND(H121*I121/31,2),0) -> 150 | O121: 5493.4 | P121: 1 | Q121: 进行中 | R121: 164 | S121: 非测试日纯氢31天 | T121: 否 | U121: 46235 | V121: 46265
A122: 粤AGQ0178 | B122: 业务二部 | C122: 谯云 | D122: 张磊 | E122: LNZLHT2026072101-042 | F122: 交投190辆4.5T冷链车 | G122: 3000 | H122: 150 | I122: 31 | J122: 3000 | K122: 6410.8 | L122: 2.1369333 | M122: 达标 | N122: =IF(K122>=J122,ROUND(H122*I122/31,2),0) -> 150 | O122: 3410.8 | P122: 1 | Q122: 进行中 | R122: 165 | S122: 非测试日纯氢31天 | T122: 是 | U122: 46235 | V122: 46265
A123: 粤AGR0772 | B123: 业务二部 | C123: 谯云 | D123: 景伟 | E123: LNZLHT2026072102-042 | F123: 交投190辆4.5T冷链车 | G123: 3000 | H123: 150 | I123: 24 | J123: 2322.58 | K123: 2508.6 | L123: 1.080092 | M123: 达标 | N123: =IF(K123>=J123,ROUND(H123*I123/31,2),0) -> 116.13 | O123: 186.02 | P123: 0 | Q123: 已完成 | R123: 166 | S123: 非测试日纯氢24天 | T123: 否 | U123: 46235 | V123: 46258
A124: 粤AGR0798 | B124: 业务二部 | C124: 谯云 | D124: 郑志兵 | E124: ZY20260803000250A | F124: 交投190辆4.5T冷链车 | G124: 3000 | H124: 150 | I124: 27 | J124: 2612.9 | K124: 8044.5 | L124: 3.0787631 | M124: 达标 | N124: =IF(K124>=J124,ROUND(H124*I124/31,2),0) -> 130.65 | O124: 5431.6 | P124: 1 | Q124: 进行中 | R124: 167 | S124: 非测试日纯氢27天 | T124: 是 | U124: 46239 | V124: 46265
A125: 粤AGR5090 | B125: 业务二部 | C125: 谯云 | D125: 无锡双庙运输有限公司 | E125: LNZLHT 20251217001 | F125: 交投190辆4.5T冷链车 | G125: 3000 | H125: 150 | I125: 31 | J125: 3000 | K125: 877.5 | L125: 0.2925 | M125: 未达标 | N125: =IF(K125>=J125,ROUND(H125*I125/31,2),0) -> 0 | O125: 0 | P125: 0 | Q125: 进行中 | R125: 168 | S125: 非测试日纯氢31天 | T125: 否 | U125: 46235 | V125: 46265
A126: 粤AGR9769 | B126: 业务二部 | C126: 谯云 | D126: 上海明纳物流有限公司 | E126: 20251127001 | F126: 交投190辆4.5T冷链车 | G126: 3000 | H126: 150 | I126: 14 | J126: 1354.84 | K126: 555 | L126: 0.40964247 | M126: 未达标 | N126: =IF(K126>=J126,ROUND(H126*I126/31,2),0) -> 0 | O126: 0 | P126: 0 | Q126: 已完成 | R126: 169 | S126: 非测试日纯氢14天 | T126: 否 | U126: 46235 | V126: 46248
A127: 粤A00585F | B127: 业务五部 | C127: 秦挺 | D127: 重庆金时源供应链有限公司 | E127: LNZLHT2026012602-042 | F127: 羚牛100辆18T | G127: 6000 | H127: 1000 | I127: 31 | J127: 6000 | K127: 8898.6 | L127: 1.4831 | M127: 达标 | N127: =IF(K127>=J127,ROUND(H127*I127/31,2),0) -> 1000 | O127: 2898.6 | P127: 0 | Q127: 进行中 | R127: 323 | S127: 测试日GPS2天；非测试日纯氢29天 | T127: 否 | U127: 46235 | V127: 46265
A128: 粤A00855F | B128: 业务五部 | C128: 秦挺 | D128: 重庆金时源供应链有限公司 | E128: LNZLHT2026012602-042 | F128: 羚牛100辆18T | G128: 6000 | H128: 1000 | I128: 31 | J128: 6000 | K128: 6163.7 | L128: 1.0272833 | M128: 达标 | N128: =IF(K128>=J128,ROUND(H128*I128/31,2),0) -> 1000 | O128: 163.7 | P128: 0 | Q128: 进行中 | R128: 324 | S128: 非测试日纯氢31天 | T128: 否 | U128: 46235 | V128: 46265
A129: 粤A01629F | B129: 业务五部 | C129: 秦挺 | D129: 重庆金时源供应链有限公司 | E129: LNZLHT2026012602-042 | F129: 羚牛100辆18T | G129: 6000 | H129: 1000 | I129: 31 | J129: 6000 | K129: 8334.1 | L129: 1.3890167 | M129: 达标 | N129: =IF(K129>=J129,ROUND(H129*I129/31,2),0) -> 1000 | O129: 2334.1 | P129: 0 | Q129: 进行中 | R129: 325 | S129: 非测试日纯氢31天 | T129: 否 | U129: 46235 | V129: 46265
A130: 粤A01766F | B130: 业务五部 | C130: 秦挺 | D130: 武汉吉辰速运配送有限公司 | E130: LNZLHT2026052601-042 | F130: 羚牛100辆18T | G130: 6000 | H130: 1000 | I130: 31 | J130: 6000 | K130: 5887.5 | L130: 0.98125 | M130: 未达标 | N130: =IF(K130>=J130,ROUND(H130*I130/31,2),0) -> 0 | O130: 0 | P130: 0 | Q130: 进行中 | R130: 326 | S130: 非测试日纯氢31天 | T130: 否 | U130: 46235 | V130: 46265
A131: 粤A02393F | B131: 业务五部 | C131: 秦挺 | D131: 武汉吉辰速运配送有限公司 | E131: LNZLHT2026052601-042 | F131: 羚牛100辆18T | G131: 6000 | H131: 1000 | I131: 31 | J131: 6000 | K131: 6529.1 | L131: 1.0881833 | M131: 达标 | N131: =IF(K131>=J131,ROUND(H131*I131/31,2),0) -> 1000 | O131: 529.1 | P131: 0 | Q131: 进行中 | R131: 327 | S131: 非测试日纯氢31天 | T131: 否 | U131: 46235 | V131: 46265
A132: 粤A02956F | B132: 业务五部 | C132: 秦挺 | D132: 武汉吉辰速运配送有限公司 | E132: LNZLHT20260807-130 | F132: 羚牛100辆18T | G132: 6000 | H132: 1000 | I132: 21 | J132: 4064.52 | K132: 435.8 | L132: 0.10722053 | M132: 未达标 | N132: =IF(K132>=J132,ROUND(H132*I132/31,2),0) -> 0 | O132: 0 | P132: 0 | Q132: 进行中 | R132: 328 | S132: 非测试日纯氢21天 | T132: 否 | U132: 46245 | V132: 46265
... A154: 粤AGP9780 | B154: 业务五部 | C154: 秦挺 | D154: 武汉飞飞鹭供应链有限公司 | E154: LNZLHT2026072903-042 | F154: 交投190辆4.5T冷链车 | G154: 3000 | H154: 150 | I154: 26 | J154: 2516.13 | K154: 8104.5 | L154: 3.221018 | M154: 达标 | N154: =IF(K154>=J154,ROUND(H154*I154/31,2),0) -> 125.81 | O154: 5588.37 | P154: 1 | Q154: 进行中 | R154: 350 | S154: 非测试日纯氢26天 | T154: 是 | U154: 46240 | V154: 46265
A155: 粤AGE6410 | B155: 业务二部 | C155: 尚建华 | D155: 新疆中铁黑豹物流有限公司 | E155: LNZLHT2024090201 | F155: 交投40辆4.5T普货 | G155: 3000 | H155: 150 | I155: 31 | J155: 3000 | K155: 3290.1 | L155: 1.0967 | M155: 达标 | N155: =IF(K155>=J155,ROUND(H155*I155/31,2),0) -> 150 | O155: 290.1 | P155: 0 | Q155: 进行中 | R155: 54 | S155: 非测试日仪表29天；缺失2天 | T155: 否 | U155: 46235 | V155: 46265 | W155: 按新口径2天所需来源缺失，暂按已有记录累计
A156: 粤AGP3027 | B156: 业务二部 | C156: 尚建华 | D156: 嘉兴益顺冷链物流有限公司 | E156: LNZLHT 20260401001- | F156: 羚牛136辆4.5T冷链车 | G156: 5000 | H156: 260 | I156: 24 | J156: 3870.97 | K156: 6968.2 | L156: 1.8001173 | M156: 达标 | N156: =IF(K156>=J156,ROUND(H156*I156/31,2),0) -> 201.29 | O156: 3097.23 | P156: 0 | Q156: 已完成 | R156: 55 | S156: 非测试日纯氢24天 | T156: 否 | U156: 46235 | V156: 46258
A157: 粤AGP3028 | B157: 业务二部 | C157: 尚建华 | D157: 新疆中铁黑豹物流有限公司 | E157: LNZLHT2024090201 | F157: 交投190辆4.5T冷链车 | G157: 3000 | H157: 150 | I157: 31 | J157: 3000 | K157: 3146.8 | L157: 1.0489333 | M157: 达标 | N157: =IF(K157>=J157,ROUND(H157*I157/31,2),0) -> 150 | O157: 146.8 | P157: 0 | Q157: 进行中 | R157: 56 | S157: 非测试日纯氢31天 | T157: 否 | U157: 46235 | V157: 46265
A158: 粤AGP3486 | B158: 业务二部 | C158: 尚建华 | D158: 新疆佳淇信息科技有限公司 | E158: LNZLHT 20260317001 | F158: 羚牛136辆4.5T冷链车 | G158: 5000 | H158: 260 | I158: 31 | J158: 5000 | K158: 3846.8 | L158: 0.76936 | M158: 未达标 | N158: =IF(K158>=J158,ROUND(H158*I158/31,2),0) -> 0 | O158: 0 | P158: 0 | Q158: 进行中 | R158: 57 | S158: 非测试日纯氢31天 | T158: 否 | U158: 46235 | V158: 46265
A159: 粤AGP3612 | B159: 业务二部 | C159: 尚建华 | D159: 嘉兴益顺冷链物流有限公司 | E159: LNZLHT 20260525001 | F159: 羚牛136辆4.5T冷链车 | G159: 5000 | H159: 260 | I159: 31 | J159: 5000 | K159: 4978.2 | L159: 0.99564 | M159: 未达标 | N159: =IF(K159>=J159,ROUND(H159*I159/31,2),0) -> 0 | O159: 0 | P159: 0 | Q159: 进行中 | R159: 58 | S159: 非测试日纯氢31天 | T159: 否 | U159: 46235 | V159: 46265
A160: 粤AGP3617 | B160: 业务二部 | C160: 尚建华 | D160: 新疆佳淇信息科技有限公司 | E160: LNZLHT 20260317001 | F160: 羚牛136辆4.5T冷链车 | G160: 5000 | H160: 260 | I160: 31 | J160: 5000 | K160: 4343.5 | L160: 0.8687 | M160: 未达标 | N160: =IF(K160>=J160,ROUND(H160*I160/31,2),0) -> 0 | O160: 0 | P160: 0 | Q160: 进行中 | R160: 59 | S160: 非测试日纯氢31天 | T160: 否 | U160: 46235 | V160: 46265
A161: 粤AGP3649 | B161: 业务二部 | C161: 尚建华 | D161: 嘉兴益顺冷链物流有限公司 | E161: LNZLHT 20260404001 | F161: 羚牛136辆4.5T冷链车 | G161: 5000 | H161: 260 | I161: 23 | J161: 3709.68 | K161: 2934.8 | L161: 0.79111945 | M161: 未达标 | N161: =IF(K161>=J161,ROUND(H161*I161/31,2),0) -> 0 | O161: 0 | P161: 0 | Q161: 已完成 | R161: 60 | S161: 非测试日纯氢23天 | T161: 否 | U161: 46235 | V161: 46257
A162: 粤AGP4223 | B162: 业务二部 | C162: 尚建华 | D162: 新疆中铁黑豹物流有限公司 | E162: LNZLHT2024090201 | F162: 羚牛136辆4.5T冷链车 | G162: 5000 | H162: 260 | I162: 8 | J162: 1290.32 | K162: 412.8 | L162: 0.31992064 | M162: 未达标 | N162: =IF(K162>=J162,ROUND(H162*I162/31,2),0) -> 0 | O162: 0 | P162: 0 | Q162: 进行中 | R162: 61 | S162: 非测试日纯氢8天 | T162: 否 | U162: 46258 | V162: 46265
A163: 粤AGP4321 | B163: 业务二部 | C163: 尚建华 | D163: 嘉兴益顺冷链物流有限公司 | E163: 20250801001 | F163: 羚牛136辆4.5T冷链车 | G163: 5000 | H163: 260 | I163: 7 | J163: 1129.03 | K163: 1014.6 | L163: 0.89864751 | M163: 未达标 | N163: =IF(K163>=J163,ROUND(H163*I163/31,2),0) -> 0 | O163: 0 | P163: 0 | Q163: 已完成 | R163: 62 | S163: 测试日GPS1天；非测试日纯氢6天 | T163: 否 | U163: 46235 | V163: 46241
A164: 粤AGP4489 | B164: 业务二部 | C164: 尚建华 | D164: 嘉兴益顺冷链物流有限公司 | E164: 20250801001 | F164: 羚牛136辆4.5T冷链车 | G164: 5000 | H164: 260 | I164: 28 | J164: 4516.13 | K164: 4683.8 | L164: 1.0371269 | M164: 达标 | N164: =IF(K164>=J164,ROUND(H164*I164/31,2),0) -> 234.84 | O164: 167.67 | P164: 0 | Q164: 已完成 | R164: 63 | S164: 测试日GPS1天；非测试日纯氢27天 | T164: 否 | U164: 46235 | V164: 46262
A165: 粤AGP4502 | B165: 业务二部 | C165: 尚建华 | D165: 新疆中铁黑豹物流有限公司 | E165: LNZLHT2024090201 | F165: 羚牛136辆4.5T冷链车 | G165: 5000 | H165: 260 | I165: 26 | J165: 4193.55 | K165: 896.7 | L165: 0.21382838 | M165: 未达标 | N165: =IF(K165>=J165,ROUND(H165*I165/31,2),0) -> 0 | O165: 0 | P165: 0 | Q165: 已完成 | R165: 64 | S165: 非测试日纯氢26天 | T165: 否 | U165: 46235 | V165: 46260
A166: 粤AGP5165 | B166: 业务二部 | C166: 尚建华 | D166: 嘉兴益顺冷链物流有限公司 | E166: LNZLHT 20260404001 | F166: 羚牛136辆4.5T冷链车 | G166: 5000 | H166: 260 | I166: 22 | J166: 3548.39 | K166: 5411 | L166: 1.5249169 | M166: 达标 | N166: =IF(K166>=J166,ROUND(H166*I166/31,2),0) -> 184.52 | O166: 1862.61 | P166: 0 | Q166: 已完成 | R166: 65 | S166: 非测试日纯氢22天 | T166: 否 | U166: 46235 | V166: 46256
A167: 粤AGP5167 | B167: 业务二部 | C167: 尚建华 | D167: 杭州福运物流有限公司 | E167: LNZLHT20260812-01-11 | F167: 羚牛136辆4.5T冷链车 | G167: 5000 | H167: 260 | I167: 15 | J167: 2419.35 | K167: 1413.2 | L167: 0.58412383 | M167: 未达标 | N167: =IF(K167>=J167,ROUND(H167*I167/31,2),0) -> 0 | O167: 0 | P167: 0 | Q167: 已完成 | R167: 66 | S167: 测试日GPS1天；非测试日纯氢14天 | T167: 否 | U167: 46248 | V167: 46262
... A206: 粤AGR9866 | B206: 业务二部 | C206: 尚建华 | D206: 嘉兴益顺冷链物流有限公司 | E206: 20250801001 | F206: 交投190辆4.5T冷链车 | G206: 3000 | H206: 150 | I206: 20 | J206: 1935.48 | K206: 10511.5 | L206: 5.4309525 | M206: 达标 | N206: =IF(K206>=J206,ROUND(H206*I206/31,2),0) -> 96.77 | O206: 8576.02 | P206: 2 | Q206: 已完成 | R206: 105 | S206: 非测试日纯氢20天 | T206: 否 | U206: 46235 | V206: 46254
A207: 粤A01620F | B207: 综合业务部 | C207: 童军林 | D207: 广州市博众供应链管理有限公司 | E207: LNZLHT2026021101-042 | F207: 羚牛100辆18T | G207: 6000 | H207: 150 | I207: 31 | J207: 6000 | K207: 290.8 | L207: 0.048466667 | M207: 未达标 | N207: =IF(K207>=J207,ROUND(H207*I207/31,2),0) -> 0 | O207: 0 | P207: 0 | Q207: 已完成 | R207: 252 | S207: 非测试日纯氢31天 | T207: 是 | U207: 46235 | V207: 46265 | W207: 归属由吴纬涛调整为童军林
A208: 粤A00255F | B208: 业务三部 | C208: 吴纬涛 | D208: 广州市博众供应链管理有限公司 | E208: LNZLHT2026021101-042 | F208: 羚牛100辆18T | G208: 6000 | H208: 1000 | I208: 31 | J208: 6000 | K208: 2331.1 | L208: 0.38851667 | M208: 未达标 | N208: =IF(K208>=J208,ROUND(H208*I208/31,2),0) -> 0 | O208: 0 | P208: 0 | Q208: 进行中 | R208: 248 | S208: 非测试日纯氢31天 | T208: 否 | U208: 46235 | V208: 46265
A209: 粤A01209F | B209: 业务三部 | C209: 吴纬涛 | D209: 广州市博众供应链管理有限公司 | E209: LNZLHT2026021101-042 | F209: 羚牛100辆18T | G209: 6000 | H209: 1000 | I209: 31 | J209: 6000 | K209: 779.2 | L209: 0.12986667 | M209: 未达标 | N209: =IF(K209>=J209,ROUND(H209*I209/31,2),0) -> 0 | O209: 0 | P209: 0 | Q209: 已完成 | R209: 250 | S209: 测试日GPS1天；非测试日纯氢30天 | T209: 否 | U209: 46235 | V209: 46265
A210: 粤A01396F | B210: 业务三部 | C210: 吴纬涛 | D210: 环迪新能源（广州）有限公司 | E210: LNZLHT2026061201-0420 | F210: 羚牛100辆18T | G210: 6000 | H210: 1000 | I210: 31 | J210: 6000 | K210: 5641.5 | L210: 0.94025 | M210: 未达标 | N210: =IF(K210>=J210,ROUND(H210*I210/31,2),0) -> 0 | O210: 0 | P210: 0 | Q210: 进行中 | R210: 251 | S210: 非测试日纯氢31天 | T210: 否 | U210: 46235 | V210: 46265
A211: 粤A01886F | B211: 业务三部 | C211: 吴纬涛 | D211: 广州市博众供应链管理有限公司 | E211: LNZLHT2026021101-042 | F211: 羚牛100辆18T | G211: 6000 | H211: 1000 | I211: 1 | J211: 193.55 | K211: 0 | L211: 0 | M211: 未达标 | N211: =IF(K211>=J211,ROUND(H211*I211/31,2),0) -> 0 | O211: 0 | P211: 0 | Q211: 已完成 | R211: 253 | S211: 非测试日纯氢1天 | T211: 否 | U211: 46235 | V211: 46235
A212: 粤A02956F | B212: 业务三部 | C212: 吴纬涛 | D212: 广州市博众供应链管理有限公司 | E212: LNZLHT2026021101-042 | F212: 羚牛100辆18T | G212: 6000 | H212: 1000 | I212: 10 | J212: 1935.48 | K212: 0 | L212: 0 | M212: 未达标 | N212: =IF(K212>=J212,ROUND(H212*I212/31,2),0) -> 0 | O212: 0 | P212: 0 | Q212: 已完成 | R212: 256 | S212: 非测试日纯氢10天 | T212: 否 | U212: 46235 | V212: 46244
A213: 粤A03569F | B213: 业务三部 | C213: 吴纬涛 | D213: 广州新运多租赁有限公司 | E213: LNZLHT2026041402-042 | F213: 羚牛100辆18T | G213: 6000 | H213: 1000 | I213: 31 | J213: 6000 | K213: 29.5 | L213: 0.0049166667 | M213: 未达标 | N213: =IF(K213>=J213,ROUND(H213*I213/31,2),0) -> 0 | O213: 0 | P213: 0 | Q213: 进行中 | R213: 257 | S213: 测试日GPS2天；非测试日纯氢29天 | T213: 否 | U213: 46235 | V213: 46265
A214: 粤A05839F | B214: 业务三部 | C214: 吴纬涛 | D214: 广州市博众供应链管理有限公司 | E214: LNZLHT2026021101-042 | F214: 羚牛100辆18T | G214: 6000 | H214: 1000 | I214: 31 | J214: 6000 | K214: 529.8 | L214: 0.0883 | M214: 未达标 | N214: =IF(K214>=J214,ROUND(H214*I214/31,2),0) -> 0 | O214: 0 | P214: 0 | Q214: 进行中 | R214: 258 | S214: 非测试日纯氢31天 | T214: 否 | U214: 46235 | V214: 46265
A215: 粤A05985F | B215: 业务三部 | C215: 吴纬涛 | D215: 广州市博众供应链管理有限公司 | E215: LNZLHT2026021101-042 | F215: 羚牛100辆18T | G215: 6000 | H215: 1000 | I215: 31 | J215: 6000 | K215: 0.3 | L215: 5e-05 | M215: 未达标 | N215: =IF(K215>=J215,ROUND(H215*I215/31,2),0) -> 0 | O215: 0 | P215: 0 | Q215: 进行中 | R215: 259 | S215: 非测试日纯氢31天 | T215: 否 | U215: 46235 | V215: 46265
A216: 粤A05995F | B216: 业务三部 | C216: 吴纬涛 | D216: 广州市博众供应链管理有限公司 | E216: LNZLHT2026021101-042 | F216: 羚牛100辆18T | G216: 6000 | H216: 1000 | I216: 31 | J216: 6000 | K216: 3841.5 | L216: 0.64025 | M216: 未达标 | N216: =IF(K216>=J216,ROUND(H216*I216/31,2),0) -> 0 | O216: 0 | P216: 0 | Q216: 进行中 | R216: 260 | S216: 非测试日纯氢31天 | T216: 否 | U216: 46235 | V216: 46265
A217: 粤A06691F | B217: 业务三部 | C217: 吴纬涛 | D217: 广州市博众供应链管理有限公司 | E217: LNZLHT2026021101-042 | F217: 羚牛100辆18T | G217: 6000 | H217: 1000 | I217: 31 | J217: 6000 | K217: 6979.7 | L217: 1.1632833 | M217: 达标 | N217: =IF(K217>=J217,ROUND(H217*I217/31,2),0) -> 1000 | O217: 979.7 | P217: 0 | Q217: 进行中 | R217: 261 | S217: 非测试日纯氢31天 | T217: 否 | U217: 46235 | V217: 46265
A218: 粤A06931F | B218: 业务三部 | C218: 吴纬涛 | D218: 广州市博众供应链管理有限公司 | E218: LNZLHT2026021101-042 | F218: 羚牛100辆18T | G218: 6000 | H218: 1000 | I218: 31 | J218: 6000 | K218: 8541.6 | L218: 1.4236 | M218: 达标 | N218: =IF(K218>=J218,ROUND(H218*I218/31,2),0) -> 1000 | O218: 2541.6 | P218: 0 | Q218: 进行中 | R218: 262 | S218: 非测试日纯氢31天 | T218: 否 | U218: 46235 | V218: 46265
A219: 粤A07260F | B219: 业务三部 | C219: 吴纬涛 | D219: 广州市博众供应链管理有限公司 | E219: LNZLHT2026021101-042 | F219: 羚牛100辆18T | G219: 6000 | H219: 1000 | I219: 31 | J219: 6000 | K219: 1426.3 | L219: 0.23771667 | M219: 未达标 | N219: =IF(K219>=J219,ROUND(H219*I219/31,2),0) -> 0 | O219: 0 | P219: 0 | Q219: 进行中 | R219: 263 | S219: 非测试日纯氢31天 | T219: 否 | U219: 46235 | V219: 46265
... A224: 粤AFB6967 | B224: 业务三部 | C224: 吴纬涛 | D224: 广州埔供优选配送服务有限公司 | E224: LNZLHT2026012901-042 | F224: 交投190辆4.5T冷链车 | G224: 3000 | H224: 150 | I224: 1 | J224: 96.77 | K224: 44.5 | L224: 0.45985326 | M224: 未达标 | N224: =IF(K224>=J224,ROUND(H224*I224/31,2),0) -> 0 | O224: 0 | P224: 0 | Q224: 进行中 | R224: 269 | S224: 非测试日纯氢1天 | T224: 否 | U224: 46265 | V224: 46265
A225: 粤AFG2090 | B225: 业务三部 | C225: 吴纬涛 | D225: 广州玉川物流有限公司 | E225: LNZLHT2026042301-042 | F225: 恒运50辆4.5T普货 | G225: 5000 | H225: 260 | I225: 31 | J225: 5000 | K225: 3171.8 | L225: 0.63436 | M225: 未达标 | N225: =IF(K225>=J225,ROUND(H225*I225/31,2),0) -> 0 | O225: 0 | P225: 0 | Q225: 进行中 | R225: 270 | S225: 非测试日仪表23天；缺失8天 | T225: 否 | U225: 46235 | V225: 46265 | W225: 按新口径8天所需来源缺失，暂按已有记录累计
A226: 粤AFQ8722 | B226: 业务三部 | C226: 吴纬涛 | D226: 佛山市昌盛骏业供应链管理有限公司 | E226: LNZLHT2026052603-042 | F226: 恒运50辆4.5T普货 | G226: 5000 | H226: 260 | I226: 31 | J226: 5000 | K226: 523.1 | L226: 0.10462 | M226: 未达标 | N226: =IF(K226>=J226,ROUND(H226*I226/31,2),0) -> 0 | O226: 0 | P226: 0 | Q226: 进行中 | R226: 271 | S226: 非测试日仪表31天 | T226: 否 | U226: 46235 | V226: 46265
A227: 粤AG03779 | B227: 业务三部 | C227: 吴纬涛 | D227: 广州玉川物流有限公司 | E227: LNZLHT2026042301-042 | F227: 恒运50辆4.5T普货 | G227: 5000 | H227: 260 | I227: 31 | J227: 5000 | K227: 5367.24 | L227: 1.073448 | M227: 达标 | N227: =IF(K227>=J227,ROUND(H227*I227/31,2),0) -> 260 | O227: 367.24 | P227: 0 | Q227: 进行中 | R227: 272 | S227: 非测试日仪表30天；缺失1天 | T227: 否 | U227: 46235 | V227: 46265 | W227: 按新口径1天所需来源缺失，暂按已有记录累计
A228: 粤AG32783 | B228: 业务三部 | C228: 吴纬涛 | D228: 广州市黄埔区小胖兄弟蔬果配送 中心 （个体工商户） | E228: LNZLHT2025122301-042 | F228: 恒运50辆4.5T普货 | G228: 5000 | H228: 260 | I228: 14 | J228: 2258.06 | K228: 0 | L228: 0 | M228: 待核实 | N228: =IF(K228>=J228,ROUND(H228*I228/31,2),0) -> 0 | O228: 0 | P228: 0 | Q228: 进行中 | R228: 273 | S228: 缺失14天 | T228: 否 | U228: 46252 | V228: 46265 | W228: 全部所需来源缺失，已有计入0为累计值而非实测0，补数后重算。
A229: 粤AG35802 | B229: 业务三部 | C229: 吴纬涛 | D229: 广州玉川物流有限公司 | E229: LNZLHT2026042301-042 | F229: 恒运50辆4.5T普货 | G229: 5000 | H229: 260 | I229: 31 | J229: 5000 | K229: 4080.9 | L229: 0.81618 | M229: 未达标 | N229: =IF(K229>=J229,ROUND(H229*I229/31,2),0) -> 0 | O229: 0 | P229: 0 | Q229: 进行中 | R229: 274 | S229: 非测试日仪表28天；缺失3天 | T229: 否 | U229: 46235 | V229: 46265 | W229: 按新口径3天所需来源缺失，暂按已有记录累计
A230: 粤AG39007 | B230: 业务三部 | C230: 吴纬涛 | D230: 广州昊森供应链管理有限公司 | E230: LNZLHT2026082502-042 | F230: 恒运50辆4.5T普货 | G230: 5000 | H230: 260 | I230: 4 | J230: 645.16 | K230: 0 | L230: 0 | M230: 待核实 | N230: =IF(K230>=J230,ROUND(H230*I230/31,2),0) -> 0 | O230: 0 | P230: 0 | Q230: 已完成 | R230: 275 | S230: 缺失4天 | T230: 否 | U230: 46262 | V230: 46265 | W230: 全部所需来源缺失，已有计入0为累计值而非实测0，补数后重算。
A231: 粤AGE1516 | B231: 业务三部 | C231: 吴纬涛 | D231: 广州玉川物流有限公司 | E231: LNZLHT2026042301-042 | F231: 交投40辆4.5T普货 | G231: 3000 | H231: 150 | I231: 31 | J231: 3000 | K231: 3358.6 | L231: 1.1195333 | M231: 达标 | N231: =IF(K231>=J231,ROUND(H231*I231/31,2),0) -> 150 | O231: 358.6 | P231: 0 | Q231: 进行中 | R231: 276 | S231: 非测试日仪表26天；缺失5天 | T231: 否 | U231: 46235 | V231: 46265 | W231: 按新口径5天所需来源缺失，暂按已有记录累计
A232: 粤AGF7490 | B232: 业务三部 | C232: 吴纬涛 | D232: 广州玉川物流有限公司 | E232: LNZLHT2026042301-042 | F232: 交投40辆4.5T普货 | G232: 3000 | H232: 150 | I232: 31 | J232: 3000 | K232: 3985.8 | L232: 1.3286 | M232: 达标 | N232: =IF(K232>=J232,ROUND(H232*I232/31,2),0) -> 150 | O232: 985.8 | P232: 0 | Q232: 进行中 | R232: 277 | S232: 非测试日仪表29天；缺失2天 | T232: 否 | U232: 46235 | V232: 46265 | W232: 按新口径2天所需来源缺失，暂按已有记录累计
A233: 粤AGG4142 | B233: 业务三部 | C233: 吴纬涛 | D233: 广州市黄埔区小胖兄弟蔬果配送 中心 （个体工商户） | E233: LNZLHT2025122301-042 | F233: 交投40辆4.5T普货 | G233: 3000 | H233: 150 | I233: 31 | J233: 3000 | K233: 803.5 | L233: 0.26783333 | M233: 未达标 | N233: =IF(K233>=J233,ROUND(H233*I233/31,2),0) -> 0 | O233: 0 | P233: 0 | Q233: 进行中 | R233: 278 | S233: 测试日GPS15天；非测试日仪表7天；测试名单无纯氢GPS9天 | T233: 否 | U233: 46235 | V233: 46265
A234: 粤AGH8490 | B234: 业务三部 | C234: 吴纬涛 | D234: 佛山市昌盛骏业供应链管理有限公司 | E234: LNZLHT2026052603-042 | F234: 交投40辆4.5T普货 | G234: 3000 | H234: 150 | I234: 31 | J234: 3000 | K234: 620.7 | L234: 0.2069 | M234: 未达标 | N234: =IF(K234>=J234,ROUND(H234*I234/31,2),0) -> 0 | O234: 0 | P234: 0 | Q234: 已完成 | R234: 279 | S234: 非测试日仪表31天 | T234: 否 | U234: 46235 | V234: 46265
A235: 粤AGP3672 | B235: 业务三部 | C235: 吴纬涛 | D235: 广州埔供优选配送服务有限公司 | E235: LNZLHT2026012901-042 | F235: 羚牛136辆4.5T冷链车 | G235: 5000 | H235: 260 | I235: 31 | J235: 5000 | K235: 566.2 | L235: 0.11324 | M235: 未达标 | N235: =IF(K235>=J235,ROUND(H235*I235/31,2),0) -> 0 | O235: 0 | P235: 0 | Q235: 进行中 | R235: 280 | S235: 测试日GPS23天；非测试日纯氢8天 | T235: 否 | U235: 46235 | V235: 46265
A236: 粤AGP4325 | B236: 业务三部 | C236: 吴纬涛 | D236: 广州埔供优选配送服务有限公司 | E236: LNZLHT2026012901-042 | F236: 羚牛136辆4.5T冷链车 | G236: 5000 | H236: 260 | I236: 31 | J236: 5000 | K236: 495.4 | L236: 0.09908 | M236: 未达标 | N236: =IF(K236>=J236,ROUND(H236*I236/31,2),0) -> 0 | O236: 0 | P236: 0 | Q236: 进行中 | R236: 281 | S236: 测试日GPS23天；非测试日纯氢8天 | T236: 否 | U236: 46235 | V236: 46265
A237: 粤AGP5139 | B237: 业务三部 | C237: 吴纬涛 | D237: 广州新运多租赁有限公司 | E237: LNZLHT2026060901-042 | F237: 交投190辆4.5T冷链车 | G237: 3000 | H237: 150 | I237: 31 | J237: 3000 | K237: 3564.9 | L237: 1.1883 | M237: 达标 | N237: =IF(K237>=J237,ROUND(H237*I237/31,2),0) -> 150 | O237: 564.9 | P237: 0 | Q237: 进行中 | R237: 282 | S237: 非测试日纯氢31天 | T237: 否 | U237: 46235 | V237: 46265
A238: 粤AGP5156 | B238: 业务三部 | C238: 吴纬涛 | D238: 广州新运多租赁有限公司 | E238: LNZLHT2026060901-042 | F238: 交投190辆4.5T冷链车 | G238: 3000 | H238: 150 | I238: 31 | J238: 3000 | K238: 6610.5 | L238: 2.2035 | M238: 达标 | N238: =IF(K238>=J238,ROUND(H238*I238/31,2),0) -> 150 | O238: 3610.5 | P238: 1 | Q238: 进行中 | R238: 283 | S238: 非测试日纯氢31天 | T238: 否 | U238: 46235 | V238: 46265
A239: 粤AGP5163 | B239: 业务三部 | C239: 吴纬涛 | D239: 广州新运多租赁有限公司 | E239: LNZLHT2026060901-042 | F239: 交投190辆4.5T冷链车 | G239: 3000 | H239: 150 | I239: 31 | J239: 3000 | K239: 490.7 | L239: 0.16356667 | M239: 未达标 | N239: =IF(K239>=J239,ROUND(H239*I239/31,2),0) -> 0 | O239: 0 | P239: 0 | Q239: 进行中 | R239: 284 | S239: 非测试日纯氢31天 | T239: 否 | U239: 46235 | V239: 46265
A240: 粤AGP5359 | B240: 业务三部 | C240: 吴纬涛 | D240: 广州市范来餐饮管理有限公司 | E240: LNZLHT2026081201-042 | F240: 交投190辆4.5T冷链车 | G240: 3000 | H240: 150 | I240: 3 | J240: 290.32 | K240: 72.6 | L240: 0.25006889 | M240: 未达标 | N240: =IF(K240>=J240,ROUND(H240*I240/31,2),0) -> 0 | O240: 0 | P240: 0 | Q240: 进行中 | R240: 285 | S240: 测试日GPS1天；非测试日纯氢2天 | T240: 是 | U240: 46263 | V240: 46265
A241: 粤AGP5381 | B241: 业务三部 | C241: 吴纬涛 | D241: 广州市德利新隆生鲜食品有限公司 | E241: LNZLHT2026082601-042 | F241: 交投190辆4.5T冷链车 | G241: 3000 | H241: 150 | I241: 31 | J241: 3000 | K241: 3235.6 | L241: 1.0785333 | M241: 达标 | N241: =IF(K241>=J241,ROUND(H241*I241/31,2),0) -> 150 | O241: 235.6 | P241: 0 | Q241: 进行中 | R241: 286 | S241: 非测试日纯氢31天 | T241: 否 | U241: 46235 | V241: 46265
A242: 粤AGP5613 | B242: 业务三部 | C242: 吴纬涛 | D242: 广州市范来餐饮管理有限公司 | E242: LNZLHT2026081201-042 | F242: 羚牛136辆4.5T冷链车 | G242: 5000 | H242: 300 | I242: 2 | J242: 322.58 | K242: 43 | L242: 0.13330027 | M242: 未达标 | N242: =IF(K242>=J242,ROUND(H242*I242/31,2),0) -> 0 | O242: 0 | P242: 0 | Q242: 进行中 | R242: 287 | S242: 测试日GPS1天；非测试日纯氢1天 | T242: 是 | U242: 46264 | V242: 46265
A243: 粤AGP5639 | B243: 业务三部 | C243: 吴纬涛 | D243: 广州新运多租赁有限公司 | E243: LNZLHT2026060901-042 | F243: 交投190辆4.5T冷链车 | G243: 3000 | H243: 150 | I243: 31 | J243: 3000 | K243: 0.2 | L243: 6.6666667e-05 | M243: 未达标 | N243: =IF(K243>=J243,ROUND(H243*I243/31,2),0) -> 0 | O243: 0 | P243: 0 | Q243: 进行中 | R243: 288 | S243: 非测试日纯氢31天 | T243: 否 | U243: 46235 | V243: 46265
...

Sheet 8月计算过程
A1: 车牌号 | B1: 销售经理 | C1: 部门 | D1: 8月记录数 | E1: 8月总天数 | F1: 8月应考核 | G1: 8月实际 | H1: 8月有达标 | I1: 8月奖金 | J1: 累计应考核 | K1: 累计实际 | L1: 累计达标 | M1: 可结转 | N1: 结转发放 | O1: 补发1月 | P1: 补发2月 | Q1: 补发3月 | R1: 补发4月 | S1: 补发5月 | T1: 补发6月 | U1: 补发7月 | V1: 当月奖金 | W1: 累计补发8月 | X1: 8月发放合计 | Y1: 无本月考核记录
A2: 粤AGP5613 | B2: 何文斌 | C2: 业务一部 | D2: 1 | E2: 1 | F2: 161.29 | G2: 213.3 | H2: 是 | I2: 9.6774194 | J2: 2903.23 | K2: 3747.9 | L2: 达标 | M2: 0 | N2: =SUMIFS('8月奖金发放记录'!$J$2:$J$171,'8月奖金发放记录'!$B$2:$B$171,B2,'8月奖金发放记录'!$E$2:$E$171,"结转",'8月奖金发放记录'!$A$2:$A$171,A2) -> 0 | O2: =SUMIFS('8月奖金发放记录'!$J$2:$J$171,'8月奖金发放记录'!$B$2:$B$171,B2,'8月奖金发放记录'!$E$2:$E$171,"补发1月",'8月奖金发放记录'!$A$2:$A$171,A2) -> 0 | P2: =SUMIFS('8月奖金发放记录'!$J$2:$J$171,'8月奖金发放记录'!$B$2:$B$171,B2,'8月奖金发放记录'!$E$2:$E$171,"补发2月",'8月奖金发放记录'!$A$2:$A$171,A2) -> 0 | Q2: =SUMIFS('8月奖金发放记录'!$J$2:$J$171,'8月奖金发放记录'!$B$2:$B$171,B2,'8月奖金发放记录'!$E$2:$E$171,"补发3月",'8月奖金发放记录'!$A$2:$A$171,A2) -> 0 | R2: =SUMIFS('8月奖金发放记录'!$J$2:$J$171,'8月奖金发放记录'!$B$2:$B$171,B2,'8月奖金发放记录'!$E$2:$E$171,"补发4月",'8月奖金发放记录'!$A$2:$A$171,A2) -> 0 | S2: =SUMIFS('8月奖金发放记录'!$J$2:$J$171,'8月奖金发放记录'!$B$2:$B$171,B2,'8月奖金发放记录'!$E$2:$E$171,"补发5月",'8月奖金发放记录'!$A$2:$A$171,A2) -> 0 | T2: =SUMIFS('8月奖金发放记录'!$J$2:$J$171,'8月奖金发放记录'!$B$2:$B$171,B2,'8月奖金发放记录'!$E$2:$E$171,"补发6月",'8月奖金发放记录'!$A$2:$A$171,A2) -> 0 | U2: =SUMIFS('8月奖金发放记录'!$J$2:$J$171,'8月奖金发放记录'!$B$2:$B$171,B2,'8月奖金发放记录'!$E$2:$E$171,"补发7月",'8月奖金发放记录'!$A$2:$A$171,A2) -> 0 | V2: =SUMIFS('8月奖金发放记录'!$J$2:$J$171,'8月奖金发放记录'!$B$2:$B$171,B2,'8月奖金发放记录'!$E$2:$E$171,"当月",'8月奖金发放记录'!$A$2:$A$171,A2) -> 0 | W2: =SUMIFS('8月奖金发放记录'!$J$2:$J$171,'8月奖金发放记录'!$B$2:$B$171,B2,'8月奖金发放记录'!$E$2:$E$171,"累计补发8月",'8月奖金发放记录'!$A$2:$A$171,A2) -> 0 | X2: =SUM(N2:W2) -> 0 | Y2: 否
A3: 粤AGP9351 | B3: 何文斌 | C3: 业务一部 | D3: 1 | E3: 1 | F3: 161.29 | G3: 123 | H3: 否 | I3: 0 | J3: 2903.23 | K3: 2554 | L3: 未达标 | M3: 0 | N3: =SUMIFS('8月奖金发放记录'!$J$2:$J$171,'8月奖金发放记录'!$B$2:$B$171,B3,'8月奖金发放记录'!$E$2:$E$171,"结转",'8月奖金发放记录'!$A$2:$A$171,A3) -> 0 | O3: =SUMIFS('8月奖金发放记录'!$J$2:$J$171,'8月奖金发放记录'!$B$2:$B$171,B3,'8月奖金发放记录'!$E$2:$E$171,"补发1月",'8月奖金发放记录'!$A$2:$A$171,A3) -> 0 | P3: =SUMIFS('8月奖金发放记录'!$J$2:$J$171,'8月奖金发放记录'!$B$2:$B$171,B3,'8月奖金发放记录'!$E$2:$E$171,"补发2月",'8月奖金发放记录'!$A$2:$A$171,A3) -> 0 | Q3: =SUMIFS('8月奖金发放记录'!$J$2:$J$171,'8月奖金发放记录'!$B$2:$B$171,B3,'8月奖金发放记录'!$E$2:$E$171,"补发3月",'8月奖金发放记录'!$A$2:$A$171,A3) -> 0 | R3: =SUMIFS('8月奖金发放记录'!$J$2:$J$171,'8月奖金发放记录'!$B$2:$B$171,B3,'8月奖金发放记录'!$E$2:$E$171,"补发4月",'8月奖金发放记录'!$A$2:$A$171,A3) -> 0 | S3: =SUMIFS('8月奖金发放记录'!$J$2:$J$171,'8月奖金发放记录'!$B$2:$B$171,B3,'8月奖金发放记录'!$E$2:$E$171,"补发5月",'8月奖金发放记录'!$A$2:$A$171,A3) -> 0 | T3: =SUMIFS('8月奖金发放记录'!$J$2:$J$171,'8月奖金发放记录'!$B$2:$B$171,B3,'8月奖金发放记录'!$E$2:$E$171,"补发6月",'8月奖金发放记录'!$A$2:$A$171,A3) -> 0 | U3: =SUMIFS('8月奖金发放记录'!$J$2:$J$171,'8月奖金发放记录'!$B$2:$B$171,B3,'8月奖金发放记录'!$E$2:$E$171,"补发7月",'8月奖金发放记录'!$A$2:$A$171,A3) -> 0 | V3: =SUMIFS('8月奖金发放记录'!$J$2:$J$171,'8月奖金发放记录'!$B$2:$B$171,B3,'8月奖金发放记录'!$E$2:$E$171,"当月",'8月奖金发放记录'!$A$2:$A$171,A3) -> 0 | W3: =SUMIFS('8月奖金发放记录'!$J$2:$J$171,'8月奖金发放记录'!$B$2:$B$171,B3,'8月奖金发放记录'!$E$2:$E$171,"累计补发8月",'8月奖金发放记录'!$A$2:$A$171,A3) -> 0 | X3: =SUM(N3:W3) -> 0 | Y3: 否
A4: 粤AGP9773 | B4: 何文斌 | C4: 业务一部 | D4: 1 | E4: 16 | F4: 1548.39 | G4: 594.8 | H4: 否 | I4: 0 | J4: 1548.39 | K4: 594.8 | L4: 未达标 | M4: 0 | N4: =SUMIFS('8月奖金发放记录'!$J$2:$J$171,'8月奖金发放记录'!$B$2:$B$171,B4,'8月奖金发放记录'!$E$2:$E$171,"结转",'8月奖金发放记录'!$A$2:$A$171,A4) -> 0 | O4: =SUMIFS('8月奖金发放记录'!$J$2:$J$171,'8月奖金发放记录'!$B$2:$B$171,B4,'8月奖金发放记录'!$E$2:$E$171,"补发1月",'8月奖金发放记录'!$A$2:$A$171,A4) -> 0 | P4: =SUMIFS('8月奖金发放记录'!$J$2:$J$171,'8月奖金发放记录'!$B$2:$B$171,B4,'8月奖金发放记录'!$E$2:$E$171,"补发2月",'8月奖金发放记录'!$A$2:$A$171,A4) -> 0 | Q4: =SUMIFS('8月奖金发放记录'!$J$2:$J$171,'8月奖金发放记录'!$B$2:$B$171,B4,'8月奖金发放记录'!$E$2:$E$171,"补发3月",'8月奖金发放记录'!$A$2:$A$171,A4) -> 0 | R4: =SUMIFS('8月奖金发放记录'!$J$2:$J$171,'8月奖金发放记录'!$B$2:$B$171,B4,'8月奖金发放记录'!$E$2:$E$171,"补发4月",'8月奖金发放记录'!$A$2:$A$171,A4) -> 0 | S4: =SUMIFS('8月奖金发放记录'!$J$2:$J$171,'8月奖金发放记录'!$B$2:$B$171,B4,'8月奖金发放记录'!$E$2:$E$171,"补发5月",'8月奖金发放记录'!$A$2:$A$171,A4) -> 0 | T4: =SUMIFS('8月奖金发放记录'!$J$2:$J$171,'8月奖金发放记录'!$B$2:$B$171,B4,'8月奖金发放记录'!$E$2:$E$171,"补发6月",'8月奖金发放记录'!$A$2:$A$171,A4) -> 0 | U4: =SUMIFS('8月奖金发放记录'!$J$2:$J$171,'8月奖金发放记录'!$B$2:$B$171,B4,'8月奖金发放记录'!$E$2:$E$171,"补发7月",'8月奖金发放记录'!$A$2:$A$171,A4) -> 0 | V4: =SUMIFS('8月奖金发放记录'!$J$2:$J$171,'8月奖金发放记录'!$B$2:$B$171,B4,'8月奖金发放记录'!$E$2:$E$171,"当月",'8月奖金发放记录'!$A$2:$A$171,A4) -> 0 | W4: =SUMIFS('8月奖金发放记录'!$J$2:$J$171,'8月奖金发放记录'!$B$2:$B$171,B4,'8月奖金发放记录'!$E$2:$E$171,"累计补发8月",'8月奖金发放记录'!$A$2:$A$171,A4) -> 0 | X4: =SUM(N4:W4) -> 0 | Y4: 否
A5: 粤A00116F | B5: 刘念念 | C5: 业务二部 | D5: 1 | E5: 31 | F5: 6000 | G5: 161.2 | H5: 否 | I5: 0 | J5: 47225.81 | K5: 22556.7 | L5: 未达标 | M5: 0 | N5: =SUMIFS('8月奖金发放记录'!$J$2:$J$171,'8月奖金发放记录'!$B$2:$B$171,B5,'8月奖金发放记录'!$E$2:$E$171,"结转",'8月奖金发放记录'!$A$2:$A$171,A5) -> 0 | O5: =SUMIFS('8月奖金发放记录'!$J$2:$J$171,'8月奖金发放记录'!$B$2:$B$171,B5,'8月奖金发放记录'!$E$2:$E$171,"补发1月",'8月奖金发放记录'!$A$2:$A$171,A5) -> 0 | P5: =SUMIFS('8月奖金发放记录'!$J$2:$J$171,'8月奖金发放记录'!$B$2:$B$171,B5,'8月奖金发放记录'!$E$2:$E$171,"补发2月",'8月奖金发放记录'!$A$2:$A$171,A5) -> 0 | Q5: =SUMIFS('8月奖金发放记录'!$J$2:$J$171,'8月奖金发放记录'!$B$2:$B$171,B5,'8月奖金发放记录'!$E$2:$E$171,"补发3月",'8月奖金发放记录'!$A$2:$A$171,A5) -> 0 | R5: =SUMIFS('8月奖金发放记录'!$J$2:$J$171,'8月奖金发放记录'!$B$2:$B$171,B5,'8月奖金发放记录'!$E$2:$E$171,"补发4月",'8月奖金发放记录'!$A$2:$A$171,A5) -> 0 | S5: =SUMIFS('8月奖金发放记录'!$J$2:$J$171,'8月奖金发放记录'!$B$2:$B$171,B5,'8月奖金发放记录'!$E$2:$E$171,"补发5月",'8月奖金发放记录'!$A$2:$A$171,A5) -> 0 | T5: =SUMIFS('8月奖金发放记录'!$J$2:$J$171,'8月奖金发放记录'!$B$2:$B$171,B5,'8月奖金发放记录'!$E$2:$E$171,"补发6月",'8月奖金发放记录'!$A$2:$A$171,A5) -> 0 | U5: =SUMIFS('8月奖金发放记录'!$J$2:$J$171,'8月奖金发放记录'!$B$2:$B$171,B5,'8月奖金发放记录'!$E$2:$E$171,"补发7月",'8月奖金发放记录'!$A$2:$A$171,A5) -> 0 | V5: =SUMIFS('8月奖金发放记录'!$J$2:$J$171,'8月奖金发放记录'!$B$2:$B$171,B5,'8月奖金发放记录'!$E$2:$E$171,"当月",'8月奖金发放记录'!$A$2:$A$171,A5) -> 0 | W5: =SUMIFS('8月奖金发放记录'!$J$2:$J$171,'8月奖金发放记录'!$B$2:$B$171,B5,'8月奖金发放记录'!$E$2:$E$171,"累计补发8月",'8月奖金发放记录'!$A$2:$A$171,A5) -> 0 | X5: =SUM(N5:W5) -> 0 | Y5: 否
A6: 粤A00828F | B6: 刘念念 | C6: 业务二部 | D6: 1 | E6: 31 | F6: 6000 | G6: 1474.5 | H6: 否 | I6: 0 | J6: 31161.29 | K6: 39434.7 | L6: 达标 | M6: 0 | N6: =SUMIFS('8月奖金发放记录'!$J$2:$J$171,'8月奖金发放记录'!$B$2:$B$171,B6,'8月奖金发放记录'!$E$2:$E$171,"结转",'8月奖金发放记录'!$A$2:$A$171,A6) -> 0 | O6: =SUMIFS('8月奖金发放记录'!$J$2:$J$171,'8月奖金发放记录'!$B$2:$B$171,B6,'8月奖金发放记录'!$E$2:$E$171,"补发1月",'8月奖金发放记录'!$A$2:$A$171,A6) -> 0 | P6: =SUMIFS('8月奖金发放记录'!$J$2:$J$171,'8月奖金发放记录'!$B$2:$B$171,B6,'8月奖金发放记录'!$E$2:$E$171,"补发2月",'8月奖金发放记录'!$A$2:$A$171,A6) -> 0 | Q6: =SUMIFS('8月奖金发放记录'!$J$2:$J$171,'8月奖金发放记录'!$B$2:$B$171,B6,'8月奖金发放记录'!$E$2:$E$171,"补发3月",'8月奖金发放记录'!$A$2:$A$171,A6) -> 0 | R6: =SUMIFS('8月奖金发放记录'!$J$2:$J$171,'8月奖金发放记录'!$B$2:$B$171,B6,'8月奖金发放记录'!$E$2:$E$171,"补发4月",'8月奖金发放记录'!$A$2:$A$171,A6) -> 0 | S6: =SUMIFS('8月奖金发放记录'!$J$2:$J$171,'8月奖金发放记录'!$B$2:$B$171,B6,'8月奖金发放记录'!$E$2:$E$171,"补发5月",'8月奖金发放记录'!$A$2:$A$171,A6) -> 0 | T6: =SUMIFS('8月奖金发放记录'!$J$2:$J$171,'8月奖金发放记录'!$B$2:$B$171,B6,'8月奖金发放记录'!$E$2:$E$171,"补发6月",'8月奖金发放记录'!$A$2:$A$171,A6) -> 0 | U6: =SUMIFS('8月奖金发放记录'!$J$2:$J$171,'8月奖金发放记录'!$B$2:$B$171,B6,'8月奖金发放记录'!$E$2:$E$171,"补发7月",'8月奖金发放记录'!$A$2:$A$171,A6) -> 0 | V6: =SUMIFS('8月奖金发放记录'!$J$2:$J$171,'8月奖金发放记录'!$B$2:$B$171,B6,'8月奖金发放记录'!$E$2:$E$171,"当月",'8月奖金发放记录'!$A$2:$A$171,A6) -> 0 | W6: =SUMIFS('8月奖金发放记录'!$J$2:$J$171,'8月奖金发放记录'!$B$2:$B$171,B6,'8月奖金发放记录'!$E$2:$E$171,"累计补发8月",'8月奖金发放记录'!$A$2:$A$171,A6) -> 1000 | X6: =SUM(N6:W6) -> 1000 | Y6: 否
A7: 粤A01013F | B7: 刘念念 | C7: 业务二部 | D7: 1 | E7: 31 | F7: 6000 | G7: 553.2 | H7: 否 | I7: 0 | J7: 45290.31 | K7: 44202.4 | L7: 未达标 | M7: 0 | N7: =SUMIFS('8月奖金发放记录'!$J$2:$J$171,'8月奖金发放记录'!$B$2:$B$171,B7,'8月奖金发放记录'!$E$2:$E$171,"结转",'8月奖金发放记录'!$A$2:$A$171,A7) -> 0 | O7: =SUMIFS('8月奖金发放记录'!$J$2:$J$171,'8月奖金发放记录'!$B$2:$B$171,B7,'8月奖金发放记录'!$E$2:$E$171,"补发1月",'8月奖金发放记录'!$A$2:$A$171,A7) -> 0 | P7: =SUMIFS('8月奖金发放记录'!$J$2:$J$171,'8月奖金发放记录'!$B$2:$B$171,B7,'8月奖金发放记录'!$E$2:$E$171,"补发2月",'8月奖金发放记录'!$A$2:$A$171,A7) -> 0 | Q7: =SUMIFS('8月奖金发放记录'!$J$2:$J$171,'8月奖金发放记录'!$B$2:$B$171,B7,'8月奖金发放记录'!$E$2:$E$171,"补发3月",'8月奖金发放记录'!$A$2:$A$171,A7) -> 0 | R7: =SUMIFS('8月奖金发放记录'!$J$2:$J$171,'8月奖金发放记录'!$B$2:$B$171,B7,'8月奖金发放记录'!$E$2:$E$171,"补发4月",'8月奖金发放记录'!$A$2:$A$171,A7) -> 0 | S7: =SUMIFS('8月奖金发放记录'!$J$2:$J$171,'8月奖金发放记录'!$B$2:$B$171,B7,'8月奖金发放记录'!$E$2:$E$171,"补发5月",'8月奖金发放记录'!$A$2:$A$171,A7) -> 0 | T7: =SUMIFS('8月奖金发放记录'!$J$2:$J$171,'8月奖金发放记录'!$B$2:$B$171,B7,'8月奖金发放记录'!$E$2:$E$171,"补发6月",'8月奖金发放记录'!$A$2:$A$171,A7) -> 0 | U7: =SUMIFS('8月奖金发放记录'!$J$2:$J$171,'8月奖金发放记录'!$B$2:$B$171,B7,'8月奖金发放记录'!$E$2:$E$171,"补发7月",'8月奖金发放记录'!$A$2:$A$171,A7) -> 0 | V7: =SUMIFS('8月奖金发放记录'!$J$2:$J$171,'8月奖金发放记录'!$B$2:$B$171,B7,'8月奖金发放记录'!$E$2:$E$171,"当月",'8月奖金发放记录'!$A$2:$A$171,A7) -> 0 | W7: =SUMIFS('8月奖金发放记录'!$J$2:$J$171,'8月奖金发放记录'!$B$2:$B$171,B7,'8月奖金发放记录'!$E$2:$E$171,"累计补发8月",'8月奖金发放记录'!$A$2:$A$171,A7) -> 0 | X7: =SUM(N7:W7) -> 0 | Y7: 否
A8: 粤A01505F | B8: 刘念念 | C8: 业务二部 | D8: 1 | E8: 31 | F8: 6000 | G8: 5960.1 | H8: 否 | I8: 0 | J8: 24600 | K8: 19920.1 | L8: 未达标 | M8: 0 | N8: =SUMIFS('8月奖金发放记录'!$J$2:$J$171,'8月奖金发放记录'!$B$2:$B$171,B8,'8月奖金发放记录'!$E$2:$E$171,"结转",'8月奖金发放记录'!$A$2:$A$171,A8) -> 0 | O8: =SUMIFS('8月奖金发放记录'!$J$2:$J$171,'8月奖金发放记录'!$B$2:$B$171,B8,'8月奖金发放记录'!$E$2:$E$171,"补发1月",'8月奖金发放记录'!$A$2:$A$171,A8) -> 0 | P8: =SUMIFS('8月奖金发放记录'!$J$2:$J$171,'8月奖金发放记录'!$B$2:$B$171,B8,'8月奖金发放记录'!$E$2:$E$171,"补发2月",'8月奖金发放记录'!$A$2:$A$171,A8) -> 0 | Q8: =SUMIFS('8月奖金发放记录'!$J$2:$J$171,'8月奖金发放记录'!$B$2:$B$171,B8,'8月奖金发放记录'!$E$2:$E$171,"补发3月",'8月奖金发放记录'!$A$2:$A$171,A8) -> 0 | R8: =SUMIFS('8月奖金发放记录'!$J$2:$J$171,'8月奖金发放记录'!$B$2:$B$171,B8,'8月奖金发放记录'!$E$2:$E$171,"补发4月",'8月奖金发放记录'!$A$2:$A$171,A8) -> 0 | S8: =SUMIFS('8月奖金发放记录'!$J$2:$J$171,'8月奖金发放记录'!$B$2:$B$171,B8,'8月奖金发放记录'!$E$2:$E$171,"补发5月",'8月奖金发放记录'!$A$2:$A$171,A8) -> 0 | T8: =SUMIFS('8月奖金发放记录'!$J$2:$J$171,'8月奖金发放记录'!$B$2:$B$171,B8,'8月奖金发放记录'!$E$2:$E$171,"补发6月",'8月奖金发放记录'!$A$2:$A$171,A8) -> 0 | U8: =SUMIFS('8月奖金发放记录'!$J$2:$J$171,'8月奖金发放记录'!$B$2:$B$171,B8,'8月奖金发放记录'!$E$2:$E$171,"补发7月",'8月奖金发放记录'!$A$2:$A$171,A8) -> 0 | V8: =SUMIFS('8月奖金发放记录'!$J$2:$J$171,'8月奖金发放记录'!$B$2:$B$171,B8,'8月奖金发放记录'!$E$2:$E$171,"当月",'8月奖金发放记录'!$A$2:$A$171,A8) -> 0 | W8: =SUMIFS('8月奖金发放记录'!$J$2:$J$171,'8月奖金发放记录'!$B$2:$B$171,B8,'8月奖金发放记录'!$E$2:$E$171,"累计补发8月",'8月奖金发放记录'!$A$2:$A$171,A8) -> 0 | X8: =SUM(N8:W8) -> 0 | Y8: 否
A9: 粤A01506F | B9: 刘念念 | C9: 业务二部 | D9: 1 | E9: 31 | F9: 6000 | G9: 6000.5 | H9: 是 | I9: 1000 | J9: 41357.14 | K9: 34833.4 | L9: 未达标 | M9: 0 | N9: =SUMIFS('8月奖金发放记录'!$J$2:$J$171,'8月奖金发放记录'!$B$2:$B$171,B9,'8月奖金发放记录'!$E$2:$E$171,"结转",'8月奖金发放记录'!$A$2:$A$171,A9) -> 0 | O9: =SUMIFS('8月奖金发放记录'!$J$2:$J$171,'8月奖金发放记录'!$B$2:$B$171,B9,'8月奖金发放记录'!$E$2:$E$171,"补发1月",'8月奖金发放记录'!$A$2:$A$171,A9) -> 0 | P9: =SUMIFS('8月奖金发放记录'!$J$2:$J$171,'8月奖金发放记录'!$B$2:$B$171,B9,'8月奖金发放记录'!$E$2:$E$171,"补发2月",'8月奖金发放记录'!$A$2:$A$171,A9) -> 0 | Q9: =SUMIFS('8月奖金发放记录'!$J$2:$J$171,'8月奖金发放记录'!$B$2:$B$171,B9,'8月奖金发放记录'!$E$2:$E$171,"补发3月",'8月奖金发放记录'!$A$2:$A$171,A9) -> 0 | R9: =SUMIFS('8月奖金发放记录'!$J$2:$J$171,'8月奖金发放记录'!$B$2:$B$171,B9,'8月奖金发放记录'!$E$2:$E$171,"补发4月",'8月奖金发放记录'!$A$2:$A$171,A9) -> 0 | S9: =SUMIFS('8月奖金发放记录'!$J$2:$J$171,'8月奖金发放记录'!$B$2:$B$171,B9,'8月奖金发放记录'!$E$2:$E$171,"补发5月",'8月奖金发放记录'!$A$2:$A$171,A9) -> 0 | T9: =SUMIFS('8月奖金发放记录'!$J$2:$J$171,'8月奖金发放记录'!$B$2:$B$171,B9,'8月奖金发放记录'!$E$2:$E$171,"补发6月",'8月奖金发放记录'!$A$2:$A$171,A9) -> 0 | U9: =SUMIFS('8月奖金发放记录'!$J$2:$J$171,'8月奖金发放记录'!$B$2:$B$171,B9,'8月奖金发放记录'!$E$2:$E$171,"补发7月",'8月奖金发放记录'!$A$2:$A$171,A9) -> 0 | V9: =SUMIFS('8月奖金发放记录'!$J$2:$J$171,'8月奖金发放记录'!$B$2:$B$171,B9,'8月奖金发放记录'!$E$2:$E$171,"当月",'8月奖金发放记录'!$A$2:$A$171,A9) -> 1000 | W9: =SUMIFS('8月奖金发放记录'!$J$2:$J$171,'8月奖金发放记录'!$B$2:$B$171,B9,'8月奖金发放记录'!$E$2:$E$171,"累计补发8月",'8月奖金发放记录'!$A$2:$A$171,A9) -> 0 | X9: =SUM(N9:W9) -> 1000 | Y9: 否
A10: 粤A02007F | B10: 刘念念 | C10: 业务二部 | D10: 1 | E10: 31 | F10: 6000 | G10: 311.6 | H10: 否 | I10: 0 | J10: 47419.35 | K10: 34436.9 | L10: 未达标 | M10: 0 | N10: =SUMIFS('8月奖金发放记录'!$J$2:$J$171,'8月奖金发放记录'!$B$2:$B$171,B10,'8月奖金发放记录'!$E$2:$E$171,"结转",'8月奖金发放记录'!$A$2:$A$171,A10) -> 0 | O10: =SUMIFS('8月奖金发放记录'!$J$2:$J$171,'8月奖金发放记录'!$B$2:$B$171,B10,'8月奖金发放记录'!$E$2:$E$171,"补发1月",'8月奖金发放记录'!$A$2:$A$171,A10) -> 0 | P10: =SUMIFS('8月奖金发放记录'!$J$2:$J$171,'8月奖金发放记录'!$B$2:$B$171,B10,'8月奖金发放记录'!$E$2:$E$171,"补发2月",'8月奖金发放记录'!$A$2:$A$171,A10) -> 0 | Q10: =SUMIFS('8月奖金发放记录'!$J$2:$J$171,'8月奖金发放记录'!$B$2:$B$171,B10,'8月奖金发放记录'!$E$2:$E$171,"补发3月",'8月奖金发放记录'!$A$2:$A$171,A10) -> 0 | R10: =SUMIFS('8月奖金发放记录'!$J$2:$J$171,'8月奖金发放记录'!$B$2:$B$171,B10,'8月奖金发放记录'!$E$2:$E$171,"补发4月",'8月奖金发放记录'!$A$2:$A$171,A10) -> 0 | S10: =SUMIFS('8月奖金发放记录'!$J$2:$J$171,'8月奖金发放记录'!$B$2:$B$171,B10,'8月奖金发放记录'!$E$2:$E$171,"补发5月",'8月奖金发放记录'!$A$2:$A$171,A10) -> 0 | T10: =SUMIFS('8月奖金发放记录'!$J$2:$J$171,'8月奖金发放记录'!$B$2:$B$171,B10,'8月奖金发放记录'!$E$2:$E$171,"补发6月",'8月奖金发放记录'!$A$2:$A$171,A10) -> 0 | U10: =SUMIFS('8月奖金发放记录'!$J$2:$J$171,'8月奖金发放记录'!$B$2:$B$171,B10,'8月奖金发放记录'!$E$2:$E$171,"补发7月",'8月奖金发放记录'!$A$2:$A$171,A10) -> 0 | V10: =SUMIFS('8月奖金发放记录'!$J$2:$J$171,'8月奖金发放记录'!$B$2:$B$171,B10,'8月奖金发放记录'!$E$2:$E$171,"当月",'8月奖金发放记录'!$A$2:$A$171,A10) -> 0 | W10: =SUMIFS('8月奖金发放记录'!$J$2:$J$171,'8月奖金发放记录'!$B$2:$B$171,B10,'8月奖金发放记录'!$E$2:$E$171,"累计补发8月",'8月奖金发放记录'!$A$2:$A$171,A10) -> 0 | X10: =SUM(N10:W10) -> 0 | Y10: 否
A11: 粤A02058F | B11: 刘念念 | C11: 业务二部 | D11: 1 | E11: 31 | F11: 6000 | G11: 658 | H11: 否 | I11: 0 | J11: 20516.13 | K11: 5595.6 | L11: 未达标 | M11: 0 | N11: =SUMIFS('8月奖金发放记录'!$J$2:$J$171,'8月奖金发放记录'!$B$2:$B$171,B11,'8月奖金发放记录'!$E$2:$E$171,"结转",'8月奖金发放记录'!$A$2:$A$171,A11) -> 0 | O11: =SUMIFS('8月奖金发放记录'!$J$2:$J$171,'8月奖金发放记录'!$B$2:$B$171,B11,'8月奖金发放记录'!$E$2:$E$171,"补发1月",'8月奖金发放记录'!$A$2:$A$171,A11) -> 0 | P11: =SUMIFS('8月奖金发放记录'!$J$2:$J$171,'8月奖金发放记录'!$B$2:$B$171,B11,'8月奖金发放记录'!$E$2:$E$171,"补发2月",'8月奖金发放记录'!$A$2:$A$171,A11) -> 0 | Q11: =SUMIFS('8月奖金发放记录'!$J$2:$J$171,'8月奖金发放记录'!$B$2:$B$171,B11,'8月奖金发放记录'!$E$2:$E$171,"补发3月",'8月奖金发放记录'!$A$2:$A$171,A11) -> 0 | R11: =SUMIFS('8月奖金发放记录'!$J$2:$J$171,'8月奖金发放记录'!$B$2:$B$171,B11,'8月奖金发放记录'!$E$2:$E$171,"补发4月",'8月奖金发放记录'!$A$2:$A$171,A11) -> 0 | S11: =SUMIFS('8月奖金发放记录'!$J$2:$J$171,'8月奖金发放记录'!$B$2:$B$171,B11,'8月奖金发放记录'!$E$2:$E$171,"补发5月",'8月奖金发放记录'!$A$2:$A$171,A11) -> 0 | T11: =SUMIFS('8月奖金发放记录'!$J$2:$J$171,'8月奖金发放记录'!$B$2:$B$171,B11,'8月奖金发放记录'!$E$2:$E$171,"补发6月",'8月奖金发放记录'!$A$2:$A$171,A11) -> 0 | U11: =SUMIFS('8月奖金发放记录'!$J$2:$J$171,'8月奖金发放记录'!$B$2:$B$171,B11,'8月奖金发放记录'!$E$2:$E$171,"补发7月",'8月奖金发放记录'!$A$2:$A$171,A11) -> 0 | V11: =SUMIFS('8月奖金发放记录'!$J$2:$J$171,'8月奖金发放记录'!$B$2:$B$171,B11,'8月奖金发放记录'!$E$2:$E$171,"当月",'8月奖金发放记录'!$A$2:$A$171,A11) -> 0 | W11: =SUMIFS('8月奖金发放记录'!$J$2:$J$171,'8月奖金发放记录'!$B$2:$B$171,B11,'8月奖金发放记录'!$E$2:$E$171,"累计补发8月",'8月奖金发放记录'!$A$2:$A$171,A11) -> 0 | X11: =SUM(N11:W11) -> 0 | Y11: 否
A12: 粤A02298F | B12: 刘念念 | C12: 业务二部 | D12: 1 | E12: 31 | F12: 6000 | G12: 1072.7 | H12: 否 | I12: 0 | J12: 46838.71 | K12: 41450.7 | L12: 未达标 | M12: 0 | N12: =SUMIFS('8月奖金发放记录'!$J$2:$J$171,'8月奖金发放记录'!$B$2:$B$171,B12,'8月奖金发放记录'!$E$2:$E$171,"结转",'8月奖金发放记录'!$A$2:$A$171,A12) -> 0 | O12: =SUMIFS('8月奖金发放记录'!$J$2:$J$171,'8月奖金发放记录'!$B$2:$B$171,B12,'8月奖金发放记录'!$E$2:$E$171,"补发1月",'8月奖金发放记录'!$A$2:$A$171,A12) -> 0 | P12: =SUMIFS('8月奖金发放记录'!$J$2:$J$171,'8月奖金发放记录'!$B$2:$B$171,B12,'8月奖金发放记录'!$E$2:$E$171,"补发2月",'8月奖金发放记录'!$A$2:$A$171,A12) -> 0 | Q12: =SUMIFS('8月奖金发放记录'!$J$2:$J$171,'8月奖金发放记录'!$B$2:$B$171,B12,'8月奖金发放记录'!$E$2:$E$171,"补发3月",'8月奖金发放记录'!$A$2:$A$171,A12) -> 0 | R12: =SUMIFS('8月奖金发放记录'!$J$2:$J$171,'8月奖金发放记录'!$B$2:$B$171,B12,'8月奖金发放记录'!$E$2:$E$171,"补发4月",'8月奖金发放记录'!$A$2:$A$171,A12) -> 0 | S12: =SUMIFS('8月奖金发放记录'!$J$2:$J$171,'8月奖金发放记录'!$B$2:$B$171,B12,'8月奖金发放记录'!$E$2:$E$171,"补发5月",'8月奖金发放记录'!$A$2:$A$171,A12) -> 0 | T12: =SUMIFS('8月奖金发放记录'!$J$2:$J$171,'8月奖金发放记录'!$B$2:$B$171,B12,'8月奖金发放记录'!$E$2:$E$171,"补发6月",'8月奖金发放记录'!$A$2:$A$171,A12) -> 0 | U12: =SUMIFS('8月奖金发放记录'!$J$2:$J$171,'8月奖金发放记录'!$B$2:$B$171,B12,'8月奖金发放记录'!$E$2:$E$171,"补发7月",'8月奖金发放记录'!$A$2:$A$171,A12) -> 0 | V12: =SUMIFS('8月奖金发放记录'!$J$2:$J$171,'8月奖金发放记录'!$B$2:$B$171,B12,'8月奖金发放记录'!$E$2:$E$171,"当月",'8月奖金发放记录'!$A$2:$A$171,A12) -> 0 | W12: =SUMIFS('8月奖金发放记录'!$J$2:$J$171,'8月奖金发放记录'!$B$2:$B$171,B12,'8月奖金发放记录'!$E$2:$E$171,"累计补发8月",'8月奖金发放记录'!$A$2:$A$171,A12) -> 0 | X12: =SUM(N12:W12) -> 0 | Y12: 否
A13: 粤A03350F | B13: 刘念念 | C13: 业务二部 | D13: 1 | E13: 31 | F13: 6000 | G13: 756.9 | H13: 否 | I13: 0 | J13: 44709.68 | K13: 32139.5 | L13: 未达标 | M13: 0 | N13: =SUMIFS('8月奖金发放记录'!$J$2:$J$171,'8月奖金发放记录'!$B$2:$B$171,B13,'8月奖金发放记录'!$E$2:$E$171,"结转",'8月奖金发放记录'!$A$2:$A$171,A13) -> 0 | O13: =SUMIFS('8月奖金发放记录'!$J$2:$J$171,'8月奖金发放记录'!$B$2:$B$171,B13,'8月奖金发放记录'!$E$2:$E$171,"补发1月",'8月奖金发放记录'!$A$2:$A$171,A13) -> 0 | P13: =SUMIFS('8月奖金发放记录'!$J$2:$J$171,'8月奖金发放记录'!$B$2:$B$171,B13,'8月奖金发放记录'!$E$2:$E$171,"补发2月",'8月奖金发放记录'!$A$2:$A$171,A13) -> 0 | Q13: =SUMIFS('8月奖金发放记录'!$J$2:$J$171,'8月奖金发放记录'!$B$2:$B$171,B13,'8月奖金发放记录'!$E$2:$E$171,"补发3月",'8月奖金发放记录'!$A$2:$A$171,A13) -> 0 | R13: =SUMIFS('8月奖金发放记录'!$J$2:$J$171,'8月奖金发放记录'!$B$2:$B$171,B13,'8月奖金发放记录'!$E$2:$E$171,"补发4月",'8月奖金发放记录'!$A$2:$A$171,A13) -> 0 | S13: =SUMIFS('8月奖金发放记录'!$J$2:$J$171,'8月奖金发放记录'!$B$2:$B$171,B13,'8月奖金发放记录'!$E$2:$E$171,"补发5月",'8月奖金发放记录'!$A$2:$A$171,A13) -> 0 | T13: =SUMIFS('8月奖金发放记录'!$J$2:$J$171,'8月奖金发放记录'!$B$2:$B$171,B13,'8月奖金发放记录'!$E$2:$E$171,"补发6月",'8月奖金发放记录'!$A$2:$A$171,A13) -> 0 | U13: =SUMIFS('8月奖金发放记录'!$J$2:$J$171,'8月奖金发放记录'!$B$2:$B$171,B13,'8月奖金发放记录'!$E$2:$E$171,"补发7月",'8月奖金发放记录'!$A$2:$A$171,A13) -> 0 | V13: =SUMIFS('8月奖金发放记录'!$J$2:$J$171,'8月奖金发放记录'!$B$2:$B$171,B13,'8月奖金发放记录'!$E$2:$E$171,"当月",'8月奖金发放记录'!$A$2:$A$171,A13) -> 0 | W13: =SUMIFS('8月奖金发放记录'!$J$2:$J$171,'8月奖金发放记录'!$B$2:$B$171,B13,'8月奖金发放记录'!$E$2:$E$171,"累计补发8月",'8月奖金发放记录'!$A$2:$A$171,A13) -> 0 | X13: =SUM(N13:W13) -> 0 | Y13: 否
... A361: 粤A08681F | B361: 陈高伟 | C361: 业务一部 | D361: 1 | E361: 13 | F361: 2516.13 | G361: 173 | H361: 否 | I361: 0 | J361: 4838.71 | K361: 623.4 | L361: 未达标 | M361: 0 | N361: =SUMIFS('8月奖金发放记录'!$J$2:$J$171,'8月奖金发放记录'!$B$2:$B$171,B361,'8月奖金发放记录'!$E$2:$E$171,"结转",'8月奖金发放记录'!$A$2:$A$171,A361) -> 0 | O361: =SUMIFS('8月奖金发放记录'!$J$2:$J$171,'8月奖金发放记录'!$B$2:$B$171,B361,'8月奖金发放记录'!$E$2:$E$171,"补发1月",'8月奖金发放记录'!$A$2:$A$171,A361) -> 0 | P361: =SUMIFS('8月奖金发放记录'!$J$2:$J$171,'8月奖金发放记录'!$B$2:$B$171,B361,'8月奖金发放记录'!$E$2:$E$171,"补发2月",'8月奖金发放记录'!$A$2:$A$171,A361) -> 0 | Q361: =SUMIFS('8月奖金发放记录'!$J$2:$J$171,'8月奖金发放记录'!$B$2:$B$171,B361,'8月奖金发放记录'!$E$2:$E$171,"补发3月",'8月奖金发放记录'!$A$2:$A$171,A361) -> 0 | R361: =SUMIFS('8月奖金发放记录'!$J$2:$J$171,'8月奖金发放记录'!$B$2:$B$171,B361,'8月奖金发放记录'!$E$2:$E$171,"补发4月",'8月奖金发放记录'!$A$2:$A$171,A361) -> 0 | S361: =SUMIFS('8月奖金发放记录'!$J$2:$J$171,'8月奖金发放记录'!$B$2:$B$171,B361,'8月奖金发放记录'!$E$2:$E$171,"补发5月",'8月奖金发放记录'!$A$2:$A$171,A361) -> 0 | T361: =SUMIFS('8月奖金发放记录'!$J$2:$J$171,'8月奖金发放记录'!$B$2:$B$171,B361,'8月奖金发放记录'!$E$2:$E$171,"补发6月",'8月奖金发放记录'!$A$2:$A$171,A361) -> 0 | U361: =SUMIFS('8月奖金发放记录'!$J$2:$J$171,'8月奖金发放记录'!$B$2:$B$171,B361,'8月奖金发放记录'!$E$2:$E$171,"补发7月",'8月奖金发放记录'!$A$2:$A$171,A361) -> 0 | V361: =SUMIFS('8月奖金发放记录'!$J$2:$J$171,'8月奖金发放记录'!$B$2:$B$171,B361,'8月奖金发放记录'!$E$2:$E$171,"当月",'8月奖金发放记录'!$A$2:$A$171,A361) -> 0 | W361: =SUMIFS('8月奖金发放记录'!$J$2:$J$171,'8月奖金发放记录'!$B$2:$B$171,B361,'8月奖金发放记录'!$E$2:$E$171,"累计补发8月",'8月奖金发放记录'!$A$2:$A$171,A361) -> 0 | X361: =SUM(N361:W361) -> 0 | Y361: 否

Sheet 车辆考核追踪
A1: 车牌号 | B1: 车架号 | C1: 归属公司 | D1: 车型 | E1: 考核目标 | F1: 月度奖励 | G1: 业务员 | H1: 1月应考核 | I1: 1月实际 | J1: 1月达标 | K1: 2月应考核 | L1: 2月实际 | M1: 2月达标 | N1: 3月应考核 | O1: 3月实际 | P1: 3月达标 | Q1: 4月应考核 | R1: 4月实际 | S1: 4月达标 | T1: 5月应考核 | U1: 5月实际 | V1: 5月达标 | W1: 6月应考核 | X1: 6月实际 | Y1: 6月达标 | Z1: 7月应考核 | AA1: 7月实际 | AB1: 7月达标 | AC1: 8月应考核 | AD1: 8月实际 | AE1: 8月达标 | AF1: 累计应完成 | AG1: 累计实际 | AH1: 累计达标 | AI1: 客户名称 | AJ1: 客户是否亏损 | AK1: 考核应发 | AL1: 最终发放 | AM1: 未发放原因 | AN1: 本月无考核记录
A2: 粤AGP5613 | B2: LB9A32A22R0LS1635 | C2: 羚牛氢能科技(广东)有限公司 | D2: 4.5吨冷链车 | E2: 羚牛136辆4.5T冷链车 | F2: 300 | G2: 何文斌 | Z2: 2741.94 | AA2: 3534.6 | AB2: ✓ | AC2: 161.29 | AD2: 213.3 | AE2: ✓ | AF2: 2903.23 | AG2: 3747.9 | AH2: ✓ | AI2: 广州智卡物流供应链有限公司 | AJ2: 暂不处理 | AK2: =SUMIFS('8月奖金发放记录'!$G$2:$G$171,'8月奖金发放记录'!$B$2:$B$171,G2,'8月奖金发放记录'!$A$2:$A$171,A2) -> 9.68 | AL2: =SUMIFS('8月奖金发放记录'!$J$2:$J$171,'8月奖金发放记录'!$B$2:$B$171,G2,'8月奖金发放记录'!$A$2:$A$171,A2) -> 0 | AM2: 未满足本月奖励、结转或补发条件 | AN2: 否
A3: 粤AGP9351 | B3: LB9A32A28R0LS1607 | C3: 羚牛氢能科技(广东)有限公司 | D3: 4.5吨冷链车 | E3: 羚牛136辆4.5T冷链车 | F3: 300 | G3: 何文斌 | Z3: 2741.94 | AA3: 2431 | AB3: ✗ | AC3: 161.29 | AD3: 123 | AE3: ✗ | AF3: 2903.23 | AG3: 2554 | AH3: ✗ | AI3: 广州智卡物流供应链有限公司 | AJ3: 暂不处理 | AK3: =SUMIFS('8月奖金发放记录'!$G$2:$G$171,'8月奖金发放记录'!$B$2:$B$171,G3,'8月奖金发放记录'!$A$2:$A$171,A3) -> 0 | AL3: =SUMIFS('8月奖金发放记录'!$J$2:$J$171,'8月奖金发放记录'!$B$2:$B$171,G3,'8月奖金发放记录'!$A$2:$A$171,A3) -> 0 | AM3: 未满足本月奖励、结转或补发条件 | AN3: 否
A4: 粤AGP9773 | B4: LB9A32A27R0LS1548 | C4: 广州开发区交投氢能运营管理有限公司 | D4: 4.5吨冷链车 | E4: 交投190辆4.5T冷链车 | F4: 150 | G4: 何文斌 | AC4: 1548.39 | AD4: 594.8 | AE4: ✗ | AF4: 1548.39 | AG4: 594.8 | AH4: ✗ | AI4: 广州超俊供应链有限公司 | AJ4: 暂不处理 | AK4: =SUMIFS('8月奖金发放记录'!$G$2:$G$171,'8月奖金发放记录'!$B$2:$B$171,G4,'8月奖金发放记录'!$A$2:$A$171,A4) -> 0 | AL4: =SUMIFS('8月奖金发放记录'!$J$2:$J$171,'8月奖金发放记录'!$B$2:$B$171,G4,'8月奖金发放记录'!$A$2:$A$171,A4) -> 0 | AM4: 未满足本月奖励、结转或补发条件 | AN4: 否
A5: 粤A00116F | B5: LNXNEGRR9SR318213 | C5: 羚牛氢能科技(广东)有限公司 | D5: 18吨双飞翼货车 | E5: 羚牛100辆18T | F5: 1000 | G5: 刘念念 | H5: 5032.26 | I5: 3360.9 | J5: ✗ | K5: 6000 | L5: 0.2 | M5: ✗ | N5: 6000 | O5: 5303.6 | P5: ✗ | Q5: 6000 | R5: 7704.5 | S5: ✓ | T5: 6193.55 | U5: 4580.8 | V5: ✗ | W5: 6000 | X5: 685.3 | Y5: ✗ | Z5: 6000 | AA5: 760.2 | AB5: ✗ | AC5: 6000 | AD5: 161.2 | AE5: ✗ | AF5: 47225.81 | AG5: 22556.7 | AH5: ✗ | AI5: 嘉兴市京宝物流有限公司 | AJ5: 暂不处理 | AK5: =SUMIFS('8月奖金发放记录'!$G$2:$G$171,'8月奖金发放记录'!$B$2:$B$171,G5,'8月奖金发放记录'!$A$2:$A$171,A5) -> 0 | AL5: =SUMIFS('8月奖金发放记录'!$J$2:$J$171,'8月奖金发放记录'!$B$2:$B$171,G5,'8月奖金发放记录'!$A$2:$A$171,A5) -> 0 | AM5: 未满足本月奖励、结转或补发条件 | AN5: 否
A6: 粤A00828F | B6: LNXNEGRR0SR319444 | C6: 羚牛氢能科技(广东)有限公司 | D6: 18吨双飞翼货车 | E6: 羚牛100辆18T | F6: 1000 | G6: 刘念念 | N6: 1161.29 | O6: 2472.8 | P6: ✓ | Q6: 6000 | R6: 11145.9 | S6: ✓ | T6: 6000 | U6: 11262.7 | V6: ✓ | W6: 6000 | X6: 10851.6 | Y6: ✓ | Z6: 6000 | AA6: 2227.2 | AB6: ✗ | AC6: 6000 | AD6: 1474.5 | AE6: ✗ | AF6: 31161.29 | AG6: 39434.7 | AH6: ✓ | AI6: 苏州望亭远方物流有限公司 | AJ6: 暂不处理 | AK6: =SUMIFS('8月奖金发放记录'!$G$2:$G$171,'8月奖金发放记录'!$B$2:$B$171,G6,'8月奖金发放记录'!$A$2:$A$171,A6) -> 1000 | AL6: =SUMIFS('8月奖金发放记录'!$J$2:$J$171,'8月奖金发放记录'!$B$2:$B$171,G6,'8月奖金发放记录'!$A$2:$A$171,A6) -> 1000 | AN6: 否
A7: 粤A01013F | B7: LNXNEGRR5SR318208 | C7: 羚牛氢能科技(广东)有限公司 | D7: 18吨双飞翼货车 | E7: 羚牛100辆18T | F7: 1000 | G7: 刘念念 | H7: 3096.77 | I7: 5432.4 | J7: ✓ | K7: 6000 | L7: 8908.1 | M7: ✓ | N7: 6000 | O7: 12352 | P7: ✓ | Q7: 6000 | R7: 12029.4 | S7: ✓ | T7: 6193.54 | U7: 4331.7 | V7: ✗ | W7: 6000 | X7: 367.2 | Y7: ✗ | Z7: 6000 | AA7: 228.4 | AB7: ✗ | AC7: 6000 | AD7: 553.2 | AE7: ✗ | AF7: 45290.31 | AG7: 44202.4 | AH7: ✗ | AI7: 嘉兴市京宝物流有限公司 | AJ7: 暂不处理 | AK7: =SUMIFS('8月奖金发放记录'!$G$2:$G$171,'8月奖金发放记录'!$B$2:$B$171,G7,'8月奖金发放记录'!$A$2:$A$171,A7) -> 0 | AL7: =SUMIFS('8月奖金发放记录'!$J$2:$J$171,'8月奖金发放记录'!$B$2:$B$171,G7,'8月奖金发放记录'!$A$2:$A$171,A7) -> 0 | AM7: 未满足本月奖励、结转或补发条件 | AN7: 否
A8: 粤A01505F | B8: LNXNEGRR8SR319448 | C8: 羚牛氢能科技(广东)有限公司 | D8: 18吨双飞翼货车 | E8: 羚牛100辆18T | F8: 1000 | G8: 刘念念 | Q8: 600 | R8: 490.9 | S8: ✗ | T8: 6000 | U8: 5250.8 | V8: ✗ | W8: 6000 | X8: 5490.6 | Y8: ✗ | Z8: 6000 | AA8: 2727.7 | AB8: ✗ | AC8: 6000 | AD8: 5960.1 | AE8: ✗ | AF8: 24600 | AG8: 19920.1 | AH8: ✗ | AI8: 上海利合供应链管理有限公司 (二部) | AJ8: 暂不处理 | AK8: =SUMIFS('8月奖金发放记录'!$G$2:$G$171,'8月奖金发放记录'!$B$2:$B$171,G8,'8月奖金发放记录'!$A$2:$A$171,A8) -> 0 | AL8: =SUMIFS('8月奖金发放记录'!$J$2:$J$171,'8月奖金发放记录'!$B$2:$B$171,G8,'8月奖金发放记录'!$A$2:$A$171,A8) -> 0 | AM8: 未满足本月奖励、结转或补发条件 | AN8: 否
A9: 粤A01506F | B9: LNXNEGRR8SR319451 | C9: 羚牛氢能科技(广东)有限公司 | D9: 18吨双飞翼货车 | E9: 羚牛100辆18T | F9: 1000 | G9: 刘念念 | K9: 5357.14 | L9: 1280.3 | M9: ✗ | N9: 6000 | O9: 5869.4 | P9: ✗ | Q9: 6000 | R9: 5132.5 | S9: ✗ | T9: 6000 | U9: 5177.3 | V9: ✗ | W9: 6000 | X9: 6413.5 | Y9: ✓ | Z9: 6000 | AA9: 4959.9 | AB9: ✗ | AC9: 6000 | AD9: 6000.5 | AE9: ✓ | AF9: 41357.14 | AG9: 34833.4 | AH9: ✗ | AI9: 上海利合供应链管理有限公司 (二部) | AJ9: 暂不处理 | AK9: =SUMIFS('8月奖金发放记录'!$G$2:$G$171,'8月奖金发放记录'!$B$2:$B$171,G9,'8月奖金发放记录'!$A$2:$A$171,A9) -> 1000 | AL9: =SUMIFS('8月奖金发放记录'!$J$2:$J$171,'8月奖金发放记录'!$B$2:$B$171,G9,'8月奖金发放记录'!$A$2:$A$171,A9) -> 1000 | AN9: 否
A10: 粤A02007F | B10: LNXNEGRR7SR319487 | C10: 羚牛氢能科技(广东)有限公司 | D10: 18吨双飞翼货车 | E10: 羚牛100辆18T | F10: 1000 | G10: 刘念念 | H10: 5225.81 | I10: 6896 | J10: ✓ | K10: 6000 | L10: 6339.7 | M10: ✓ | N10: 6000 | O10: 6512.4 | P10: ✓ | Q10: 6000 | R10: 10520.2 | S10: ✓ | T10: 6193.54 | U10: 3325 | V10: ✗ | W10: 6000 | X10: 483.1 | Y10: ✗ | Z10: 6000 | AA10: 48.9 | AB10: ✗ | AC10: 6000 | AD10: 311.6 | AE10: ✗ | AF10: 47419.35 | AG10: 34436.9 | AH10: ✗ | AI10: 嘉兴市京宝物流有限公司 | AJ10: 暂不处理 | AK10: =SUMIFS('8月奖金发放记录'!$G$2:$G$171,'8月奖金发放记录'!$B$2:$B$171,G10,'8月奖金发放记录'!$A$2:$A$171,A10) -> 0 | AL10: =SUMIFS('8月奖金发放记录'!$J$2:$J$171,'8月奖金发放记录'!$B$2:$B$171,G10,'8月奖金发放记录'!$A$2:$A$171,A10) -> 0 | AM10: 未满足本月奖励、结转或补发条件 | AN10: 否
A11: 粤A02058F | B11: LNXNEGRR4SR319480 | C11: 羚牛氢能科技(广东)有限公司 | D11: 18吨双飞翼货车 | E11: 羚牛100辆18T | F11: 1000 | G11: 刘念念 | K11: 4928.57 | L11: 2901.6 | M11: ✗ | N11: 5419.35 | O11: 2302.9 | P11: ✗ | T11: 2516.13 | U11: 254.8 | V11: ✗ | W11: 6000 | X11: 3773.6 | Y11: ✗ | Z11: 6000 | AA11: 909.2 | AB11: ✗ | AC11: 6000 | AD11: 658 | AE11: ✗ | AF11: 20516.13 | AG11: 5595.6 | AH11: ✗ | AI11: 嘉兴市京宝物流有限公司 | AJ11: 暂不处理 | AK11: =SUMIFS('8月奖金发放记录'!$G$2:$G$171,'8月奖金发放记录'!$B$2:$B$171,G11,'8月奖金发放记录'!$A$2:$A$171,A11) -> 0 | AL11: =SUMIFS('8月奖金发放记录'!$J$2:$J$171,'8月奖金发放记录'!$B$2:$B$171,G11,'8月奖金发放记录'!$A$2:$A$171,A11) -> 0 | AM11: 未满足本月奖励、结转或补发条件 | AN11: 否
A12: 粤A02298F | B12: LNXNEGRR0SR321372 | C12: 羚牛氢能科技(广东)有限公司 | D12: 18吨双飞翼货车 | E12: 羚牛100辆18T | F12: 1000 | G12: 刘念念 | H12: 5032.26 | I12: 7545.3 | J12: ✓ | K12: 6000 | L12: 6233.2 | M12: ✓ | N12: 6000 | O12: 10051.7 | P12: ✓ | Q12: 6000 | R12: 10756.2 | S12: ✓ | T12: 5806.45 | U12: 5339.7 | V12: ✗ | W12: 6000 | X12: 311.5 | Y12: ✗ | Z12: 6000 | AA12: 140.4 | AB12: ✗ | AC12: 6000 | AD12: 1072.7 | AE12: ✗ | AF12: 46838.71 | AG12: 41450.7 | AH12: ✗ | AI12: 嘉兴市京宝物流有限公司 | AJ12: 暂不处理 | AK12: =SUMIFS('8月奖金发放记录'!$G$2:$G$171,'8月奖金发放记录'!$B$2:$B$171,G12,'8月奖金发放记录'!$A$2:$A$171,A12) -> 0 | AL12: =SUMIFS('8月奖金发放记录'!$J$2:$J$171,'8月奖金发放记录'!$B$2:$B$171,G12,'8月奖金发放记录'!$A$2:$A$171,A12) -> 0 | AM12: 未满足本月奖励、结转或补发条件 | AN12: 否
A13: 粤A03350F | B13: LNXNEGRR3SR319485 | C13: 羚牛氢能科技(广东)有限公司 | D13: 18吨双飞翼货车 | E13: 羚牛100辆18T | F13: 1000 | G13: 刘念念 | H13: 2903.23 | I13: 4462.9 | J13: ✓ | K13: 6000 | L13: 836.4 | M13: ✗ | N13: 6000 | O13: 12162 | P13: ✓ | Q13: 6000 | R13: 9826.1 | S13: ✓ | T13: 5806.45 | U13: 3544.2 | V13: ✗ | W13: 6000 | X13: 294.7 | Y13: ✗ | Z13: 6000 | AA13: 256.3 | AB13: ✗ | AC13: 6000 | AD13: 756.9 | AE13: ✗ | AF13: 44709.68 | AG13: 32139.5 | AH13: ✗ | AI13: 嘉兴市京宝物流有限公司 | AJ13: 暂不处理 | AK13: =SUMIFS('8月奖金发放记录'!$G$2:$G$171,'8月奖金发放记录'!$B$2:$B$171,G13,'8月奖金发放记录'!$A$2:$A$171,A13) -> 0 | AL13: =SUMIFS('8月奖金发放记录'!$J$2:$J$171,'8月奖金发放记录'!$B$2:$B$171,G13,'8月奖金发放记录'!$A$2:$A$171,A13) -> 0 | AM13: 未满足本月奖励、结转或补发条件 | AN13: 否
A14: 粤A03517F | B14: LNXNEGRR4SR321374 | C14: 羚牛氢能科技(广东)有限公司 | D14: 18吨双飞翼货车 | E14: 羚牛100辆18T | F14: 1000 | G14: 刘念念 | N14: 2516.13 | O14: 3699.3 | P14: ✓ | Q14: 6000 | R14: 7673.6 | S14: ✓ | T14: 6000 | U14: 11301.9 | V14: ✓ | W14: 6000 | X14: 3687.8 | Y14: ✗ | Z14: 6000 | AA14: 1507.1 | AB14: ✗ | AC14: 6000 | AD14: 1688.6 | AE14: ✗ | AF14: 32516.13 | AG14: 29558.3 | AH14: ✗ | AI14: 嘉兴市南湖区新丰镇乐果货物运输服务部（个体工商户） | AJ14: 暂不处理 | AK14: =SUMIFS('8月奖金发放记录'!$G$2:$G$171,'8月奖金发放记录'!$B$2:$B$171,G14,'8月奖金发放记录'!$A$2:$A$171,A14) -> 0 | AL14: =SUMIFS('8月奖金发放记录'!$J$2:$J$171,'8月奖金发放记录'!$B$2:$B$171,G14,'8月奖金发放记录'!$A$2:$A$171,A14) -> 0 | AM14: 未满足本月奖励、结转或补发条件 | AN14: 否
A15: 粤A03676F | B15: LNXNEGRR0SR319458 | C15: 羚牛氢能科技(广东)有限公司 | D15: 18吨双飞翼货车 | E15: 羚牛100辆18T | F15: 1000 | G15: 刘念念 | N15: 1741.94 | O15: 2417 | P15: ✓ | Q15: 6200 | R15: 6031 | S15: ✗ | T15: 6000 | U15: 8266.7 | V15: ✓ | W15: 6000 | X15: 6887.5 | Y15: ✓ | Z15: 4838.71 | AA15: 2324 | AB15: ✗ | AC15: 6000 | AD15: 1478.5 | AE15: ✗ | AF15: 30780.65 | AG15: 27404.7 | AH15: ✗ | AI15: 嘉兴市南湖区大桥镇雪观运输装卸服务站 | AJ15: 暂不处理 | AK15: =SUMIFS('8月奖金发放记录'!$G$2:$G$171,'8月奖金发放记录'!$B$2:$B$171,G15,'8月奖金发放记录'!$A$2:$A$171,A15) -> 0 | AL15: =SUMIFS('8月奖金发放记录'!$J$2:$J$171,'8月奖金发放记录'!$B$2:$B$171,G15,'8月奖金发放记录'!$A$2:$A$171,A15) -> 0 | AM15: 未满足本月奖励、结转或补发条件 | AN15: 否
A16: 粤A05609F | B16: LNXNEGRR7SR319456 | C16: 羚牛氢能科技(广东)有限公司 | D16: 18吨双飞翼货车 | E16: 羚牛100辆18T | F16: 1000 | G16: 刘念念 | H16: 3677.42 | I16: 1435.6 | J16: ✗ | K16: 6000 | L16: 943.9 | M16: ✗ | N16: 6000 | O16: 6576.9 | P16: ✓ | Q16: 6000 | R16: 7551.7 | S16: ✓ | T16: 6000 | U16: 5895 | V16: ✗ | W16: 6000 | X16: 7747.2 | Y16: ✓ | Z16: 5419.35 | AA16: 285.3 | AB16: ✗ | AC16: 6000 | AD16: 458.1 | AE16: ✗ | AF16: 45096.77 | AG16: 30893.7 | AH16: ✗ | AI16: 嘉兴市京宝物流有限公司 | AJ16: 暂不处理 | AK16: =SUMIFS('8月奖金发放记录'!$G$2:$G$171,'8月奖金发放记录'!$B$2:$B$171,G16,'8月奖金发放记录'!$A$2:$A$171,A16) -> 0 | AL16: =SUMIFS('8月奖金发放记录'!$J$2:$J$171,'8月奖金发放记录'!$B$2:$B$171,G16,'8月奖金发放记录'!$A$2:$A$171,A16) -> 0 | AM16: 未满足本月奖励、结转或补发条件 | AN16: 否
A17: 粤A05650F | B17: LNXNEGRR2SR318201 | C17: 羚牛氢能科技(广东)有限公司 | D17: 18吨双飞翼货车 | E17: 羚牛100辆18T | F17: 1000 | G17: 刘念念 | N17: 2516.13 | O17: 1288.8 | P17: ✗ | Q17: 6000 | R17: 2035.8 | S17: ✗ | T17: 6000 | U17: 2467.2 | V17: ✗ | W17: 3600 | X17: 1649.6 | Y17: ✗ | Z17: 3096.77 | AA17: 2994.9 | AB17: ✗ | AC17: 3290.32 | AD17: 1728.7 | AE17: ✗ | AF17: 24503.22 | AG17: 12165 | AH17: ✗ | AI17: 嘉兴港区众通快递有限公司 | AJ17: 暂不处理 | AK17: =SUMIFS('8月奖金发放记录'!$G$2:$G$171,'8月奖金发放记录'!$B$2:$B$171,G17,'8月奖金发放记录'!$A$2:$A$171,A17) -> 0 | AL17: =SUMIFS('8月奖金发放记录'!$J$2:$J$171,'8月奖金发放记录'!$B$2:$B$171,G17,'8月奖金发放记录'!$A$2:$A$171,A17) -> 0 | AM17: 未满足本月奖励、结转或补发条件 | AN17: 否
A18: 粤A05809F | B18: LNXNEGRRXSR318205 | C18: 羚牛氢能科技(广东)有限公司 | D18: 18吨双飞翼货车 | E18: 羚牛100辆18T | F18: 1000 | G18: 刘念念 | H18: 5032.26 | I18: 8877.2 | J18: ✓ | K18: 6000 | L18: 7883.9 | M18: ✓ | N18: 6000 | O18: 13240.8 | P18: ✓ | Q18: 6200 | R18: 6707.9 | S18: ✓ | T18: 6000 | U18: 446.3 | V18: ✗ | W18: 6000 | X18: 643.8 | Y18: ✗ | Z18: 6000 | AA18: 149.9 | AB18: ✗ | AC18: 6000 | AD18: 471.1 | AE18: ✗ | AF18: 47232.26 | AG18: 38420.9 | AH18: ✗ | AI18: 嘉兴市京宝物流有限公司 | AJ18: 暂不处理 | AK18: =SUMIFS('8月奖金发放记录'!$G$2:$G$171,'8月奖金发放记录'!$B$2:$B$171,G18,'8月奖金发放记录'!$A$2:$A$171,A18) -> 0 | AL18: =SUMIFS('8月奖金发放记录'!$J$2:$J$171,'8月奖金发放记录'!$B$2:$B$171,G18,'8月奖金发放记录'!$A$2:$A$171,A18) -> 0 | AM18: 未满足本月奖励、结转或补发条件 | AN18: 否
A19: 粤A05906F | B19: LNXNEGRR2SR319462 | C19: 羚牛氢能科技(广东)有限公司 | D19: 18吨双飞翼货车 | E19: 羚牛100辆18T | F19: 1000 | G19: 刘念念 | N19: 1741.94 | O19: 1550.4 | P19: ✗ | Q19: 6200 | R19: 4392 | S19: ✗ | T19: 6000 | U19: 9051.6 | V19: ✓ | W19: 6000 | X19: 10525.6 | Y19: ✓ | Z19: 6000 | AA19: 0 | AB19: ✗ | AC19: 6000 | AD19: 2894.2 | AE19: ✗ | AF19: 31941.94 | AG19: 28413.8 | AH19: ✗ | AI19: 嘉兴智奇供应链管理有限公司 | AJ19: 暂不处理 | AK19: =SUMIFS('8月奖金发放记录'!$G$2:$G$171,'8月奖金发放记录'!$B$2:$B$171,G19,'8月奖金发放记录'!$A$2:$A$171,A19) -> 0 | AL19: =SUMIFS('8月奖金发放记录'!$J$2:$J$171,'8月奖金发放记录'!$B$2:$B$171,G19,'8月奖金发放记录'!$A$2:$A$171,A19) -> 0 | AM19: 未满足本月奖励、结转或补发条件 | AN19: 否
A20: 粤A06177F | B20: LNXNEGRR4SR321391 | C20: 羚牛氢能科技(广东)有限公司 | D20: 18吨双飞翼货车 | E20: 羚牛100辆18T | F20: 1000 | G20: 刘念念 | H20: 4838.71 | I20: 2106.7 | J20: ✗ | K20: 6000 | L20: 0 | M20: ✗ | N20: 6000 | O20: 5854.4 | P20: ✗ | Q20: 6000 | R20: 9559.9 | S20: ✓ | T20: 6193.55 | U20: 3398.9 | V20: ✗ | W20: 6000 | X20: 472.7 | Y20: ✗ | Z20: 6000 | AA20: 708.3 | AB20: ✗ | AC20: 6000 | AD20: 551.9 | AE20: ✗ | AF20: 47032.26 | AG20: 22652.8 | AH20: ✗ | AI20: 嘉兴市京宝物流有限公司 | AJ20: 暂不处理 | AK20: =SUMIFS('8月奖金发放记录'!$G$2:$G$171,'8月奖金发放记录'!$B$2:$B$171,G20,'8月奖金发放记录'!$A$2:$A$171,A20) -> 0 | AL20: =SUMIFS('8月奖金发放记录'!$J$2:$J$171,'8月奖金发放记录'!$B$2:$B$171,G20,'8月奖金发放记录'!$A$2:$A$171,A20) -> 0 | AM20: 未满足本月奖励、结转或补发条件 | AN20: 否
A21: 粤A06271F | B21: LNXNEGRR8SR319479 | C21: 羚牛氢能科技(广东)有限公司 | D21: 18吨双飞翼货车 | E21: 羚牛100辆18T | F21: 1000 | G21: 刘念念 | T21: 2516.13 | U21: 355.8 | V21: ✗ | W21: 6000 | X21: 5644.7 | Y21: ✗ | Z21: 6000 | AA21: 3156.7 | AB21: ✗ | AC21: 6000 | AD21: 618.4 | AE21: ✗ | AF21: 20516.13 | AG21: 9775.6 | AH21: ✗ | AI21: 嘉兴市京宝物流有限公司 | AJ21: 暂不处理 | AK21: =SUMIFS('8月奖金发放记录'!$G$2:$G$171,'8月奖金发放记录'!$B$2:$B$171,G21,'8月奖金发放记录'!$A$2:$A$171,A21) -> 0 | AL21: =SUMIFS('8月奖金发放记录'!$J$2:$J$171,'8月奖金发放记录'!$B$2:$B$171,G21,'8月奖金发放记录'!$A$2:$A$171,A21) -> 0 | AM21: 未满足本月奖励、结转或补发条件 | AN21: 否
A22: 粤A06619F | B22: LNXNEGRRXSR319449 | C22: 羚牛氢能科技(广东)有限公司 | D22: 18吨双飞翼货车 | E22: 羚牛100辆18T | F22: 1000 | G22: 刘念念 | T22: 2516.13 | U22: 369.4 | V22: ✗ | W22: 6000 | X22: 687 | Y22: ✗ | Z22: 6000 | AA22: 831 | AB22: ✗ | AC22: 6000 | AD22: 267.5 | AE22: ✗ | AF22: 20516.13 | AG22: 2154.9 | AH22: ✗ | AI22: 嘉兴市京宝物流有限公司 | AJ22: 暂不处理 | AK22: =SUMIFS('8月奖金发放记录'!$G$2:$G$171,'8月奖金发放记录'!$B$2:$B$171,G22,'8月奖金发放记录'!$A$2:$A$171,A22) -> 0 | AL22: =SUMIFS('8月奖金发放记录'!$J$2:$J$171,'8月奖金发放记录'!$B$2:$B$171,G22,'8月奖金发放记录'!$A$2:$A$171,A22) -> 0 | AM22: 未满足本月奖励、结转或补发条件 | AN22: 否
A23: 粤A06632F | B23: LNXNEGRR3SR321396 | C23: 羚牛氢能科技(广东)有限公司 | D23: 18吨双飞翼货车 | E23: 羚牛100辆18T | F23: 1000 | G23: 刘念念 | H23: 3677.42 | I23: 1156.8 | J23: ✗ | K23: 6000 | L23: 0 | M23: ✗ | N23: 6000 | O23: 4925.2 | P23: ✗ | Q23: 6000 | R23: 6427.4 | S23: ✓ | T23: 6000 | U23: 11292.1 | V23: ✓ | W23: 6000 | X23: 10104.2 | Y23: ✓ | Z23: 5612.91 | AA23: 4150 | AB23: ✗ | AC23: 6000 | AD23: 1152.9 | AE23: ✗ | AF23: 45290.33 | AG23: 39208.6 | AH23: ✗ | AI23: 上海昕海供应链管理有限公司 | AJ23: 暂不处理 | AK23: =SUMIFS('8月奖金发放记录'!$G$2:$G$171,'8月奖金发放记录'!$B$2:$B$171,G23,'8月奖金发放记录'!$A$2:$A$171,A23) -> 0 | AL23: =SUMIFS('8月奖金发放记录'!$J$2:$J$171,'8月奖金发放记录'!$B$2:$B$171,G23,'8月奖金发放记录'!$A$2:$A$171,A23) -> 0 | AM23: 未满足本月奖励、结转或补发条件 | AN23: 否
A24: 粤A07577F | B24: LNXNEGRRXSR319483 | C24: 羚牛氢能科技(广东)有限公司 | D24: 18吨双飞翼货车 | E24: 羚牛100辆18T | F24: 1000 | G24: 刘念念 | N24: 1161.29 | O24: 2422.9 | P24: ✓ | Q24: 6000 | R24: 10296.1 | S24: ✓ | T24: 6000 | U24: 13707.1 | V24: ✓ | W24: 6000 | X24: 11502.8 | Y24: ✓ | Z24: 5419.36 | AA24: 1432.9 | AB24: ✗ | AC24: 6000 | AD24: 1426.9 | AE24: ✗ | AF24: 30580.65 | AG24: 40788.7 | AH24: ✓ | AI24: 嘉兴港区韵达快递有限公司新仓分理部 | AJ24: 暂不处理 | AK24: =SUMIFS('8月奖金发放记录'!$G$2:$G$171,'8月奖金发放记录'!$B$2:$B$171,G24,'8月奖金发放记录'!$A$2:$A$171,A24) -> 1000 | AL24: =SUMIFS('8月奖金发放记录'!$J$2:$J$171,'8月奖金发放记录'!$B$2:$B$171,G24,'8月奖金发放记录'!$A$2:$A$171,A24) -> 1000 | AN24: 否
A25: 粤A08506F | B25: LNXNEGRR7SR318212 | C25: 羚牛氢能科技(广东)有限公司 | D25: 18吨双飞翼货车 | E25: 羚牛100辆18T | F25: 1000 | G25: 刘念念 | H25: 5225.81 | I25: 2772.1 | J25: ✗ | K25: 6000 | L25: 132.2 | M25: ✗ | N25: 6000 | O25: 10851.2 | P25: ✓ | Q25: 6000 | R25: 10938.1 | S25: ✓ | T25: 6193.54 | U25: 3846.2 | V25: ✗ | W25: 6000 | X25: 705.2 | Y25: ✗ | Z25: 6000 | AA25: 116 | AB25: ✗ | AC25: 6000 | AD25: 249.6 | AE25: ✗ | AF25: 47419.35 | AG25: 29610.6 | AH25: ✗ | AI25: 嘉兴市京宝物流有限公司 | AJ25: 暂不处理 | AK25: =SUMIFS('8月奖金发放记录'!$G$2:$G$171,'8月奖金发放记录'!$B$2:$B$171,G25,'8月奖金发放记录'!$A$2:$A$171,A25) -> 0 | AL25: =SUMIFS('8月奖金发放记录'!$J$2:$J$171,'8月奖金发放记录'!$B$2:$B$171,G25,'8月奖金发放记录'!$A$2:$A$171,A25) -> 0 | AM25: 未满足本月奖励、结转或补发条件 | AN25: 否
A26: 粤A08578F | B26: LNXNEGRR9SR319443 | C26: 羚牛氢能科技(广东)有限公司 | D26: 18吨双飞翼货车 | E26: 羚牛100辆18T | F26: 1000 | G26: 刘念念 | N26: 6000 | O26: 4759.8 | P26: ✗ | Q26: 6200 | R26: 5993.2 | S26: ✗ | T26: 6000 | U26: 7531 | V26: ✓ | W26: 6000 | X26: 6947.7 | Y26: ✓ | Z26: 5225.8 | AA26: 5890.7 | AB26: ✓ | AC26: 6000 | AD26: 5379.6 | AE26: ✗ | AF26: 35425.8 | AG26: 36502 | AH26: ✓ | AI26: 嘉兴智奇供应链管理有限公司 | AJ26: 暂不处理 | AK26: =SUMIFS('8月奖金发放记录'!$G$2:$G$171,'8月奖金发放记录'!$B$2:$B$171,G26,'8月奖金发放记录'!$A$2:$A$171,A26) -> 1000 | AL26: =SUMIFS('8月奖金发放记录'!$J$2:$J$171,'8月奖金发放记录'!$B$2:$B$171,G26,'8月奖金发放记录'!$A$2:$A$171,A26) -> 1000 | AN26: 否
A27: 粤A09209F | B27: LNXNEGRRXSR319466 | C27: 羚牛氢能科技(广东)有限公司 | D27: 18吨双飞翼货车 | E27: 羚牛100辆18T | F27: 1000 | G27: 刘念念 | N27: 1354.84 | O27: 2759.2 | P27: ✓ | Q27: 6000 | R27: 11740.9 | S27: ✓ | T27: 6000 | U27: 13847.9 | V27: ✓ | W27: 6000 | X27: 6771.5 | Y27: ✓ | Z27: 5419.35 | AA27: 223.4 | AB27: ✗ | AC27: 6000 | AD27: 191.1 | AE27: ✗ | AF27: 30774.19 | AG27: 35534 | AH27: ✓ | AI27: 嘉兴市京宝物流有限公司 | AJ27: 暂不处理 | AK27: =SUMIFS('8月奖金发放记录'!$G$2:$G$171,'8月奖金发放记录'!$B$2:$B$171,G27,'8月奖金发放记录'!$A$2:$A$171,A27) -> 1000 | AL27: =SUMIFS('8月奖金发放记录'!$J$2:$J$171,'8月奖金发放记录'!$B$2:$B$171,G27,'8月奖金发放记录'!$A$2:$A$171,A27) -> 1000 | AN27: 否
A28: 粤AFH3525 | B28: LB9A32A21P0LS1252 | C28: 现代氢能科技(广州)有限公司 | D28: 4.5吨货车 | E28: 恒运50辆4.5T普货 | F28: 260 | G28: 刘念念 | Q28: 3000 | R28: 691.9 | S28: ✗ | T28: 5000 | U28: 1778.1 | V28: ✗ | W28: 5000 | X28: 1699.5 | Y28: ✗ | Z28: 5000 | AA28: 1806.8 | AB28: ✗ | AC28: 5000 | AD28: 1000.5 | AE28: ✗ | AF28: 23000 | AG28: 6976.8 | AH28: ✗ | AI28: 桐乡市丰韵快递有限责任公司 | AJ28: 暂不处理 | AK28: =SUMIFS('8月奖金发放记录'!$G$2:$G$171,'8月奖金发放记录'!$B$2:$B$171,G28,'8月奖金发放记录'!$A$2:$A$171,A28) -> 0 | AL28: =SUMIFS('8月奖金发放记录'!$J$2:$J$171,'8月奖金发放记录'!$B$2:$B$171,G28,'8月奖金发放记录'!$A$2:$A$171,A28) -> 0 | AM28: 未满足本月奖励、结转或补发条件 | AN28: 否
A29: 粤AFQ7882 | B29: LB9A32A27P0LS1255 | C29: 现代氢能科技(广州)有限公司 | D29: 4.5吨货车 | E29: 恒运50辆4.5T普货 | F29: 260 | G29: 刘念念 | T29: 1612.9 | U29: 386.1 | V29: ✗ | W29: 5000 | X29: 1316 | Y29: ✗ | Z29: 5000 | AA29: 1715.5 | AB29: ✗ | AC29: 5000 | AD29: 1471.2 | AE29: ✗ | AF29: 16612.9 | AG29: 4888.8 | AH29: ✗ | AI29: 嘉兴港区韵达快递有限公司 | AJ29: 暂不处理 | AK29: =SUMIFS('8月奖金发放记录'!$G$2:$G$171,'8月奖金发放记录'!$B$2:$B$171,G29,'8月奖金发放记录'!$A$2:$A$171,A29) -> 0 | AL29: =SUMIFS('8月奖金发放记录'!$J$2:$J$171,'8月奖金发放记录'!$B$2:$B$171,G29,'8月奖金发放记录'!$A$2:$A$171,A29) -> 0 | AM29: 未满足本月奖励、结转或补发条件 | AN29: 否
A30: 粤AG03213 | B30: LB9A32A24P0LS1245 | C30: 现代氢能科技（广州）有限公司 | D30: 4.5吨货车 | E30: 恒运50辆4.5T普货 | F30: 260 | G30: 刘念念 | W30: 3333.33 | X30: 669.4 | Y30: ✗ | Z30: 5000 | AA30: 1120.2 | AB30: ✗ | AC30: 5000 | AD30: 1686.4 | AE30: ✗ | AF30: 13333.33 | AG30: 3476 | AH30: ✗ | AI30: 嘉兴港区众通快递有限公司 | AJ30: 暂不处理 | AK30: =SUMIFS('8月奖金发放记录'!$G$2:$G$171,'8月奖金发放记录'!$B$2:$B$171,G30,'8月奖金发放记录'!$A$2:$A$171,A30) -> 0 | AL30: =SUMIFS('8月奖金发放记录'!$J$2:$J$171,'8月奖金发放记录'!$B$2:$B$171,G30,'8月奖金发放记录'!$A$2:$A$171,A30) -> 0 | AM30: 未满足本月奖励、结转或补发条件 | AN30: 否
A31: 粤AG15568 | B31: LB9A32A23P0LS1222 | C31: 现代氢能科技（广州）有限公司 | D31: 4.5吨货车 | E31: 恒运50辆4.5T普货 | F31: 260 | G31: 刘念念 | W31: 3333.33 | X31: 1034.3 | Y31: ✗ | Z31: 5000 | AA31: 1635.4 | AB31: ✗ | AC31: 5000 | AD31: 1383.6 | AE31: ✗ | AF31: 13333.33 | AG31: 4053.3 | AH31: ✗ | AI31: 嘉兴港区众通快递有限公司 | AJ31: 暂不处理 | AK31: =SUMIFS('8月奖金发放记录'!$G$2:$G$171,'8月奖金发放记录'!$B$2:$B$171,G31,'8月奖金发放记录'!$A$2:$A$171,A31) -> 0 | AL31: =SUMIFS('8月奖金发放记录'!$J$2:$J$171,'8月奖金发放记录'!$B$2:$B$171,G31,'8月奖金发放记录'!$A$2:$A$171,A31) -> 0 | AM31: 未满足本月奖励、结转或补发条件 | AN31: 否
A32: 粤AGP3078 | B32: LB9A32A26R0LS1699 | C32: 羚牛氢能科技(广东)有限公司 | D32: 4.5吨冷链车 | E32: 羚牛136辆4.5T冷链车 | F32: 260 | G32: 刘念念 | H32: 5000 | I32: 3986.8 | J32: ✗ | K32: 5000 | L32: 1022.4 | M32: ✗ | N32: 5000 | O32: 6920.9 | P32: ✓ | Q32: 5000 | R32: 2426 | S32: ✗ | T32: 5000 | U32: 9424.3 | V32: ✓ | W32: 5000 | X32: 3849 | Y32: ✗ | Z32: 5000 | AA32: 9470.7 | AB32: ✓ | AC32: 4516.13 | AD32: 7195.2 | AE32: ✓ | AF32: 39516.13 | AG32: 44295.3 | AH32: ✓ | AI32: 浙江洋开供应链管理有限公司 | AJ32: 暂不处理 | AK32: =SUMIFS('8月奖金发放记录'!$G$2:$G$171,'8月奖金发放记录'!$B$2:$B$171,G32,'8月奖金发放记录'!$A$2:$A$171,A32) -> 234.84 | AL32: =SUMIFS('8月奖金发放记录'!$J$2:$J$171,'8月奖金发放记录'!$B$2:$B$171,G32,'8月奖金发放记录'!$A$2:$A$171,A32) -> 234.84 | AN32: 否
A33: 粤AGP3508 | B33: LB9A32A20R0LS1424 | C33: 广州开发区交投氢能运营管理有限公司 | D33: 4.5吨冷链车 | E33: 交投190辆4.5T冷链车 | F33: 150 | G33: 刘念念 | H33: 3000 | I33: 4474.7 | J33: ✓ | K33: 3000 | L33: 4479.7 | M33: ✓ | N33: 3000 | O33: 7320 | P33: ✓ | Q33: 3000 | R33: 7444.9 | S33: ✓ | T33: 3000 | U33: 7754.7 | V33: ✓ | W33: 3000 | X33: 9009.6 | Y33: ✓ | Z33: 3000 | AA33: 7789.7 | AB33: ✓ | AC33: 2225.81 | AD33: 6707.3 | AE33: ✓ | AF33: 23225.81 | AG33: 54980.6 | AH33: ✓ | AI33: 浙江洋开供应链管理有限公司 | AJ33: 暂不处理 | AK33: =SUMIFS('8月奖金发放记录'!$G$2:$G$171,'8月奖金发放记录'!$B$2:$B$171,G33,'8月奖金发放记录'!$A$2:$A$171,A33) -> 150 | AL33: =SUMIFS('8月奖金发放记录'!$J$2:$J$171,'8月奖金发放记录'!$B$2:$B$171,G33,'8月奖金发放记录'!$A$2:$A$171,A33) -> 150 | AN33: 否
A34: 粤AGP3607 | B34: LB9A32A29R0LS1597 | C34: 羚牛氢能科技(广东)有限公司 | D34: 4.5吨冷链车 | E34: 羚牛136辆4.5T冷链车 | F34: 260 | G34: 刘念念 | H34: 5000 | I34: 4292.8 | J34: ✗ | K34: 5000 | L34: 1401 | M34: ✗ | N34: 5000 | O34: 4632.8 | P34: ✗ | Q34: 5000 | R34: 1911.3 | S34: ✗ | T34: 5000 | U34: 10908.5 | V34: ✓ | W34: 5000 | X34: 13277.3 | Y34: ✓ | Z34: 5000 | AA34: 8138.6 | AB34: ✓ | AC34: 4516.13 | AD34: 8835.7 | AE34: ✓ | AF34: 39516.13 | AG34: 53398 | AH34: ✓ | AI34: 浙江洋开供应链管理有限公司 | AJ34: 暂不处理 | AK34: =SUMIFS('8月奖金发放记录'!$G$2:$G$171,'8月奖金发放记录'!$B$2:$B$171,G34,'8月奖金发放记录'!$A$2:$A$171,A34) -> 234.84 | AL34: =SUMIFS('8月奖金发放记录'!$J$2:$J$171,'8月奖金发放记录'!$B$2:$B$171,G34,'8月奖金发放记录'!$A$2:$A$171,A34) -> 234.84 | AN34: 否
A35: 粤AGP3609 | B35: LB9A32A23R0LS1661 | C35: 羚牛氢能科技(广东)有限公司 | D35: 4.5吨冷链车 | E35: 羚牛136辆4.5T冷链车 | F35: 260 | G35: 刘念念 | N35: 2258.06 | O35: 3688.7 | P35: ✓ | Q35: 5000 | R35: 8068.2 | S35: ✓ | T35: 5000 | U35: 7468.3 | V35: ✓ | W35: 5000 | X35: 7261.3 | Y35: ✓ | Z35: 5000 | AA35: 4765.6 | AB35: ✗ | AC35: 5000 | AD35: 4531.5 | AE35: ✗ | AF35: 27258.06 | AG35: 35783.6 | AH35: ✓ | AI35: 嘉兴吉时物流有限公司 | AJ35: 暂不处理 | AK35: =SUMIFS('8月奖金发放记录'!$G$2:$G$171,'8月奖金发放记录'!$B$2:$B$171,G35,'8月奖金发放记录'!$A$2:$A$171,A35) -> 260 | AL35: =SUMIFS('8月奖金发放记录'!$J$2:$J$171,'8月奖金发放记录'!$B$2:$B$171,G35,'8月奖金发放记录'!$A$2:$A$171,A35) -> 260 | AN35: 否
A36: 粤AGP3690 | B36: LB9A32A20R0LS1584 | C36: 羚牛氢能科技(广东)有限公司 | D36: 4.5吨冷链车 | E36: 羚牛136辆4.5T冷链车 | F36: 260 | G36: 刘念念 | H36: 2580.65 | I36: 552.5 | J36: ✗ | K36: 5000 | L36: 364 | M36: ✗ | N36: 5000 | O36: 757 | P36: ✗ | Q36: 2166.67 | R36: 549.7 | S36: ✗ | W36: 4333.33 | X36: 159.8 | Y36: ✗ | Z36: 5000 | AA36: 272 | AB36: ✗ | AC36: 5000 | AD36: 349.5 | AE36: ✗ | AF36: 14333.33 | AG36: 781.3 | AH36: ✗ | AI36: 嘉兴港区韵达快递有限公司 | AJ36: 暂不处理 | AK36: =SUMIFS('8月奖金发放记录'!$G$2:$G$171,'8月奖金发放记录'!$B$2:$B$171,G36,'8月奖金发放记录'!$A$2:$A$171,A36) -> 0 | AL36: =SUMIFS('8月奖金发放记录'!$J$2:$J$171,'8月奖金发放记录'!$B$2:$B$171,G36,'8月奖金发放记录'!$A$2:$A$171,A36) -> 0 | AM36: 未满足本月奖励、结转或补发条件 | AN36: 否
A37: 粤AGP4335 | B37: LB9A32A20R0LS1634 | C37: 羚牛氢能科技(广东)有限公司 | D37: 4.5吨冷链车 | E37: 羚牛136辆4.5T冷链车 | F37: 260 | G37: 刘念念 | H37: 161.29 | I37: 73.4 | J37: ✗ | K37: 5000 | L37: 1865.7 | M37: ✗ | N37: 5000 | O37: 4896.6 | P37: ✗ | Q37: 666.67 | R37: 303.7 | S37: ✗ | T37: 2741.94 | U37: 3039.7 | V37: ✓ | W37: 5000 | X37: 6905.2 | Y37: ✓ | Z37: 5000 | AA37: 5914.1 | AB37: ✓ | AC37: 5000 | AD37: 5080 | AE37: ✓ | AF37: 28569.9 | AG37: 28078.4 | AH37: ✗ | AI37: 嘉兴坤鑫物流有限公司 | AJ37: 暂不处理 | AK37: =SUMIFS('8月奖金发放记录'!$G$2:$G$171,'8月奖金发放记录'!$B$2:$B$171,G37,'8月奖金发放记录'!$A$2:$A$171,A37) -> 260 | AL37: =SUMIFS('8月奖金发放记录'!$J$2:$J$171,'8月奖金发放记录'!$B$2:$B$171,G37,'8月奖金发放记录'!$A$2:$A$171,A37) -> 260 | AN37: 否
A38: 粤AGP4597 | B38: LB9A32A27R0LS1601 | C38: 羚牛氢能科技(广东)有限公司 | D38: 4.5吨冷链车 | E38: 羚牛136辆4.5T冷链车 | F38: 260 | G38: 刘念念 | H38: 5000 | I38: 1149.5 | J38: ✗ | K38: 5000 | L38: 691.1 | M38: ✗ | N38: 5000 | O38: 411.9 | P38: ✗ | Q38: 500 | R38: 53.9 | S38: ✗ | W38: 4500 | X38: 1779.6 | Y38: ✗ | Z38: 5000 | AA38: 1918.1 | AB38: ✗ | AC38: 5000 | AD38: 1952.8 | AE38: ✗ | AF38: 14500 | AG38: 5650.5 | AH38: ✗ | AI38: 桐乡市丰韵快递有限责任公司 | AJ38: 暂不处理 | AK38: =SUMIFS('8月奖金发放记录'!$G$2:$G$171,'8月奖金发放记录'!$B$2:$B$171,G38,'8月奖金发放记录'!$A$2:$A$171,A38) -> 0 | AL38: =SUMIFS('8月奖金发放记录'!$J$2:$J$171,'8月奖金发放记录'!$B$2:$B$171,G38,'8月奖金发放记录'!$A$2:$A$171,A38) -> 0 | AM38: 未满足本月奖励、结转或补发条件 | AN38: 否
A39: 粤AGP4623 | B39: LB9A32A26R0LS1668 | C39: 羚牛氢能科技(广东)有限公司 | D39: 4.5吨冷链车 | E39: 羚牛136辆4.5T冷链车 | F39: 260 | G39: 刘念念 | H39: 161.29 | I39: 69 | J39: ✗ | K39: 5000 | L39: 451.5 | M39: ✗ | N39: 3870.97 | O39: 1537.1 | P39: ✗ | Z39: 4516.13 | AA39: 1257.6 | AB39: ✗ | AC39: 5000 | AD39: 1767.9 | AE39: ✗ | AF39: 9516.13 | AG39: 3025.5 | AH39: ✗ | AI39: 嘉兴港区众通快递有限公司 | AJ39: 暂不处理 | AK39: =SUMIFS('8月奖金发放记录'!$G$2:$G$171,'8月奖金发放记录'!$B$2:$B$171,G39,'8月奖金发放记录'!$A$2:$A$171,A39) -> 0 | AL39: =SUMIFS('8月奖金发放记录'!$J$2:$J$171,'8月奖金发放记录'!$B$2:$B$171,G39,'8月奖金发放记录'!$A$2:$A$171,A39) -> 0 | AM39: 未满足本月奖励、结转或补发条件 | AN39: 否
A40: 粤AGP5378 | B40: LB9A32A29R0LS1521 | C40: 广州开发区交投氢能运营管理有限公司 | D40: 4.5吨冷链车 | E40: 交投190辆4.5T冷链车 | F40: 150 | G40: 刘念念 | H40: 3000 | I40: 1882.4 | J40: ✗ | K40: 3000 | L40: 7.3 | M40: ✗ | N40: 3000 | O40: 5796.8 | P40: ✓ | Q40: 3000 | R40: 4537.9 | S40: ✓ | T40: 3000 | U40: 1112.8 | V40: ✗ | W40: 3000 | X40: 10806.9 | Y40: ✓ | Z40: 3000 | AA40: 2540 | AB40: ✗ | AC40: 2032.26 | AD40: 1013.8 | AE40: ✗ | AF40: 23032.26 | AG40: 27697.9 | AH40: ✓ | AI40: 浙江洋开供应链管理有限公司 | AJ40: 暂不处理 | AK40: =SUMIFS('8月奖金发放记录'!$G$2:$G$171,'8月奖金发放记录'!$B$2:$B$171,G40,'8月奖金发放记录'!$A$2:$A$171,A40) -> 101.61 | AL40: =SUMIFS('8月奖金发放记录'!$J$2:$J$171,'8月奖金发放记录'!$B$2:$B$171,G40,'8月奖金发放记录'!$A$2:$A$171,A40) -> 101.61 | AN40: 否
A41: 粤AGP5615 | B41: LB9A32A23R0LS1594 | C41: 羚牛氢能科技(广东)有限公司 | D41: 4.5吨冷链车 | E41: 羚牛136辆4.5T冷链车 | F41: 260 | G41: 刘念念 | H41: 5000 | I41: 0 | J41: ✗ | K41: 5000 | L41: 904.9 | M41: ✗ | N41: 4677.42 | O41: 4931.9 | P41: ✓ | Q41: 5000 | R41: 8037.2 | S41: ✓ | T41: 2419.35 | U41: 3342.09 | V41: ✓ | Z41: 5000 | AA41: 199.3 | AB41: ✗ | AC41: 5000 | AD41: 595.1 | AE41: ✗ | AF41: 10000 | AG41: 794.4 | AH41: ✗ | AI41: 平湖聚笙餐饮管理有限公司 | AJ41: 暂不处理 | AK41: =SUMIFS('8月奖金发放记录'!$G$2:$G$171,'8月奖金发放记录'!$B$2:$B$171,G41,'8月奖金发放记录'!$A$2:$A$171,A41) -> 0 | AL41: =SUMIFS('8月奖金发放记录'!$J$2:$J$171,'8月奖金发放记录'!$B$2:$B$171,G41,'8月奖金发放记录'!$A$2:$A$171,A41) -> 0 | AM41: 未满足本月奖励、结转或补发条件 | AN41: 否
A42: 粤AGP9713 | B42: LB9A32A2XR0LS1401 | C42: 羚牛氢能科技(广东)有限公司 | D42: 4.5吨冷链车 | E42: 羚牛136辆4.5T冷链车 | F42: 260 | G42: 刘念念 | T42: 483.87 | U42: 618.02 | V42: ✓ | W42: 5000 | X42: 8896.4 | Y42: ✓ | Z42: 5000 | AA42: 7292.1 | AB42: ✓ | AC42: 5000 | AD42: 8893 | AE42: ✓ | AF42: 15483.87 | AG42: 25699.52 | AH42: ✓ | AI42: 嘉兴市振鑫物流有限公司 | AJ42: 暂不处理 | AK42: =SUMIFS('8月奖金发放记录'!$G$2:$G$171,'8月奖金发放记录'!$B$2:$B$171,G42,'8月奖金发放记录'!$A$2:$A$171,A42) -> 260 | AL42: =SUMIFS('8月奖金发放记录'!$J$2:$J$171,'8月奖金发放记录'!$B$2:$B$171,G42,'8月奖金发放记录'!$A$2:$A$171,A42) -> 260 | AN42: 否
A43: 粤AGP9791 | B43: LB9A32A27R0LS1551 | C43: 羚牛氢能科技(广东)有限公司 | D43: 4.5吨冷链车 | E43: 羚牛136辆4.5T冷链车 | F43: 260 | G43: 刘念念 | H43: 5000 | I43: 5188.5 | J43: ✓ | K43: 5000 | L43: 878.8 | M43: ✗ | N43: 2258.06 | O43: 1455.3 | P43: ✗ | Z43: 483.87 | AA43: 562.1 | AB43: ✓ | AC43: 3870.97 | AD43: 2578.6 | AE43: ✗ | AF43: 4354.84 | AG43: 3140.7 | AH43: ✗ | AI43: 浙江洋开供应链管理有限公司 | AJ43: 暂不处理 | AK43: =SUMIFS('8月奖金发放记录'!$G$2:$G$171,'8月奖金发放记录'!$B$2:$B$171,G43,'8月奖金发放记录'!$A$2:$A$171,A43) -> 0 | AL43: =SUMIFS('8月奖金发放记录'!$J$2:$J$171,'8月奖金发放记录'!$B$2:$B$171,G43,'8月奖金发放记录'!$A$2:$A$171,A43) -> 0 | AM43: 未满足本月奖励、结转或补发条件 | AN43: 否
A44: 粤AGP9835 | B44: LB9A32A27R0LS1422 | C44: 广州开发区交投氢能运营管理有限公司 | D44: 4.5吨冷链车 | E44: 交投190辆4.5T冷链车 | F44: 150 | G44: 刘念念 | H44: 3000 | I44: 5177.3 | J44: ✓ | K44: 3000 | L44: 3194.7 | M44: ✓ | N44: 3000 | O44: 6480.1 | P44: ✓ | Q44: 3000 | R44: 6595.3 | S44: ✓ | T44: 3000 | U44: 5811.3 | V44: ✓ | W44: 3000 | X44: 6282.3 | Y44: ✓ | Z44: 3000 | AA44: 6031 | AB44: ✓ | AC44: 2129.03 | AD44: 4121.2 | AE44: ✓ | AF44: 23129.03 | AG44: 43693.2 | AH44: ✓ | AI44: 浙江洋开供应链管理有限公司 | AJ44: 暂不处理 | AK44: =SUMIFS('8月奖金发放记录'!$G$2:$G$171,'8月奖金发放记录'!$B$2:$B$171,G44,'8月奖金发放记录'!$A$2:$A$171,A44) -> 150 | AL44: =SUMIFS('8月奖金发放记录'!$J$2:$J$171,'8月奖金发放记录'!$B$2:$B$171,G44,'8月奖金发放记录'!$A$2:$A$171,A44) -> 150 | AN44: 否
A45: 粤AGQ5838 | B45: LB9A32A24R0LS1586 | C45: 广州开发区交投氢能运营管理有限公司 | D45: 4.5吨冷链车 | E45: 交投190辆4.5T冷链车 | F45: 150 | G45: 刘念念 | N45: 774.19 | O45: 1071.7 | P45: ✓ | Q45: 3000 | R45: 5656.7 | S45: ✓ | T45: 3000 | U45: 4348 | V45: ✓ | W45: 3000 | X45: 3721.2 | Y45: ✓ | Z45: 3000 | AA45: 3716.3 | AB45: ✓ | AC45: 3000 | AD45: 4915.8 | AE45: ✓ | AF45: 15774.19 | AG45: 23429.7 | AH45: ✓ | AI45: 嘉兴市双瑜食品有限公司 | AJ45: 暂不处理 | AK45: =SUMIFS('8月奖金发放记录'!$G$2:$G$171,'8月奖金发放记录'!$B$2:$B$171,G45,'8月奖金发放记录'!$A$2:$A$171,A45) -> 150 | AL45: =SUMIFS('8月奖金发放记录'!$J$2:$J$171,'8月奖金发放记录'!$B$2:$B$171,G45,'8月奖金发放记录'!$A$2:$A$171,A45) -> 150 | AN45: 否
A46: 粤AGR0798 | B46: LB9A32A23R0LS1398 | C46: 广州开发区交投氢能运营管理有限公司 | D46: 4.5吨冷链车 | E46: 交投190辆4.5T冷链车 | F46: 150 | G46: 刘念念 | H46: 3000 | I46: 8356.6 | J46: ✓ | K46: 3000 | L46: 0.1 | M46: ✗ | N46: 3000 | O46: 3195.9 | P46: ✓ | Q46: 3000 | R46: 2248.1 | S46: ✗ | T46: 3000 | U46: 1578.4 | V46: ✗ | W46: 3000 | X46: 1608.6 | Y46: ✗ | Z46: 3000 | AA46: 8043.2 | AB46: ✓ | AC46: 387.1 | AD46: 1265.3 | AE46: ✓ | AF46: 21387.1 | AG46: 26296.2 | AH46: ✓ | AI46: 浙江洋开供应链管理有限公司 | AJ46: 暂不处理 | AK46: =SUMIFS('8月奖金发放记录'!$G$2:$G$171,'8月奖金发放记录'!$B$2:$B$171,G46,'8月奖金发放记录'!$A$2:$A$171,A46) -> 19.35 | AL46: =SUMIFS('8月奖金发放记录'!$J$2:$J$171,'8月奖金发放记录'!$B$2:$B$171,G46,'8月奖金发放记录'!$A$2:$A$171,A46) -> 19.35 | AN46: 否
A47: 粤AGR5050 | B47: LB9A32A25R0LS1547 | C47: 广州开发区交投氢能运营管理有限公司 | D47: 4.5吨冷链车 | E47: 交投190辆4.5T冷链车 | F47: 150 | G47: 刘念念 | H47: 3000 | I47: 7948.5 | J47: ✓ | K47: 3000 | L47: 2881.9 | M47: ✗ | N47: 3000 | O47: 10960.2 | P47: ✓ | Q47: 3000 | R47: 4680.3 | S47: ✓ | T47: 3000 | U47: 4808.4 | V47: ✓ | W47: 3000 | X47: 4963.8 | Y47: ✓ | Z47: 3000 | AA47: 7850.3 | AB47: ✓ | AC47: 1741.94 | AD47: 122 | AE47: ✗ | AF47: 22741.94 | AG47: 44215.4 | AH47: ✓ | AI47: 浙江洋开供应链管理有限公司 | AJ47: 暂不处理 | AK47: =SUMIFS('8月奖金发放记录'!$G$2:$G$171,'8月奖金发放记录'!$B$2:$B$171,G47,'8月奖金发放记录'!$A$2:$A$171,A47) -> 150 | AL47: =SUMIFS('8月奖金发放记录'!$J$2:$J$171,'8月奖金发放记录'!$B$2:$B$171,G47,'8月奖金发放记录'!$A$2:$A$171,A47) -> 150 | AN47: 否
A48: 粤AGR5055 | B48: LB9A32A28R0LS1378 | C48: 广州开发区交投氢能运营管理有限公司 | D48: 4.5吨冷链车 | E48: 交投190辆4.5T冷链车 | F48: 150 | G48: 刘念念 | H48: 3000 | I48: 228.2 | J48: ✗ | K48: 3000 | L48: 299.8 | M48: ✗ | N48: 3000 | O48: 6350.2 | P48: ✓ | Q48: 3000 | R48: 6010 | S48: ✓ | T48: 3000 | U48: 6183.1 | V48: ✓ | W48: 3000 | X48: 3629.7 | Y48: ✓ | Z48: 3000 | AA48: 2583 | AB48: ✗ | AC48: 2032.26 | AD48: 2370.8 | AE48: ✓ | AF48: 23032.26 | AG48: 27654.8 | AH48: ✓ | AI48: 浙江洋开供应链管理有限公司 | AJ48: 暂不处理 | AK48: =SUMIFS('8月奖金发放记录'!$G$2:$G$171,'8月奖金发放记录'!$B$2:$B$171,G48,'8月奖金发放记录'!$A$2:$A$171,A48) -> 101.61 | AL48: =SUMIFS('8月奖金发放记录'!$J$2:$J$171,'8月奖金发放记录'!$B$2:$B$171,G48,'8月奖金发放记录'!$A$2:$A$171,A48) -> 101.61 | AN48: 否
A49: 粤AGR8506 | B49: LB9A32A29R0LS1356 | C49: 广州开发区交投氢能运营管理有限公司 | D49: 4.5吨冷链车 | E49: 交投190辆4.5T冷链车 | F49: 150 | G49: 刘念念 | H49: 3000 | I49: 7250.1 | J49: ✓ | K49: 3000 | L49: 3600.8 | M49: ✓ | N49: 3000 | O49: 8780.9 | P49: ✓ | Q49: 3000 | R49: 2928.9 | S49: ✗ | T49: 3000 | U49: 5801.6 | V49: ✓ | W49: 3000 | X49: 6896.9 | Y49: ✓ | Z49: 3000 | AA49: 6875 | AB49: ✓ | AC49: 1645.16 | AD49: 1197.7 | AE49: ✗ | AF49: 22645.16 | AG49: 43331.9 | AH49: ✓ | AI49: 浙江洋开供应链管理有限公司 | AJ49: 暂不处理 | AK49: =SUMIFS('8月奖金发放记录'!$G$2:$G$171,'8月奖金发放记录'!$B$2:$B$171,G49,'8月奖金发放记录'!$A$2:$A$171,A49) -> 150 | AL49: =SUMIFS('8月奖金发放记录'!$J$2:$J$171,'8月奖金发放记录'!$B$2:$B$171,G49,'8月奖金发放记录'!$A$2:$A$171,A49) -> 150 | AN49: 否
A50: 粤AGR8531 | B50: LB9A32A29R0LS1390 | C50: 广州开发区交投氢能运营管理有限公司 | D50: 4.5吨冷链车 | E50: 交投190辆4.5T冷链车 | F50: 150 | G50: 刘念念 | N50: 2612.9 | O50: 4981.9 | P50: ✓ | Q50: 3000 | R50: 7954.6 | S50: ✓ | T50: 3000 | U50: 9174.3 | V50: ✓ | W50: 3000 | X50: 8057.5 | Y50: ✓ | Z50: 2903.23 | AA50: 10469.3 | AB50: ✓ | AC50: 3000 | AD50: 0 | AE50: ✗ | AF50: 17516.13 | AG50: 40637.6 | AH50: ✗ | AI50: 浙江洋开供应链管理有限公司 | AJ50: 暂不处理 | AK50: =SUMIFS('8月奖金发放记录'!$G$2:$G$171,'8月奖金发放记录'!$B$2:$B$171,G50,'8月奖金发放记录'!$A$2:$A$171,A50) -> 150 | AL50: =SUMIFS('8月奖金发放记录'!$J$2:$J$171,'8月奖金发放记录'!$B$2:$B$171,G50,'8月奖金发放记录'!$A$2:$A$171,A50) -> 150 | AN50: 是
A51: 粤A00255F | B51: LNXNEGRRXSR321380 | C51: 羚牛氢能科技(广东)有限公司 | D51: 18吨双飞翼货车 | E51: 羚牛100辆18T | F51: 1000 | G51: 吴纬涛 | H51: 6000 | I51: 195.5 | J51: ✗ | K51: 857.14 | L51: 57.9 | M51: ✗ | AC51: 6000 | AD51: 2331.1 | AE51: ✗ | AF51: 6000 | AG51: 2331.1 | AH51: ✗ | AI51: 广州市博众供应链管理有限公司 | AJ51: 暂不处理 | AK51: =SUMIFS('8月奖金发放记录'!$G$2:$G$171,'8月奖金发放记录'!$B$2:$B$171,G51,'8月奖金发放记录'!$A$2:$A$171,A51) -> 0 | AL51: =SUMIFS('8月奖金发放记录'!$J$2:$J$171,'8月奖金发放记录'!$B$2:$B$171,G51,'8月奖金发放记录'!$A$2:$A$171,A51) -> 0 | AM51: 未满足本月奖励、结转或补发条件 | AN51: 否
A52: 粤A01209F | B52: LNXNEGRR4SR319477 | C52: 羚牛氢能科技(广东)有限公司 | D52: 18吨双飞翼货车 | E52: 羚牛100辆18T | F52: 1000 | G52: 吴纬涛 | AC52: 6000 | AD52: 779.2 | AE52: ✗ | AF52: 6000 | AG52: 779.2 | AH52: ✗ | AI52: 广州市博众供应链管理有限公司 | AJ52: 暂不处理 | AK52: =SUMIFS('8月奖金发放记录'!$G$2:$G$171,'8月奖金发放记录'!$B$2:$B$171,G52,'8月奖金发放记录'!$A$2:$A$171,A52) -> 0 | AL52: =SUMIFS('8月奖金发放记录'!$J$2:$J$171,'8月奖金发放记录'!$B$2:$B$171,G52,'8月奖金发放记录'!$A$2:$A$171,A52) -> 0 | AM52: 未满足本月奖励、结转或补发条件 | AN52: 否
A53: 粤A01396F | B53: LNXNEGRR9SR321533 | C53: 羚牛氢能科技(广东)有限公司 | D53: 18吨双飞翼货车 | E53: 羚牛100辆18T | F53: 1000 | G53: 吴纬涛 | AC53: 6000 | AD53: 5641.5 | AE53: ✗ | AF53: 6000 | AG53: 5641.5 | AH53: ✗ | AI53: 环迪新能源（广州）有限公司 | AJ53: 暂不处理 | AK53: =SUMIFS('8月奖金发放记录'!$G$2:$G$171,'8月奖金发放记录'!$B$2:$B$171,G53,'8月奖金发放记录'!$A$2:$A$171,A53) -> 0 | AL53: =SUMIFS('8月奖金发放记录'!$J$2:$J$171,'8月奖金发放记录'!$B$2:$B$171,G53,'8月奖金发放记录'!$A$2:$A$171,A53) -> 0 | AM53: 未满足本月奖励、结转或补发条件 | AN53: 否
A54: 粤A01886F | B54: LNXNEGRR5SR318211 | C54: 羚牛氢能科技(广东)有限公司 | D54: 18吨双飞翼货车 | E54: 羚牛100辆18T | F54: 1000 | G54: 吴纬涛 | AC54: 193.55 | AD54: 0 | AE54: ✗ | AF54: 193.55 | AG54: 0 | AH54: ✗ | AI54: 广州市博众供应链管理有限公司 | AJ54: 暂不处理 | AK54: =SUMIFS('8月奖金发放记录'!$G$2:$G$171,'8月奖金发放记录'!$B$2:$B$171,G54,'8月奖金发放记录'!$A$2:$A$171,A54) -> 0 | AL54: =SUMIFS('8月奖金发放记录'!$J$2:$J$171,'8月奖金发放记录'!$B$2:$B$171,G54,'8月奖金发放记录'!$A$2:$A$171,A54) -> 0 | AM54: 未满足本月奖励、结转或补发条件 | AN54: 否
A55: 粤A02956F | B55: LNXNEGRR7SR321515 | C55: 羚牛氢能科技(广东)有限公司 | D55: 18吨双飞翼货车 | E55: 羚牛100辆18T | F55: 1000 | G55: 吴纬涛 | AC55: 1935.48 | AD55: 0 | AE55: ✗ | AF55: 1935.48 | AG55: 0 | AH55: ✗ | AI55: 广州市博众供应链管理有限公司 | AJ55: 暂不处理 | AK55: =SUMIFS('8月奖金发放记录'!$G$2:$G$171,'8月奖金发放记录'!$B$2:$B$171,G55,'8月奖金发放记录'!$A$2:$A$171,A55) -> 0 | AL55: =SUMIFS('8月奖金发放记录'!$J$2:$J$171,'8月奖金发放记录'!$B$2:$B$171,G55,'8月奖金发放记录'!$A$2:$A$171,A55) -> 0 | AM55: 未满足本月奖励、结转或补发条件 | AN55: 否
A56: 粤A03569F | B56: LNXNEGRR8SR321544 | C56: 羚牛氢能科技(广东)有限公司 | D56: 18吨双飞翼货车 | E56: 羚牛100辆18T | F56: 1000 | G56: 吴纬涛 | AC56: 6000 | AD56: 29.5 | AE56: ✗ | AF56: 6000 | AG56: 29.5 | AH56: ✗ | AI56: 广州新运多租赁有限公司 | AJ56: 暂不处理 | AK56: =SUMIFS('8月奖金发放记录'!$G$2:$G$171,'8月奖金发放记录'!$B$2:$B$171,G56,'8月奖金发放记录'!$A$2:$A$171,A56) -> 0 | AL56: =SUMIFS('8月奖金发放记录'!$J$2:$J$171,'8月奖金发放记录'!$B$2:$B$171,G56,'8月奖金发放记录'!$A$2:$A$171,A56) -> 0 | AM56: 未满足本月奖励、结转或补发条件 | AN56: 否
A57: 粤A05839F | B57: LNXNEGRR8SR321376 | C57: 羚牛氢能科技(广东)有限公司 | D57: 18吨双飞翼货车 | E57: 羚牛100辆18T | F57: 1000 | G57: 吴纬涛 | AC57: 6000 | AD57: 529.8 | AE57: ✗ | AF57: 6000 | AG57: 529.8 | AH57: ✗ | AI57: 广州市博众供应链管理有限公司 | AJ57: 暂不处理 | AK57: =SUMIFS('8月奖金发放记录'!$G$2:$G$171,'8月奖金发放记录'!$B$2:$B$171,G57,'8月奖金发放记录'!$A$2:$A$171,A57) -> 0 | AL57: =SUMIFS('8月奖金发放记录'!$J$2:$J$171,'8月奖金发放记录'!$B$2:$B$171,G57,'8月奖金发放记录'!$A$2:$A$171,A57) -> 0 | AM57: 未满足本月奖励、结转或补发条件 | AN57: 否
A58: 粤A05985F | B58: LNXNEGRR3SR321527 | C58: 羚牛氢能科技(广东)有限公司 | D58: 18吨双飞翼货车 | E58: 羚牛100辆18T | F58: 1000 | G58: 吴纬涛 | AC58: 6000 | AD58: 0.3 | AE58: ✗ | AF58: 6000 | AG58: 0.3 | AH58: ✗ | AI58: 广州市博众供应链管理有限公司 | AJ58: 暂不处理 | AK58: =SUMIFS('8月奖金发放记录'!$G$2:$G$171,'8月奖金发放记录'!$B$2:$B$171,G58,'8月奖金发放记录'!$A$2:$A$171,A58) -> 0 | AL58: =SUMIFS('8月奖金发放记录'!$J$2:$J$171,'8月奖金发放记录'!$B$2:$B$171,G58,'8月奖金发放记录'!$A$2:$A$171,A58) -> 0 | AM58: 未满足本月奖励、结转或补发条件 | AN58: 否
A59: 粤A05995F | B59: LNXNEGRR7SR321370 | C59: 羚牛氢能科技(广东)有限公司 | D59: 18吨双飞翼货车 | E59: 羚牛100辆18T | F59: 1000 | G59: 吴纬涛 | H59: 193.55 | I59: 197.1 | J59: ✓ | AC59: 6000 | AD59: 3841.5 | AE59: ✗ | AF59: 6000 | AG59: 3841.5 | AH59: ✗ | AI59: 广州市博众供应链管理有限公司 | AJ59: 暂不处理 | AK59: =SUMIFS('8月奖金发放记录'!$G$2:$G$171,'8月奖金发放记录'!$B$2:$B$171,G59,'8月奖金发放记录'!$A$2:$A$171,A59) -> 0 | AL59: =SUMIFS('8月奖金发放记录'!$J$2:$J$171,'8月奖金发放记录'!$B$2:$B$171,G59,'8月奖金发放记录'!$A$2:$A$171,A59) -> 0 | AM59: 未满足本月奖励、结转或补发条件 | AN59: 否
A60: 粤A06691F | B60: LNXNEGRR5SR321514 | C60: 羚牛氢能科技(广东)有限公司 | D60: 18吨双飞翼货车 | E60: 羚牛100辆18T | F60: 1000 | G60: 吴纬涛 | AC60: 6000 | AD60: 6979.7 | AE60: ✓ | AF60: 6000 | AG60: 6979.7 | AH60: ✓ | AI60: 广州市博众供应链管理有限公司 | AJ60: 暂不处理 | AK60: =SUMIFS('8月奖金发放记录'!$G$2:$G$171,'8月奖金发放记录'!$B$2:$B$171,G60,'8月奖金发放记录'!$A$2:$A$171,A60) -> 1000 | AL60: =SUMIFS('8月奖金发放记录'!$J$2:$J$171,'8月奖金发放记录'!$B$2:$B$171,G60,'8月奖金发放记录'!$A$2:$A$171,A60) -> 1000 | AN60: 否
A61: 粤A06931F | B61: LNXNEGRR2SR321518 | C61: 羚牛氢能科技(广东)有限公司 | D61: 18吨双飞翼货车 | E61: 羚牛100辆18T | F61: 1000 | G61: 吴纬涛 | AC61: 6000 | AD61: 8541.6 | AE61: ✓ | AF61: 6000 | AG61: 8541.6 | AH61: ✓ | AI61: 广州市博众供应链管理有限公司 | AJ61: 暂不处理 | AK61: =SUMIFS('8月奖金发放记录'!$G$2:$G$171,'8月奖金发放记录'!$B$2:$B$171,G61,'8月奖金发放记录'!$A$2:$A$171,A61) -> 1000 | AL61: =SUMIFS('8月奖金发放记录'!$J$2:$J$171,'8月奖金发放记录'!$B$2:$B$171,G61,'8月奖金发放记录'!$A$2:$A$171,A61) -> 1000 | AN61: 否
A62: 粤A07260F | B62: LNXNEGRRXSR319497 | C62: 羚牛氢能科技(广东)有限公司 | D62: 18吨双飞翼货车 | E62: 羚牛100辆18T | F62: 1000 | G62: 吴纬涛 | AC62: 6000 | AD62: 1426.3 | AE62: ✗ | AF62: 6000 | AG62: 1426.3 | AH62: ✗ | AI62: 广州市博众供应链管理有限公司 | AJ62: 暂不处理 | AK62: =SUMIFS('8月奖金发放记录'!$G$2:$G$171,'8月奖金发放记录'!$B$2:$B$171,G62,'8月奖金发放记录'!$A$2:$A$171,A62) -> 0 | AL62: =SUMIFS('8月奖金发放记录'!$J$2:$J$171,'8月奖金发放记录'!$B$2:$B$171,G62,'8月奖金发放记录'!$A$2:$A$171,A62) -> 0 | AM62: 未满足本月奖励、结转或补发条件 | AN62: 否
A63: 粤A07555F | B63: LNXNEGRR4SR319463 | C63: 羚牛氢能科技(广东)有限公司 | D63: 18吨双飞翼货车 | E63: 羚牛100辆18T | F63: 1000 | G63: 吴纬涛 | AC63: 6000 | AD63: 3750.7 | AE63: ✗ | AF63: 6000 | AG63: 3750.7 | AH63: ✗ | AI63: 广州市博众供应链管理有限公司 | AJ63: 暂不处理 | AK63: =SUMIFS('8月奖金发放记录'!$G$2:$G$171,'8月奖金发放记录'!$B$2:$B$171,G63,'8月奖金发放记录'!$A$2:$A$171,A63) -> 0 | AL63: =SUMIFS('8月奖金发放记录'!$J$2:$J$171,'8月奖金发放记录'!$B$2:$B$171,G63,'8月奖金发放记录'!$A$2:$A$171,A63) -> 0 | AM63: 未满足本月奖励、结转或补发条件 | AN63: 否
A64: 粤A07568F | B64: LNXNEGRR8SR319465 | C64: 羚牛氢能科技(广东)有限公司 | D64: 18吨双飞翼货车 | E64: 羚牛100辆18T | F64: 1000 | G64: 吴纬涛 | AC64: 4258.06 | AD64: 217.3 | AE64: ✗ | AF64: 4258.06 | AG64: 217.3 | AH64: ✗ | AI64: 广州市博众供应链管理有限公司 | AJ64: 暂不处理 | AK64: =SUMIFS('8月奖金发放记录'!$G$2:$G$171,'8月奖金发放记录'!$B$2:$B$171,G64,'8月奖金发放记录'!$A$2:$A$171,A64) -> 0 | AL64: =SUMIFS('8月奖金发放记录'!$J$2:$J$171,'8月奖金发放记录'!$B$2:$B$171,G64,'8月奖金发放记录'!$A$2:$A$171,A64) -> 0 | AM64: 未满足本月奖励、结转或补发条件 | AN64: 否
A65: 粤A08910F | B65: LNXNEGRR6SR318198 | C65: 羚牛氢能科技(广东)有限公司 | D65: 18吨双飞翼货车 | E65: 羚牛100辆18T | F65: 1000 | G65: 吴纬涛 | AC65: 6000 | AD65: 8752.4 | AE65: ✓ | AF65: 6000 | AG65: 8752.4 | AH65: ✓ | AI65: 广州市博众供应链管理有限公司 | AJ65: 暂不处理 | AK65: =SUMIFS('8月奖金发放记录'!$G$2:$G$171,'8月奖金发放记录'!$B$2:$B$171,G65,'8月奖金发放记录'!$A$2:$A$171,A65) -> 1000 | AL65: =SUMIFS('8月奖金发放记录'!$J$2:$J$171,'8月奖金发放记录'!$B$2:$B$171,G65,'8月奖金发放记录'!$A$2:$A$171,A65) -> 1000 | AN65: 否
A66: 粤A09620F | B66: LNXNEGRR7SR319442 | C66: 羚牛氢能科技(广东)有限公司 | D66: 18吨双飞翼货车 | E66: 羚牛100辆18T | F66: 1000 | G66: 吴纬涛 | AC66: 967.74 | AD66: 38.8 | AE66: ✗ | AF66: 967.74 | AG66: 38.8 | AH66: ✗ | AI66: 广州市博众供应链管理有限公司 | AJ66: 暂不处理 | AK66: =SUMIFS('8月奖金发放记录'!$G$2:$G$171,'8月奖金发放记录'!$B$2:$B$171,G66,'8月奖金发放记录'!$A$2:$A$171,A66) -> 0 | AL66: =SUMIFS('8月奖金发放记录'!$J$2:$J$171,'8月奖金发放记录'!$B$2:$B$171,G66,'8月奖金发放记录'!$A$2:$A$171,A66) -> 0 | AM66: 未满足本月奖励、结转或补发条件 | AN66: 否
A67: 粤AFB6967 | B67: LB9A32A21R0LS1416 | C67: 广州开发区交投氢能运营管理有限公司 | D67: 4.5吨冷链车 | E67: 交投190辆4.5T冷链车 | F67: 150 | G67: 吴纬涛 | T67: 967.74 | U67: 66.3 | V67: ✗ | W67: 3000 | X67: 1216.9 | Y67: ✗ | Z67: 2612.9 | AA67: 827.9 | AB67: ✗ | AC67: 96.77 | AD67: 44.5 | AE67: ✗ | AF67: 6677.41 | AG67: 2155.6 | AH67: ✗ | AI67: 广州埔供优选配送服务有限公司 | AJ67: 暂不处理 | AK67: =SUMIFS('8月奖金发放记录'!$G$2:$G$171,'8月奖金发放记录'!$B$2:$B$171,G67,'8月奖金发放记录'!$A$2:$A$171,A67) -> 0 | AL67: =SUMIFS('8月奖金发放记录'!$J$2:$J$171,'8月奖金发放记录'!$B$2:$B$171,G67,'8月奖金发放记录'!$A$2:$A$171,A67) -> 0 | AM67: 未满足本月奖励、结转或补发条件 | AN67: 否
A68: 粤AFG2090 | B68: LB9A32A24P0LS1262 | C68: 现代氢能科技（广州）有限公司 | D68: 4.5吨货车 | E68: 恒运50辆4.5T普货 | F68: 260 | G68: 吴纬涛 | AC68: 5000 | AD68: 3171.8 | AE68: ✗ | AF68: 5000 | AG68: 3171.8 | AH68: ✗ | AI68: 广州玉川物流有限公司 | AJ68: 暂不处理 | AK68: =SUMIFS('8月奖金发放记录'!$G$2:$G$171,'8月奖金发放记录'!$B$2:$B$171,G68,'8月奖金发放记录'!$A$2:$A$171,A68) -> 0 | AL68: =SUMIFS('8月奖金发放记录'!$J$2:$J$171,'8月奖金发放记录'!$B$2:$B$171,G68,'8月奖金发放记录'!$A$2:$A$171,A68) -> 0 | AM68: 未满足本月奖励、结转或补发条件 | AN68: 否
A69: 粤AFQ8722 | B69: LB9A32A25P0LS1268 | C69: 现代氢能科技(广州)有限公司 | D69: 4.5吨货车 | E69: 恒运50辆4.5T普货 | F69: 260 | G69: 吴纬涛 | Q69: 1333.33 | R69: 1232.1 | S69: ✗ | T69: 5000 | U69: 838.9 | V69: ✗ | W69: 5000 | X69: 652 | Y69: ✗ | Z69: 5000 | AA69: 710.1 | AB69: ✗ | AC69: 5000 | AD69: 523.1 | AE69: ✗ | AF69: 21333.33 | AG69: 3956.2 | AH69: ✗ | AI69: 佛山市昌盛骏业供应链管理有限公司 | AJ69: 暂不处理 | AK69: =SUMIFS('8月奖金发放记录'!$G$2:$G$171,'8月奖金发放记录'!$B$2:$B$171,G69,'8月奖金发放记录'!$A$2:$A$171,A69) -> 0 | AL69: =SUMIFS('8月奖金发放记录'!$J$2:$J$171,'8月奖金发放记录'!$B$2:$B$171,G69,'8月奖金发放记录'!$A$2:$A$171,A69) -> 0 | AM69: 未满足本月奖励、结转或补发条件 | AN69: 否
A70: 粤AG03779 | B70: LB9A32A2XP0LS1248 | C70: 现代氢能科技(广州)有限公司 | D70: 4.5吨货车 | E70: 恒运50辆4.5T普货 | F70: 260 | G70: 吴纬涛 | AC70: 5000 | AD70: 5367.24 | AE70: ✓ | AF70: 5000 | AG70: 5367.24 | AH70: ✓ | AI70: 广州玉川物流有限公司 | AJ70: 暂不处理 | AK70: =SUMIFS('8月奖金发放记录'!$G$2:$G$171,'8月奖金发放记录'!$B$2:$B$171,G70,'8月奖金发放记录'!$A$2:$A$171,A70) -> 260 | AL70: =SUMIFS('8月奖金发放记录'!$J$2:$J$171,'8月奖金发放记录'!$B$2:$B$171,G70,'8月奖金发放记录'!$A$2:$A$171,A70) -> 260 | AN70: 否
A71: 粤AG32783 | B71: LB9A32A25P0LS1237 | C71: 现代氢能科技(广州)有限公司 | D71: 4.5吨货车 | E71: 恒运50辆4.5T普货 | F71: 260 | G71: 吴纬涛 | AC71: 2258.06 | AD71: 0 | AE71: ✗ | AF71: 2258.06 | AG71: 0 | AH71: ✗ | AI71: 广州市黄埔区小胖兄弟蔬果配送 中心 （个体工商户） | AJ71: 暂不处理 | AK71: =SUMIFS('8月奖金发放记录'!$G$2:$G$171,'8月奖金发放记录'!$B$2:$B$171,G71,'8月奖金发放记录'!$A$2:$A$171,A71) -> 0 | AL71: =SUMIFS('8月奖金发放记录'!$J$2:$J$171,'8月奖金发放记录'!$B$2:$B$171,G71,'8月奖金发放记录'!$A$2:$A$171,A71) -> 0 | AM71: 未满足本月奖励、结转或补发条件 | AN71: 否
A72: 粤AG35802 | B72: LB9A32A24P0LS1231 | C72: 现代氢能科技（广州）有限公司 | D72: 4.5吨货车 | E72: 恒运50辆4.5T普货 | F72: 260 | G72: 吴纬涛 | AC72: 5000 | AD72: 4080.9 | AE72: ✗ | AF72: 5000 | AG72: 4080.9 | AH72: ✗ | AI72: 广州玉川物流有限公司 | AJ72: 暂不处理 | AK72: =SUMIFS('8月奖金发放记录'!$G$2:$G$171,'8月奖金发放记录'!$B$2:$B$171,G72,'8月奖金发放记录'!$A$2:$A$171,A72) -> 0 | AL72: =SUMIFS('8月奖金发放记录'!$J$2:$J$171,'8月奖金发放记录'!$B$2:$B$171,G72,'8月奖金发放记录'!$A$2:$A$171,A72) -> 0 | AM72: 未满足本月奖励、结转或补发条件 | AN72: 否
A73: 粤AG39007 | B73: LB9A32A25P0LS1223 | C73: 现代氢能科技（广州）有限公司 | D73: 4.5吨货车 | E73: 恒运50辆4.5T普货 | F73: 260 | G73: 吴纬涛 | AC73: 645.16 | AD73: 0 | AE73: ✗ | AF73: 645.16 | AG73: 0 | AH73: ✗ | AI73: 广州昊森供应链管理有限公司 | AJ73: 暂不处理 | AK73: =SUMIFS('8月奖金发放记录'!$G$2:$G$171,'8月奖金发放记录'!$B$2:$B$171,G73,'8月奖金发放记录'!$A$2:$A$171,A73) -> 0 | AL73: =SUMIFS('8月奖金发放记录'!$J$2:$J$171,'8月奖金发放记录'!$B$2:$B$171,G73,'8月奖金发放记录'!$A$2:$A$171,A73) -> 0 | AM73: 未满足本月奖励、结转或补发条件 | AN73: 否
A74: 粤AGE1516 | B74: LB9A32A23R0LS1062 | C74: 广州开发区交投氢能运营管理有限公司 | D74: 4.5吨货车 | E74: 交投40辆4.5T普货 | F74: 150 | G74: 吴纬涛 | AC74: 3000 | AD74: 3358.6 | AE74: ✓ | AF74: 3000 | AG74: 3358.6 | AH74: ✓ | AI74: 广州玉川物流有限公司 | AJ74: 暂不处理 | AK74: =SUMIFS('8月奖金发放记录'!$G$2:$G$171,'8月奖金发放记录'!$B$2:$B$171,G74,'8月奖金发放记录'!$A$2:$A$171,A74) -> 150 | AL74: =SUMIFS('8月奖金发放记录'!$J$2:$J$171,'8月奖金发放记录'!$B$2:$B$171,G74,'8月奖金发放记录'!$A$2:$A$171,A74) -> 150 | AN74: 否
A75: 粤AGF7490 | B75: LB9A32A22R0LS1067 | C75: 广州开发区交投氢能运营管理有限公司 | D75: 4.5吨货车 | E75: 交投40辆4.5T普货 | F75: 150 | G75: 吴纬涛 | AC75: 3000 | AD75: 3985.8 | AE75: ✓ | AF75: 3000 | AG75: 3985.8 | AH75: ✓ | AI75: 广州玉川物流有限公司 | AJ75: 暂不处理 | AK75: =SUMIFS('8月奖金发放记录'!$G$2:$G$171,'8月奖金发放记录'!$B$2:$B$171,G75,'8月奖金发放记录'!$A$2:$A$171,A75) -> 150 | AL75: =SUMIFS('8月奖金发放记录'!$J$2:$J$171,'8月奖金发放记录'!$B$2:$B$171,G75,'8月奖金发放记录'!$A$2:$A$171,A75) -> 150 | AN75: 否
A76: 粤AGG4142 | B76: LB9A32A21R0LS1044 | C76: 广州开发区交投氢能运营管理有限公司 | D76: 4.5吨货车 | E76: 交投40辆4.5T普货 | F76: 150 | G76: 吴纬涛 | AC76: 3000 | AD76: 803.5 | AE76: ✗ | AF76: 3000 | AG76: 803.5 | AH76: ✗ | AI76: 广州市黄埔区小胖兄弟蔬果配送 中心 （个体工商户） | AJ76: 暂不处理 | AK76: =SUMIFS('8月奖金发放记录'!$G$2:$G$171,'8月奖金发放记录'!$B$2:$B$171,G76,'8月奖金发放记录'!$A$2:$A$171,A76) -> 0 | AL76: =SUMIFS('8月奖金发放记录'!$J$2:$J$171,'8月奖金发放记录'!$B$2:$B$171,G76,'8月奖金发放记录'!$A$2:$A$171,A76) -> 0 | AM76: 未满足本月奖励、结转或补发条件 | AN76: 否
A77: 粤AGH8490 | B77: LB9A32A20R0LS1052 | C77: 广州开发区交投氢能运营管理有限公司 | D77: 4.5吨货车 | E77: 交投40辆4.5T普货 | F77: 150 | G77: 吴纬涛 | T77: 1838.71 | U77: 548.6 | V77: ✗ | W77: 3000 | X77: 842.5 | Y77: ✗ | Z77: 3000 | AA77: 741.4 | AB77: ✗ | AC77: 3000 | AD77: 620.7 | AE77: ✗ | AF77: 10838.71 | AG77: 2753.2 | AH77: ✗ | AI77: 佛山市昌盛骏业供应链管理有限公司 | AJ77: 暂不处理 | AK77: =SUMIFS('8月奖金发放记录'!$G$2:$G$171,'8月奖金发放记录'!$B$2:$B$171,G77,'8月奖金发放记录'!$A$2:$A$171,A77) -> 0 | AL77: =SUMIFS('8月奖金发放记录'!$J$2:$J$171,'8月奖金发放记录'!$B$2:$B$171,G77,'8月奖金发放记录'!$A$2:$A$171,A77) -> 0 | AM77: 未满足本月奖励、结转或补发条件 | AN77: 否
A78: 粤AGP3672 | B78: LB9A32A22R0LS1621 | C78: 羚牛氢能科技(广东)有限公司 | D78: 4.5吨冷链车 | E78: 羚牛136辆4.5T冷链车 | F78: 260 | G78: 吴纬涛 | AC78: 5000 | AD78: 566.2 | AE78: ✗ | AF78: 5000 | AG78: 566.2 | AH78: ✗ | AI78: 广州埔供优选配送服务有限公司 | AJ78: 暂不处理 | AK78: =SUMIFS('8月奖金发放记录'!$G$2:$G$171,'8月奖金发放记录'!$B$2:$B$171,G78,'8月奖金发放记录'!$A$2:$A$171,A78) -> 0 | AL78: =SUMIFS('8月奖金发放记录'!$J$2:$J$171,'8月奖金发放记录'!$B$2:$B$171,G78,'8月奖金发放记录'!$A$2:$A$171,A78) -> 0 | AM78: 未满足本月奖励、结转或补发条件 | AN78: 否
A79: 粤AGP4325 | B79: LB9A32A24R0LS1653 | C79: 羚牛氢能科技(广东)有限公司 | D79: 4.5吨冷链车 | E79: 羚牛136辆4.5T冷链车 | F79: 260 | G79: 吴纬涛 | AC79: 5000 | AD79: 495.4 | AE79: ✗ | AF79: 5000 | AG79: 495.4 | AH79: ✗ | AI79: 广州埔供优选配送服务有限公司 | AJ79: 暂不处理 | AK79: =SUMIFS('8月奖金发放记录'!$G$2:$G$171,'8月奖金发放记录'!$B$2:$B$171,G79,'8月奖金发放记录'!$A$2:$A$171,A79) -> 0 | AL79: =SUMIFS('8月奖金发放记录'!$J$2:$J$171,'8月奖金发放记录'!$B$2:$B$171,G79,'8月奖金发放记录'!$A$2:$A$171,A79) -> 0 | AM79: 未满足本月奖励、结转或补发条件 | AN79: 否
A80: 粤AGP5139 | B80: LB9A32A25R0LS1354 | C80: 广州开发区交投氢能运营管理有限公司 | D80: 4.5吨冷链车 | E80: 交投190辆4.5T冷链车 | F80: 150 | G80: 吴纬涛 | AC80: 3000 | AD80: 3564.9 | AE80: ✓ | AF80: 3000 | AG80: 3564.9 | AH80: ✓ | AI80: 广州新运多租赁有限公司 | AJ80: 暂不处理 | AK80: =SUMIFS('8月奖金发放记录'!$G$2:$G$171,'8月奖金发放记录'!$B$2:$B$171,G80,'8月奖金发放记录'!$A$2:$A$171,A80) -> 150 | AL80: =SUMIFS('8月奖金发放记录'!$J$2:$J$171,'8月奖金发放记录'!$B$2:$B$171,G80,'8月奖金发放记录'!$A$2:$A$171,A80) -> 150 | AN80: 否
A81: 粤AGP5156 | B81: LB9A32A20R0LS1360 | C81: 广州开发区交投氢能运营管理有限公司 | D81: 4.5吨冷链车 | E81: 交投190辆4.5T冷链车 | F81: 150 | G81: 吴纬涛 | AC81: 3000 | AD81: 6610.5 | AE81: ✓ | AF81: 3000 | AG81: 6610.5 | AH81: ✓ | AI81: 广州新运多租赁有限公司 | AJ81: 暂不处理 | AK81: =SUMIFS('8月奖金发放记录'!$G$2:$G$171,'8月奖金发放记录'!$B$2:$B$171,G81,'8月奖金发放记录'!$A$2:$A$171,A81) -> 150 | AL81: =SUMIFS('8月奖金发放记录'!$J$2:$J$171,'8月奖金发放记录'!$B$2:$B$171,G81,'8月奖金发放记录'!$A$2:$A$171,A81) -> 150 | AN81: 否
A82: 粤AGP5163 | B82: LB9A32A27R0LS1369 | C82: 广州开发区交投氢能运营管理有限公司 | D82: 4.5吨冷链车 | E82: 交投190辆4.5T冷链车 | F82: 150 | G82: 吴纬涛 | AC82: 3000 | AD82: 490.7 | AE82: ✗ | AF82: 3000 | AG82: 490.7 | AH82: ✗ | AI82: 广州新运多租赁有限公司 | AJ82: 暂不处理 | AK82: =SUMIFS('8月奖金发放记录'!$G$2:$G$171,'8月奖金发放记录'!$B$2:$B$171,G82,'8月奖金发放记录'!$A$2:$A$171,A82) -> 0 | AL82: =SUMIFS('8月奖金发放记录'!$J$2:$J$171,'8月奖金发放记录'!$B$2:$B$171,G82,'8月奖金发放记录'!$A$2:$A$171,A82) -> 0 | AM82: 未满足本月奖励、结转或补发条件 | AN82: 否
A83: 粤AGP5359 | B83: LB9A32A24R0LS1524 | C83: 广州开发区交投氢能运营管理有限公司 | D83: 4.5吨冷链车 | E83: 交投190辆4.5T冷链车 | F83: 150 | G83: 吴纬涛 | AC83: 290.32 | AD83: 72.6 | AE83: ✗ | AF83: 290.32 | AG83: 72.6 | AH83: ✗ | AI83: 广州市范来餐饮管理有限公司 | AJ83: 暂不处理 | AK83: =SUMIFS('8月奖金发放记录'!$G$2:$G$171,'8月奖金发放记录'!$B$2:$B$171,G83,'8月奖金发放记录'!$A$2:$A$171,A83) -> 0 | AL83: =SUMIFS('8月奖金发放记录'!$J$2:$J$171,'8月奖金发放记录'!$B$2:$B$171,G83,'8月奖金发放记录'!$A$2:$A$171,A83) -> 0 | AM83: 未满足本月奖励、结转或补发条件 | AN83: 否
A84: 粤AGP5381 | B84: LB9A32A25R0LS1502 | C84: 广州开发区交投氢能运营管理有限公司 | D84: 4.5吨冷链车 | E84: 交投190辆4.5T冷链车 | F84: 150 | G84: 吴纬涛 | AC84: 3000 | AD84: 3235.6 | AE84: ✓ | AF84: 3000 | AG84: 3235.6 | AH84: ✓ | AI84: 广州市德利新隆生鲜食品有限公司 | AJ84: 暂不处理 | AK84: =SUMIFS('8月奖金发放记录'!$G$2:$G$171,'8月奖金发放记录'!$B$2:$B$171,G84,'8月奖金发放记录'!$A$2:$A$171,A84) -> 150 | AL84: =SUMIFS('8月奖金发放记录'!$J$2:$J$171,'8月奖金发放记录'!$B$2:$B$171,G84,'8月奖金发放记录'!$A$2:$A$171,A84) -> 150 | AN84: 否
A85: 粤AGP5613 | B85: LB9A32A22R0LS1635 | C85: 羚牛氢能科技(广东)有限公司 | D85: 4.5吨冷链车 | E85: 羚牛136辆4.5T冷链车 | F85: 300 | G85: 吴纬涛 | AC85: 322.58 | AD85: 43 | AE85: ✗ | AF85: 322.58 | AG85: 43 | AH85: ✗ | AI85: 广州市范来餐饮管理有限公司 | AJ85: 暂不处理 | AK85: =SUMIFS('8月奖金发放记录'!$G$2:$G$171,'8月奖金发放记录'!$B$2:$B$171,G85,'8月奖金发放记录'!$A$2:$A$171,A85) -> 0 | AL85: =SUMIFS('8月奖金发放记录'!$J$2:$J$171,'8月奖金发放记录'!$B$2:$B$171,G85,'8月奖金发放记录'!$A$2:$A$171,A85) -> 0 | AM85: 未满足本月奖励、结转或补发条件 | AN85: 否
A86: 粤AGP5639 | B86: LB9A32A26R0LS1539 | C86: 广州开发区交投氢能运营管理有限公司 | D86: 4.5吨冷链车 | E86: 交投190辆4.5T冷链车 | F86: 150 | G86: 吴纬涛 | AC86: 3000 | AD86: 0.2 | AE86: ✗ | AF86: 3000 | AG86: 0.2 | AH86: ✗ | AI86: 广州新运多租赁有限公司 | AJ86: 暂不处理 | AK86: =SUMIFS('8月奖金发放记录'!$G$2:$G$171,'8月奖金发放记录'!$B$2:$B$171,G86,'8月奖金发放记录'!$A$2:$A$171,A86) -> 0 | AL86: =SUMIFS('8月奖金发放记录'!$J$2:$J$171,'8月奖金发放记录'!$B$2:$B$171,G86,'8月奖金发放记录'!$A$2:$A$171,A86) -> 0 | AM86: 未满足本月奖励、结转或补发条件 | AN86: 否
A87: 粤AGP5653 | B87: LB9A32A2XR0LS1432 | C87: 广州开发区交投氢能运营管理有限公司 | D87: 4.5吨冷链车 | E87: 交投190辆4.5T冷链车 | F87: 150 | G87: 吴纬涛 | AC87: 2903.23 | AD87: 3879.1 | AE87: ✓ | AF87: 2903.23 | AG87: 3879.1 | AH87: ✓ | AI87: 广州星达供应链管理有限公司 | AJ87: 暂不处理 | AK87: =SUMIFS('8月奖金发放记录'!$G$2:$G$171,'8月奖金发放记录'!$B$2:$B$171,G87,'8月奖金发放记录'!$A$2:$A$171,A87) -> 145.16 | AL87: =SUMIFS('8月奖金发放记录'!$J$2:$J$171,'8月奖金发放记录'!$B$2:$B$171,G87,'8月奖金发放记录'!$A$2:$A$171,A87) -> 145.16 | AN87: 否
A88: 粤AGP5659 | B88: LB9A32A27R0LS1436 | C88: 广州开发区交投氢能运营管理有限公司 | D88: 4.5吨冷链车 | E88: 交投190辆4.5T冷链车 | F88: 150 | G88: 吴纬涛 | AC88: 3000 | AD88: 5392.3 | AE88: ✓ | AF88: 3000 | AG88: 5392.3 | AH88: ✓ | AI88: 广州新运多租赁有限公司 | AJ88: 暂不处理 | AK88: =SUMIFS('8月奖金发放记录'!$G$2:$G$171,'8月奖金发放记录'!$B$2:$B$171,G88,'8月奖金发放记录'!$A$2:$A$171,A88) -> 150 | AL88: =SUMIFS('8月奖金发放记录'!$J$2:$J$171,'8月奖金发放记录'!$B$2:$B$171,G88,'8月奖金发放记录'!$A$2:$A$171,A88) -> 150 | AN88: 否
A89: 粤AGP5758 | B89: LB9A32A24R0LS1510 | C89: 广州开发区交投氢能运营管理有限公司 | D89: 4.5吨冷链车 | E89: 交投190辆4.5T冷链车 | F89: 150 | G89: 吴纬涛 | AC89: 96.77 | AD89: 18.8 | AE89: ✗ | AF89: 96.77 | AG89: 18.8 | AH89: ✗ | AI89: 广州市德利新隆生鲜食品有限公司 | AJ89: 暂不处理 | AK89: =SUMIFS('8月奖金发放记录'!$G$2:$G$171,'8月奖金发放记录'!$B$2:$B$171,G89,'8月奖金发放记录'!$A$2:$A$171,A89) -> 0 | AL89: =SUMIFS('8月奖金发放记录'!$J$2:$J$171,'8月奖金发放记录'!$B$2:$B$171,G89,'8月奖金发放记录'!$A$2:$A$171,A89) -> 0 | AM89: 未满足本月奖励、结转或补发条件 | AN89: 否
A90: 粤AGP5759 | B90: LB9A32A25R0LS1421 | C90: 广州开发区交投氢能运营管理有限公司 | D90: 4.5吨冷链车 | E90: 交投190辆4.5T冷链车 | F90: 150 | G90: 吴纬涛 | AC90: 3000 | AD90: 3452.6 | AE90: ✓ | AF90: 3000 | AG90: 3452.6 | AH90: ✓ | AI90: 广州新运多租赁有限公司 | AJ90: 暂不处理 | AK90: =SUMIFS('8月奖金发放记录'!$G$2:$G$171,'8月奖金发放记录'!$B$2:$B$171,G90,'8月奖金发放记录'!$A$2:$A$171,A90) -> 150 | AL90: =SUMIFS('8月奖金发放记录'!$J$2:$J$171,'8月奖金发放记录'!$B$2:$B$171,G90,'8月奖金发放记录'!$A$2:$A$171,A90) -> 150 | AN90: 否
A91: 粤AGP5767 | B91: LB9A32A25R0LS1435 | C91: 广州开发区交投氢能运营管理有限公司 | D91: 4.5吨冷链车 | E91: 交投190辆4.5T冷链车 | F91: 150 | G91: 吴纬涛 | AC91: 3000 | AD91: 281.2 | AE91: ✗ | AF91: 3000 | AG91: 281.2 | AH91: ✗ | AI91: 广州新运多租赁有限公司 | AJ91: 暂不处理 | AK91: =SUMIFS('8月奖金发放记录'!$G$2:$G$171,'8月奖金发放记录'!$B$2:$B$171,G91,'8月奖金发放记录'!$A$2:$A$171,A91) -> 0 | AL91: =SUMIFS('8月奖金发放记录'!$J$2:$J$171,'8月奖金发放记录'!$B$2:$B$171,G91,'8月奖金发放记录'!$A$2:$A$171,A91) -> 0 | AM91: 未满足本月奖励、结转或补发条件 | AN91: 否
A92: 粤AGP5792 | B92: LB9A32A24R0LS1717 | C92: 羚牛氢能科技(广东)有限公司 | D92: 4.5吨冷链车 | E92: 羚牛136辆4.5T冷链车 | F92: 260 | G92: 吴纬涛 | AC92: 5000 | AD92: 663.4 | AE92: ✗ | AF92: 5000 | AG92: 663.4 | AH92: ✗ | AI92: 广州埔供优选配送服务有限公司 | AJ92: 暂不处理 | AK92: =SUMIFS('8月奖金发放记录'!$G$2:$G$171,'8月奖金发放记录'!$B$2:$B$171,G92,'8月奖金发放记录'!$A$2:$A$171,A92) -> 0 | AL92: =SUMIFS('8月奖金发放记录'!$J$2:$J$171,'8月奖金发放记录'!$B$2:$B$171,G92,'8月奖金发放记录'!$A$2:$A$171,A92) -> 0 | AM92: 未满足本月奖励、结转或补发条件 | AN92: 否
A93: 粤AGP5798 | B93: LB9A32A20R0LS1620 | C93: 广州开发区交投氢能运营管理有限公司 | D93: 4.5吨冷链车 | E93: 交投190辆4.5T冷链车 | F93: 150 | G93: 吴纬涛 | AC93: 3000 | AD93: 6388.1 | AE93: ✓ | AF93: 3000 | AG93: 6388.1 | AH93: ✓ | AI93: 广州新运多租赁有限公司 | AJ93: 暂不处理 | AK93: =SUMIFS('8月奖金发放记录'!$G$2:$G$171,'8月奖金发放记录'!$B$2:$B$171,G93,'8月奖金发放记录'!$A$2:$A$171,A93) -> 150 | AL93: =SUMIFS('8月奖金发放记录'!$J$2:$J$171,'8月奖金发放记录'!$B$2:$B$171,G93,'8月奖金发放记录'!$A$2:$A$171,A93) -> 150 | AN93: 否
A94: 粤AGP9347 | B94: LB9A32A27R0LS1596 | C94: 羚牛氢能科技(广东)有限公司 | D94: 4.5吨冷链车 | E94: 羚牛136辆4.5T冷链车 | F94: 300 | G94: 吴纬涛 | AC94: 322.58 | AD94: 57.4 | AE94: ✗ | AF94: 322.58 | AG94: 57.4 | AH94: ✗ | AI94: 广州市范来餐饮管理有限公司 | AJ94: 暂不处理 | AK94: =SUMIFS('8月奖金发放记录'!$G$2:$G$171,'8月奖金发放记录'!$B$2:$B$171,G94,'8月奖金发放记录'!$A$2:$A$171,A94) -> 0 | AL94: =SUMIFS('8月奖金发放记录'!$J$2:$J$171,'8月奖金发放记录'!$B$2:$B$171,G94,'8月奖金发放记录'!$A$2:$A$171,A94) -> 0 | AM94: 未满足本月奖励、结转或补发条件 | AN94: 否
A95: 粤AGP9351 | B95: LB9A32A28R0LS1607 | C95: 羚牛氢能科技(广东)有限公司 | D95: 4.5吨冷链车 | E95: 羚牛136辆4.5T冷链车 | F95: 300 | G95: 吴纬涛 | AC95: 483.87 | AD95: 191.3 | AE95: ✗ | AF95: 483.87 | AG95: 191.3 | AH95: ✗ | AI95: 广州市范来餐饮管理有限公司 | AJ95: 暂不处理 | AK95: =SUMIFS('8月奖金发放记录'!$G$2:$G$171,'8月奖金发放记录'!$B$2:$B$171,G95,'8月奖金发放记录'!$A$2:$A$171,A95) -> 0 | AL95: =SUMIFS('8月奖金发放记录'!$J$2:$J$171,'8月奖金发放记录'!$B$2:$B$171,G95,'8月奖金发放记录'!$A$2:$A$171,A95) -> 0 | AM95: 未满足本月奖励、结转或补发条件 | AN95: 否
A96: 粤AGP9728 | B96: LB9A32A26R0LS1492 | C96: 广州开发区交投氢能运营管理有限公司 | D96: 4.5吨冷链车 | E96: 交投190辆4.5T冷链车 | F96: 150 | G96: 吴纬涛 | AC96: 3000 | AD96: 3608 | AE96: ✓ | AF96: 3000 | AG96: 3608 | AH96: ✓ | AI96: 广州新运多租赁有限公司 | AJ96: 暂不处理 | AK96: =SUMIFS('8月奖金发放记录'!$G$2:$G$171,'8月奖金发放记录'!$B$2:$B$171,G96,'8月奖金发放记录'!$A$2:$A$171,A96) -> 150 | AL96: =SUMIFS('8月奖金发放记录'!$J$2:$J$171,'8月奖金发放记录'!$B$2:$B$171,G96,'8月奖金发放记录'!$A$2:$A$171,A96) -> 150 | AN96: 否
A97: 粤AGP9738 | B97: LB9A32A2XR0LS1513 | C97: 广州开发区交投氢能运营管理有限公司 | D97: 4.5吨冷链车 | E97: 交投190辆4.5T冷链车 | F97: 150 | G97: 吴纬涛 | AC97: 3000 | AD97: 1208.3 | AE97: ✗ | AF97: 3000 | AG97: 1208.3 | AH97: ✗ | AI97: 广州新运多租赁有限公司 | AJ97: 暂不处理 | AK97: =SUMIFS('8月奖金发放记录'!$G$2:$G$171,'8月奖金发放记录'!$B$2:$B$171,G97,'8月奖金发放记录'!$A$2:$A$171,A97) -> 0 | AL97: =SUMIFS('8月奖金发放记录'!$J$2:$J$171,'8月奖金发放记录'!$B$2:$B$171,G97,'8月奖金发放记录'!$A$2:$A$171,A97) -> 0 | AM97: 未满足本月奖励、结转或补发条件 | AN97: 否
A98: 粤AGP9756 | B98: LB9A32A28R0LS1400 | C98: 广州开发区交投氢能运营管理有限公司 | D98: 4.5吨冷链车 | E98: 交投190辆4.5T冷链车 | F98: 150 | G98: 吴纬涛 | K98: 3000 | L98: 3463.2 | M98: ✓ | N98: 3000 | O98: 909.9 | P98: ✗ | Q98: 3000 | R98: 1050.6 | S98: ✗ | T98: 3000 | U98: 3399.9 | V98: ✓ | W98: 3000 | X98: 1660.5 | Y98: ✗ | Z98: 3000 | AA98: 129.9 | AB98: ✗ | AC98: 483.87 | AD98: 194.9 | AE98: ✗ | AF98: 18483.87 | AG98: 10808.9 | AH98: ✗ | AI98: 广州市范来餐饮管理有限公司 | AJ98: 暂不处理 | AK98: =SUMIFS('8月奖金发放记录'!$G$2:$G$171,'8月奖金发放记录'!$B$2:$B$171,G98,'8月奖金发放记录'!$A$2:$A$171,A98) -> 0 | AL98: =SUMIFS('8月奖金发放记录'!$J$2:$J$171,'8月奖金发放记录'!$B$2:$B$171,G98,'8月奖金发放记录'!$A$2:$A$171,A98) -> 0 | AM98: 未满足本月奖励、结转或补发条件 | AN98: 否
A99: 粤AGP9787 | B99: LB9A32A25R0LS1497 | C99: 广州开发区交投氢能运营管理有限公司 | D99: 4.5吨冷链车 | E99: 交投190辆4.5T冷链车 | F99: 150 | G99: 吴纬涛 | AC99: 290.32 | AD99: 13.4 | AE99: ✗ | AF99: 290.32 | AG99: 13.4 | AH99: ✗ | AI99: 广州市范来餐饮管理有限公司 | AJ99: 暂不处理 | AK99: =SUMIFS('8月奖金发放记录'!$G$2:$G$171,'8月奖金发放记录'!$B$2:$B$171,G99,'8月奖金发放记录'!$A$2:$A$171,A99) -> 0 | AL99: =SUMIFS('8月奖金发放记录'!$J$2:$J$171,'8月奖金发放记录'!$B$2:$B$171,G99,'8月奖金发放记录'!$A$2:$A$171,A99) -> 0 | AM99: 未满足本月奖励、结转或补发条件 | AN99: 否
A100: 粤AGP9788 | B100: LB9A32A26R0LS1458 | C100: 广州开发区交投氢能运营管理有限公司 | D100: 4.5吨冷链车 | E100: 交投190辆4.5T冷链车 | F100: 150 | G100: 吴纬涛 | AC100: 3000 | AD100: 5765.7 | AE100: ✓ | AF100: 3000 | AG100: 5765.7 | AH100: ✓ | AI100: 广州新运多租赁有限公司 | AJ100: 暂不处理 | AK100: =SUMIFS('8月奖金发放记录'!$G$2:$G$171,'8月奖金发放记录'!$B$2:$B$171,G100,'8月奖金发放记录'!$A$2:$A$171,A100) -> 150 | AL100: =SUMIFS('8月奖金发放记录'!$J$2:$J$171,'8月奖金发放记录'!$B$2:$B$171,G100,'8月奖金发放记录'!$A$2:$A$171,A100) -> 150 | AN100: 否
...

Sheet 8月奖金发放记录
A1: 车牌号 | B1: 业务员 | C1: 部门 | D1: 客户名称 | E1: 发放类型 | F1: 对应考核月 | G1: 考核应发 | H1: 客户盈亏 | I1: 不发/扣减 | J1: 实发金额 | K1: 奖励基准 | L1: 折算分子 | M1: 折算分母 | N1: 原发放编号 | O1: 说明
A2: 粤AGG3040 | B2: 钟祥 | C2: 业务一部 | D2: 广州华轩供应链管理有限公司 | E2: 当月 | F2: 8 | G2: =ROUND(K2*L2/M2,2) -> 150 | H2: 暂不处理 | I2: 0 | J2: =G2-I2 -> 150 | K2: 150 | L2: 31 | M2: 31 | N2: 1
A3: 粤AGP2017 | B3: 钟祥 | C3: 业务一部 | D3: 佛山市龙天运力新能源汽车租赁有限公司 | E3: 当月 | F3: 8 | G3: =ROUND(K3*L3/M3,2) -> 260 | H3: 暂不处理 | I3: 0 | J3: =G3-I3 -> 260 | K3: 260 | L3: 31 | M3: 31 | N3: 2
A4: 粤AGP5766 | B4: 钟祥 | C4: 业务一部 | D4: 佛山市龙天运力新能源汽车租赁有限公司 | E4: 当月 | F4: 8 | G4: =ROUND(K4*L4/M4,2) -> 150 | H4: 暂不处理 | I4: 0 | J4: =G4-I4 -> 150 | K4: 150 | L4: 31 | M4: 31 | N4: 3
A5: 粤AGQ3028 | B5: 钟祥 | C5: 业务一部 | D5: 佛山市龙天运力新能源汽车租赁有限公司 | E5: 当月 | F5: 8 | G5: =ROUND(K5*L5/M5,2) -> 150 | H5: 暂不处理 | I5: 0 | J5: =G5-I5 -> 150 | K5: 150 | L5: 31 | M5: 31 | N5: 4
A6: 粤AGR5056 | B6: 钟祥 | C6: 业务一部 | D6: 佛山龙天红专汽车服务有限公司 | E6: 当月 | F6: 8 | G6: =ROUND(K6*L6/M6,2) -> 150 | H6: 暂不处理 | I6: 0 | J6: =G6-I6 -> 150 | K6: 150 | L6: 31 | M6: 31 | N6: 5
A7: 粤AGR5058 | B7: 钟祥 | C7: 业务一部 | D7: 佛山市三水淼供农产品有限公司 | E7: 当月 | F7: 8 | G7: =ROUND(K7*L7/M7,2) -> 150 | H7: 暂不处理 | I7: 0 | J7: =G7-I7 -> 150 | K7: 150 | L7: 31 | M7: 31 | N7: 6
A8: 粤AGR5560 | B8: 钟祥 | C8: 业务一部 | D8: 佛山市三水淼供农产品有限公司 | E8: 当月 | F8: 8 | G8: =ROUND(K8*L8/M8,2) -> 67.74 | H8: 暂不处理 | I8: 0 | J8: =G8-I8 -> 67.74 | K8: 150 | L8: 14 | M8: 31 | N8: 7
A9: 粤AGR9818 | B9: 钟祥 | C9: 业务一部 | D9: 佛山市万菜达网络科技有限公司 | E9: 当月 | F9: 8 | G9: =ROUND(K9*L9/M9,2) -> 24.19 | H9: 暂不处理 | I9: 0 | J9: =G9-I9 -> 24.19 | K9: 150 | L9: 5 | M9: 31 | N9: 8
A10: 粤AGR9879 | B10: 钟祥 | C10: 业务一部 | D10: 广东雄鑫农业发展有限公司 | E10: 当月 | F10: 8 | G10: =ROUND(K10*L10/M10,2) -> 150 | H10: 暂不处理 | I10: 0 | J10: =G10-I10 -> 150 | K10: 150 | L10: 31 | M10: 31 | N10: 9
A11: 粤AGR9887 | B11: 钟祥 | C11: 业务一部 | D11: 广东星空海实业有限公司 | E11: 当月 | F11: 8 | G11: =ROUND(K11*L11/M11,2) -> 150 | H11: 暂不处理 | I11: 0 | J11: =G11-I11 -> 150 | K11: 150 | L11: 31 | M11: 31 | N11: 10
A12: 粤AGP5613 | B12: 何文斌 | C12: 业务一部 | D12: 广州智卡物流供应链有限公司 | E12: 当月 | F12: 8 | G12: =ROUND(K12*L12/M12,2) -> 9.68 | H12: 暂不处理 | I12: 9.68 | J12: =G12-I12 -> 0 | K12: 300 | L12: 1 | M12: 31 | N12: 11 | O12: 保留8月原表现有扣减
A13: 粤AGE6410 | B13: 尚建华 | C13: 业务二部 | D13: 新疆中铁黑豹物流有限公司 | E13: 当月 | F13: 8 | G13: =ROUND(K13*L13/M13,2) -> 150 | H13: 暂不处理 | I13: 0 | J13: =G13-I13 -> 150 | K13: 150 | L13: 31 | M13: 31 | N13: 12
A14: 粤AGP3027 | B14: 尚建华 | C14: 业务二部 | D14: 嘉兴益顺冷链物流有限公司 | E14: 当月 | F14: 8 | G14: =ROUND(K14*L14/M14,2) -> 201.29 | H14: 暂不处理 | I14: 0 | J14: =G14-I14 -> 201.29 | K14: 260 | L14: 24 | M14: 31 | N14: 13
A15: 粤AGP3028 | B15: 尚建华 | C15: 业务二部 | D15: 新疆中铁黑豹物流有限公司 | E15: 当月 | F15: 8 | G15: =ROUND(K15*L15/M15,2) -> 150 | H15: 暂不处理 | I15: 0 | J15: =G15-I15 -> 150 | K15: 150 | L15: 31 | M15: 31 | N15: 14
A16: 粤AGP4489 | B16: 尚建华 | C16: 业务二部 | D16: 嘉兴益顺冷链物流有限公司 | E16: 当月 | F16: 8 | G16: =ROUND(K16*L16/M16,2) -> 234.84 | H16: 暂不处理 | I16: 0 | J16: =G16-I16 -> 234.84 | K16: 260 | L16: 28 | M16: 31 | N16: 15
A17: 粤AGP5165 | B17: 尚建华 | C17: 业务二部 | D17: 嘉兴益顺冷链物流有限公司 | E17: 当月 | F17: 8 | G17: =ROUND(K17*L17/M17,2) -> 184.52 | H17: 暂不处理 | I17: 0 | J17: =G17-I17 -> 184.52 | K17: 260 | L17: 22 | M17: 31 | N17: 16
A18: 粤AGP5770 | B18: 尚建华 | C18: 业务二部 | D18: 嘉兴益顺冷链物流有限公司 | E18: 当月 | F18: 8 | G18: =ROUND(K18*L18/M18,2) -> 260 | H18: 暂不处理 | I18: 0 | J18: =G18-I18 -> 260 | K18: 260 | L18: 31 | M18: 31 | N18: 17
A19: 粤AGP5791 | B19: 尚建华 | C19: 业务二部 | D19: 新疆中铁黑豹物流有限公司 | E19: 当月 | F19: 8 | G19: =ROUND(K19*L19/M19,2) -> 260 | H19: 暂不处理 | I19: 0 | J19: =G19-I19 -> 260 | K19: 260 | L19: 31 | M19: 31 | N19: 18
A20: 粤AGP6639 | B20: 尚建华 | C20: 业务二部 | D20: 嘉兴益顺冷链物流有限公司 | E20: 当月 | F20: 8 | G20: =ROUND(K20*L20/M20,2) -> 111.29 | H20: 暂不处理 | I20: 0 | J20: =G20-I20 -> 111.29 | K20: 150 | L20: 23 | M20: 31 | N20: 19
A21: 粤AGP6651 | B21: 尚建华 | C21: 业务二部 | D21: 嘉兴益顺冷链物流有限公司 | E21: 当月 | F21: 8 | G21: =ROUND(K21*L21/M21,2) -> 111.29 | H21: 暂不处理 | I21: 0 | J21: =G21-I21 -> 111.29 | K21: 150 | L21: 23 | M21: 31 | N21: 20
A22: 粤AGP9346 | B22: 尚建华 | C22: 业务二部 | D22: 嘉兴益顺冷链物流有限公司 | E22: 当月 | F22: 8 | G22: =ROUND(K22*L22/M22,2) -> 234.84 | H22: 暂不处理 | I22: 0 | J22: =G22-I22 -> 234.84 | K22: 260 | L22: 28 | M22: 31 | N22: 21
A23: 粤AGP9350 | B23: 尚建华 | C23: 业务二部 | D23: 嘉兴益顺冷链物流有限公司 | E23: 当月 | F23: 8 | G23: =ROUND(K23*L23/M23,2) -> 192.9 | H23: 暂不处理 | I23: 0 | J23: =G23-I23 -> 192.9 | K23: 260 | L23: 23 | M23: 31 | N23: 22
A24: 粤AGQ1330 | B24: 尚建华 | C24: 业务二部 | D24: 新疆佳淇信息科技有限公司 | E24: 当月 | F24: 8 | G24: =ROUND(K24*L24/M24,2) -> 150 | H24: 暂不处理 | I24: 0 | J24: =G24-I24 -> 150 | K24: 150 | L24: 31 | M24: 31 | N24: 23
... A171: 粤A09369F | B171: 秦挺 | C171: 业务五部 | D171: 武汉吉辰速运配送有限公司 | E171: 累计补发8月 | F171: 8 | G171: =ROUND(K171*L171/M171,2) -> 354.84 | H171: 暂不处理 | I171: 0 | J171: =G171-I171 -> 354.84 | K171: 1000 | L171: 11 | M171: 31 | N171: 170
A172: 合计 | G172: =SUM(G2:G171) -> 45075.15 | I172: =SUM(I2:I171) -> 9.68 | J172: =SUM(J2:J171) -> 45065.47
A174: 金额为实发：考核应发(G)−不发/扣减(I)=实发(J)。保留原表扣减9.68元，亏损暂不处理。

Sheet 8月汇总
A1: 一、实发明细（按发放类别）
A3: 实发-当月
A4: 销售人员 | B4: 车辆数 | C4: 金额
A5: 何文斌 | B5: =COUNTIFS('8月奖金发放记录'!$B$2:$B$171,A5,'8月奖金发放记录'!$E$2:$E$171,"当月") -> 1 | C5: =SUMIFS('8月奖金发放记录'!$J$2:$J$171,'8月奖金发放记录'!$B$2:$B$171,A5,'8月奖金发放记录'!$E$2:$E$171,"当月") -> 0
A6: 刘念念 | B6: =COUNTIFS('8月奖金发放记录'!$B$2:$B$171,A6,'8月奖金发放记录'!$E$2:$E$171,"当月") -> 7 | C6: =SUMIFS('8月奖金发放记录'!$J$2:$J$171,'8月奖金发放记录'!$B$2:$B$171,A6,'8月奖金发放记录'!$E$2:$E$171,"当月") -> 2000.64
A7: 吴纬涛 | B7: =COUNTIFS('8月奖金发放记录'!$B$2:$B$171,A7,'8月奖金发放记录'!$E$2:$E$171,"当月") -> 23 | C7: =SUMIFS('8月奖金发放记录'!$J$2:$J$171,'8月奖金发放记录'!$B$2:$B$171,A7,'8月奖金发放记录'!$E$2:$E$171,"当月") -> 5979.35
A8: 尚建华 | B8: =COUNTIFS('8月奖金发放记录'!$B$2:$B$171,A8,'8月奖金发放记录'!$E$2:$E$171,"当月") -> 15 | C8: =SUMIFS('8月奖金发放记录'!$J$2:$J$171,'8月奖金发放记录'!$B$2:$B$171,A8,'8月奖金发放记录'!$E$2:$E$171,"当月") -> 2690.97
A9: 秦挺 | B9: =COUNTIFS('8月奖金发放记录'!$B$2:$B$171,A9,'8月奖金发放记录'!$E$2:$E$171,"当月") -> 14 | C9: =SUMIFS('8月奖金发放记录'!$J$2:$J$171,'8月奖金发放记录'!$B$2:$B$171,A9,'8月奖金发放记录'!$E$2:$E$171,"当月") -> 9951.61
A10: 董剑煜 | B10: =COUNTIFS('8月奖金发放记录'!$B$2:$B$171,A10,'8月奖金发放记录'!$E$2:$E$171,"当月") -> 6 | C10: =SUMIFS('8月奖金发放记录'!$J$2:$J$171,'8月奖金发放记录'!$B$2:$B$171,A10,'8月奖金发放记录'!$E$2:$E$171,"当月") -> 1185.8
A11: 谯云 | B11: =COUNTIFS('8月奖金发放记录'!$B$2:$B$171,A11,'8月奖金发放记录'!$E$2:$E$171,"当月") -> 9 | C11: =SUMIFS('8月奖金发放记录'!$J$2:$J$171,'8月奖金发放记录'!$B$2:$B$171,A11,'8月奖金发放记录'!$E$2:$E$171,"当月") -> 1819.04
A12: 金可鹏 | B12: =COUNTIFS('8月奖金发放记录'!$B$2:$B$171,A12,'8月奖金发放记录'!$E$2:$E$171,"当月") -> 6 | C12: =SUMIFS('8月奖金发放记录'!$J$2:$J$171,'8月奖金发放记录'!$B$2:$B$171,A12,'8月奖金发放记录'!$E$2:$E$171,"当月") -> 2190
A13: 钟祥 | B13: =COUNTIFS('8月奖金发放记录'!$B$2:$B$171,A13,'8月奖金发放记录'!$E$2:$E$171,"当月") -> 12 | C13: =SUMIFS('8月奖金发放记录'!$J$2:$J$171,'8月奖金发放记录'!$B$2:$B$171,A13,'8月奖金发放记录'!$E$2:$E$171,"当月") -> 1701.93
A14: 总计 | B14: =SUM(B5:B13) -> 93 | C14: =SUM(C5:C13) -> 27519.34
A16: 实发-结转
A17: 销售人员 | B17: 车辆数 | C17: 金额
A18: 刘念念 | B18: =COUNTIFS('8月奖金发放记录'!$B$2:$B$171,A18,'8月奖金发放记录'!$E$2:$E$171,"结转") -> 6 | C18: =SUMIFS('8月奖金发放记录'!$J$2:$J$171,'8月奖金发放记录'!$B$2:$B$171,A18,'8月奖金发放记录'!$E$2:$E$171,"结转") -> 1010
A19: 尚建华 | B19: =COUNTIFS('8月奖金发放记录'!$B$2:$B$171,A19,'8月奖金发放记录'!$E$2:$E$171,"结转") -> 16 | C19: =SUMIFS('8月奖金发放记录'!$J$2:$J$171,'8月奖金发放记录'!$B$2:$B$171,A19,'8月奖金发放记录'!$E$2:$E$171,"结转") -> 2730
A20: 秦挺 | B20: =COUNTIFS('8月奖金发放记录'!$B$2:$B$171,A20,'8月奖金发放记录'!$E$2:$E$171,"结转") -> 2 | C20: =SUMIFS('8月奖金发放记录'!$J$2:$J$171,'8月奖金发放记录'!$B$2:$B$171,A20,'8月奖金发放记录'!$E$2:$E$171,"结转") -> 2000
A21: 董剑煜 | B21: =COUNTIFS('8月奖金发放记录'!$B$2:$B$171,A21,'8月奖金发放记录'!$E$2:$E$171,"结转") -> 11 | C21: =SUMIFS('8月奖金发放记录'!$J$2:$J$171,'8月奖金发放记录'!$B$2:$B$171,A21,'8月奖金发放记录'!$E$2:$E$171,"结转") -> 1870
A22: 谯云 | B22: =COUNTIFS('8月奖金发放记录'!$B$2:$B$171,A22,'8月奖金发放记录'!$E$2:$E$171,"结转") -> 7 | C22: =SUMIFS('8月奖金发放记录'!$J$2:$J$171,'8月奖金发放记录'!$B$2:$B$171,A22,'8月奖金发放记录'!$E$2:$E$171,"结转") -> 1380
A23: 金可鹏 | B23: =COUNTIFS('8月奖金发放记录'!$B$2:$B$171,A23,'8月奖金发放记录'!$E$2:$E$171,"结转") -> 15 | C23: =SUMIFS('8月奖金发放记录'!$J$2:$J$171,'8月奖金发放记录'!$B$2:$B$171,A23,'8月奖金发放记录'!$E$2:$E$171,"结转") -> 2470
A24: 总计 | B24: =SUM(B18:B23) -> 57 | C24: =SUM(C18:C23) -> 11460
A26: 实发-补发6月
A27: 销售人员 | B27: 车辆数 | C27: 金额
A28: 钟祥 | B28: =COUNTIFS('8月奖金发放记录'!$B$2:$B$171,A28,'8月奖金发放记录'!$E$2:$E$171,"补发6月") -> 1 | C28: =SUMIFS('8月奖金发放记录'!$J$2:$J$171,'8月奖金发放记录'!$B$2:$B$171,A28,'8月奖金发放记录'!$E$2:$E$171,"补发6月") -> 150
A29: 总计 | B29: =SUM(B28:B28) -> 1 | C29: =SUM(C28:C28) -> 150
A31: 实发-补发7月
A32: 销售人员 | B32: 车辆数 | C32: 金额
A33: 钟祥 | B33: =COUNTIFS('8月奖金发放记录'!$B$2:$B$171,A33,'8月奖金发放记录'!$E$2:$E$171,"补发7月") -> 1 | C33: =SUMIFS('8月奖金发放记录'!$J$2:$J$171,'8月奖金发放记录'!$B$2:$B$171,A33,'8月奖金发放记录'!$E$2:$E$171,"补发7月") -> 150
A34: 总计 | B34: =SUM(B33:B33) -> 1 | C34: =SUM(C33:C33) -> 150
A36: 实发-累计补发8月
A37: 销售人员 | B37: 车辆数 | C37: 金额
A38: 刘念念 | B38: =COUNTIFS('8月奖金发放记录'!$B$2:$B$171,A38,'8月奖金发放记录'!$E$2:$E$171,"累计补发8月") -> 6 | C38: =SUMIFS('8月奖金发放记录'!$J$2:$J$171,'8月奖金发放记录'!$B$2:$B$171,A38,'8月奖金发放记录'!$E$2:$E$171,"累计补发8月") -> 4361.61
A39: 尚建华 | B39: =COUNTIFS('8月奖金发放记录'!$B$2:$B$171,A39,'8月奖金发放记录'!$E$2:$E$171,"累计补发8月") -> 3 | C39: =SUMIFS('8月奖金发放记录'!$J$2:$J$171,'8月奖金发放记录'!$B$2:$B$171,A39,'8月奖金发放记录'!$E$2:$E$171,"累计补发8月") -> 180.97
A40: 秦挺 | B40: =COUNTIFS('8月奖金发放记录'!$B$2:$B$171,A40,'8月奖金发放记录'!$E$2:$E$171,"累计补发8月") -> 1 | C40: =SUMIFS('8月奖金发放记录'!$J$2:$J$171,'8月奖金发放记录'!$B$2:$B$171,A40,'8月奖金发放记录'!$E$2:$E$171,"累计补发8月") -> 354.84
A41: 董剑煜 | B41: =COUNTIFS('8月奖金发放记录'!$B$2:$B$171,A41,'8月奖金发放记录'!$E$2:$E$171,"累计补发8月") -> 4 | C41: =SUMIFS('8月奖金发放记录'!$J$2:$J$171,'8月奖金发放记录'!$B$2:$B$171,A41,'8月奖金发放记录'!$E$2:$E$171,"累计补发8月") -> 293.87
A42: 谯云 | B42: =COUNTIFS('8月奖金发放记录'!$B$2:$B$171,A42,'8月奖金发放记录'!$E$2:$E$171,"累计补发8月") -> 1 | C42: =SUMIFS('8月奖金发放记录'!$J$2:$J$171,'8月奖金发放记录'!$B$2:$B$171,A42,'8月奖金发放记录'!$E$2:$E$171,"累计补发8月") -> 150.97
A43: 钟祥 | B43: =COUNTIFS('8月奖金发放记录'!$B$2:$B$171,A43,'8月奖金发放记录'!$E$2:$E$171,"累计补发8月") -> 3 | C43: =SUMIFS('8月奖金发放记录'!$J$2:$J$171,'8月奖金发放记录'!$B$2:$B$171,A43,'8月奖金发放记录'!$E$2:$E$171,"累计补发8月") -> 443.87
A44: 总计 | B44: =SUM(B38:B43) -> 18 | C44: =SUM(C38:C43) -> 5786.13
A46: 考核应发合计 | C46: =SUM('8月奖金发放记录'!$G$2:$G$171) -> 45075.15
A48: 二、亏损处理
A49: 亏损暂不处理。
A51: 三、最终发放
A53: 最终发放明细
A54: 销售人员 | B54: 车辆数 | C54: 金额
A55: 何文斌 | B55: =COUNTIFS('8月奖金发放记录'!$B$2:$B$171,A55) -> 1 | C55: =SUMIFS('8月奖金发放记录'!$J$2:$J$171,'8月奖金发放记录'!$B$2:$B$171,A55) -> 0
A56: 刘念念 | B56: =COUNTIFS('8月奖金发放记录'!$B$2:$B$171,A56) -> 19 | C56: =SUMIFS('8月奖金发放记录'!$J$2:$J$171,'8月奖金发放记录'!$B$2:$B$171,A56) -> 7372.25
A57: 吴纬涛 | B57: =COUNTIFS('8月奖金发放记录'!$B$2:$B$171,A57) -> 23 | C57: =SUMIFS('8月奖金发放记录'!$J$2:$J$171,'8月奖金发放记录'!$B$2:$B$171,A57) -> 5979.35
A58: 尚建华 | B58: =COUNTIFS('8月奖金发放记录'!$B$2:$B$171,A58) -> 34 | C58: =SUMIFS('8月奖金发放记录'!$J$2:$J$171,'8月奖金发放记录'!$B$2:$B$171,A58) -> 5601.94
A59: 秦挺 | B59: =COUNTIFS('8月奖金发放记录'!$B$2:$B$171,A59) -> 17 | C59: =SUMIFS('8月奖金发放记录'!$J$2:$J$171,'8月奖金发放记录'!$B$2:$B$171,A59) -> 12306.45
A60: 董剑煜 | B60: =COUNTIFS('8月奖金发放记录'!$B$2:$B$171,A60) -> 21 | C60: =SUMIFS('8月奖金发放记录'!$J$2:$J$171,'8月奖金发放记录'!$B$2:$B$171,A60) -> 3349.67
A61: 谯云 | B61: =COUNTIFS('8月奖金发放记录'!$B$2:$B$171,A61) -> 17 | C61: =SUMIFS('8月奖金发放记录'!$J$2:$J$171,'8月奖金发放记录'!$B$2:$B$171,A61) -> 3350.01
A62: 金可鹏 | B62: =COUNTIFS('8月奖金发放记录'!$B$2:$B$171,A62) -> 21 | C62: =SUMIFS('8月奖金发放记录'!$J$2:$J$171,'8月奖金发放记录'!$B$2:$B$171,A62) -> 4660
A63: 钟祥 | B63: =COUNTIFS('8月奖金发放记录'!$B$2:$B$171,A63) -> 17 | C63: =SUMIFS('8月奖金发放记录'!$J$2:$J$171,'8月奖金发放记录'!$B$2:$B$171,A63) -> 2445.8
A64: 总计 | B64: =SUM(B55:B63) -> 170 | C64: =SUM(C55:C63) -> 45065.47
A66: 8月最终发放（按销售人员）
A67: 销售人员 | B67: 部门名称 | C67: 最终发放
A68: 何文斌 | B68: 业务一部 | C68: =SUMIFS('8月奖金发放记录'!$J$2:$J$171,'8月奖金发放记录'!$B$2:$B$171,A68) -> 0
A69: 刘念念 | B69: 业务二部 | C69: =SUMIFS('8月奖金发放记录'!$J$2:$J$171,'8月奖金发放记录'!$B$2:$B$171,A69) -> 7372.25
A70: 吴纬涛 | B70: 业务三部 | C70: =SUMIFS('8月奖金发放记录'!$J$2:$J$171,'8月奖金发放记录'!$B$2:$B$171,A70) -> 5979.35
A71: 尚建华 | B71: 业务二部 | C71: =SUMIFS('8月奖金发放记录'!$J$2:$J$171,'8月奖金发放记录'!$B$2:$B$171,A71) -> 5601.94
A72: 秦挺 | B72: 业务五部 | C72: =SUMIFS('8月奖金发放记录'!$J$2:$J$171,'8月奖金发放记录'!$B$2:$B$171,A72) -> 12306.45
A73: 童军林 | B73: 综合业务部 | C73: =SUMIFS('8月奖金发放记录'!$J$2:$J$171,'8月奖金发放记录'!$B$2:$B$171,A73) -> 0
A74: 董剑煜 | B74: 业务二部 | C74: =SUMIFS('8月奖金发放记录'!$J$2:$J$171,'8月奖金发放记录'!$B$2:$B$171,A74) -> 3349.67
A75: 谯云 | B75: 业务二部 | C75: =SUMIFS('8月奖金发放记录'!$J$2:$J$171,'8月奖金发放记录'!$B$2:$B$171,A75) -> 3350.01
A76: 赵伟军 | B76: 综合业务部 | C76: =SUMIFS('8月奖金发放记录'!$J$2:$J$171,'8月奖金发放记录'!$B$2:$B$171,A76) -> 0
A77: 金可鹏 | B77: 业务三部 | C77: =SUMIFS('8月奖金发放记录'!$J$2:$J$171,'8月奖金发放记录'!$B$2:$B$171,A77) -> 4660
A78: 钟祥 | B78: 业务一部、业务三部 | C78: =SUMIFS('8月奖金发放记录'!$J$2:$J$171,'8月奖金发放记录'!$B$2:$B$171,A78) -> 2445.8
A79: 陈高伟 | B79: 业务一部 | C79: =SUMIFS('8月奖金发放记录'!$J$2:$J$171,'8月奖金发放记录'!$B$2:$B$171,A79) -> 0
A80: 合计 | C80: =SUM(C68:C79) -> 45065.47
A82: 8月最终发放（按部门）
A83: 部门名称 | B83: 最终发放
A84: 业务一部 | B84: =SUMIF('8月奖金发放记录'!$C$2:$C$171,A84,'8月奖金发放记录'!$J$2:$J$171) -> 2145.8
A85: 业务三部 | B85: =SUMIF('8月奖金发放记录'!$C$2:$C$171,A85,'8月奖金发放记录'!$J$2:$J$171) -> 10939.35
A86: 业务二部 | B86: =SUMIF('8月奖金发放记录'!$C$2:$C$171,A86,'8月奖金发放记录'!$J$2:$J$171) -> 19673.87
A87: 业务五部 | B87: =SUMIF('8月奖金发放记录'!$C$2:$C$171,A87,'8月奖金发放记录'!$J$2:$J$171) -> 12306.45
A88: 综合业务部 | B88: =SUMIF('8月奖金发放记录'!$C$2:$C$171,A88,'8月奖金发放记录'!$J$2:$J$171) -> 0
A89: 合计 | B89: =SUM(B84:B88) -> 45065.47
A91: 总览
A92: 考核应发 | B92: =SUM('8月奖金发放记录'!$G$2:$G$171) -> 45075.15
A93: 不发/扣减 | B93: =SUM('8月奖金发放记录'!$I$2:$I$171) -> 9.68
A94: 最终发放 | B94: =SUM('8月奖金发放记录'!$J$2:$J$171) -> 45065.47

Sheet 8月汇总（新版界面）
A1: 2026年8月里程绩效核算 | J1: 8月核算总额（元）
A2: 1—6月历史里程已修正，1—7月实际已发保留。修正前后差额见8月调整对照。金额按发放项取分后汇总。 | J2: =M22 -> 45065.47
A5: 业务员 | B5: 部门 | C5: 当月（元） | D5: 结转（元） | E5: 补发1月（元） | F5: 补发2月（元） | G5: 补发3月（元） | H5: 补发4月（元） | I5: 补发5月（元） | J5: 补发6月（元） | K5: 补发7月（元） | L5: 累计补发8月（元） | M5: 合计（元）
A6: 何文斌 | B6: 业务一部 | C6: =SUMIFS('8月奖金发放记录'!$J$2:$J$171,'8月奖金发放记录'!$B$2:$B$171,A6,'8月奖金发放记录'!$E$2:$E$171,"当月") -> 0 | D6: =SUMIFS('8月奖金发放记录'!$J$2:$J$171,'8月奖金发放记录'!$B$2:$B$171,A6,'8月奖金发放记录'!$E$2:$E$171,"结转") -> 0 | E6: =SUMIFS('8月奖金发放记录'!$J$2:$J$171,'8月奖金发放记录'!$B$2:$B$171,A6,'8月奖金发放记录'!$E$2:$E$171,"补发1月") -> 0 | F6: =SUMIFS('8月奖金发放记录'!$J$2:$J$171,'8月奖金发放记录'!$B$2:$B$171,A6,'8月奖金发放记录'!$E$2:$E$171,"补发2月") -> 0 | G6: =SUMIFS('8月奖金发放记录'!$J$2:$J$171,'8月奖金发放记录'!$B$2:$B$171,A6,'8月奖金发放记录'!$E$2:$E$171,"补发3月") -> 0 | H6: =SUMIFS('8月奖金发放记录'!$J$2:$J$171,'8月奖金发放记录'!$B$2:$B$171,A6,'8月奖金发放记录'!$E$2:$E$171,"补发4月") -> 0 | I6: =SUMIFS('8月奖金发放记录'!$J$2:$J$171,'8月奖金发放记录'!$B$2:$B$171,A6,'8月奖金发放记录'!$E$2:$E$171,"补发5月") -> 0 | J6: =SUMIFS('8月奖金发放记录'!$J$2:$J$171,'8月奖金发放记录'!$B$2:$B$171,A6,'8月奖金发放记录'!$E$2:$E$171,"补发6月") -> 0 | K6: =SUMIFS('8月奖金发放记录'!$J$2:$J$171,'8月奖金发放记录'!$B$2:$B$171,A6,'8月奖金发放记录'!$E$2:$E$171,"补发7月") -> 0 | L6: =SUMIFS('8月奖金发放记录'!$J$2:$J$171,'8月奖金发放记录'!$B$2:$B$171,A6,'8月奖金发放记录'!$E$2:$E$171,"累计补发8月") -> 0 | M6: =SUM(C6:L6) -> 0
A7: 刘念念 | B7: 业务二部 | C7: =SUMIFS('8月奖金发放记录'!$J$2:$J$171,'8月奖金发放记录'!$B$2:$B$171,A7,'8月奖金发放记录'!$E$2:$E$171,"当月") -> 2000.64 | D7: =SUMIFS('8月奖金发放记录'!$J$2:$J$171,'8月奖金发放记录'!$B$2:$B$171,A7,'8月奖金发放记录'!$E$2:$E$171,"结转") -> 1010 | E7: =SUMIFS('8月奖金发放记录'!$J$2:$J$171,'8月奖金发放记录'!$B$2:$B$171,A7,'8月奖金发放记录'!$E$2:$E$171,"补发1月") -> 0 | F7: =SUMIFS('8月奖金发放记录'!$J$2:$J$171,'8月奖金发放记录'!$B$2:$B$171,A7,'8月奖金发放记录'!$E$2:$E$171,"补发2月") -> 0 | G7: =SUMIFS('8月奖金发放记录'!$J$2:$J$171,'8月奖金发放记录'!$B$2:$B$171,A7,'8月奖金发放记录'!$E$2:$E$171,"补发3月") -> 0 | H7: =SUMIFS('8月奖金发放记录'!$J$2:$J$171,'8月奖金发放记录'!$B$2:$B$171,A7,'8月奖金发放记录'!$E$2:$E$171,"补发4月") -> 0 | I7: =SUMIFS('8月奖金发放记录'!$J$2:$J$171,'8月奖金发放记录'!$B$2:$B$171,A7,'8月奖金发放记录'!$E$2:$E$171,"补发5月") -> 0 | J7: =SUMIFS('8月奖金发放记录'!$J$2:$J$171,'8月奖金发放记录'!$B$2:$B$171,A7,'8月奖金发放记录'!$E$2:$E$171,"补发6月") -> 0 | K7: =SUMIFS('8月奖金发放记录'!$J$2:$J$171,'8月奖金发放记录'!$B$2:$B$171,A7,'8月奖金发放记录'!$E$2:$E$171,"补发7月") -> 0 | L7: =SUMIFS('8月奖金发放记录'!$J$2:$J$171,'8月奖金发放记录'!$B$2:$B$171,A7,'8月奖金发放记录'!$E$2:$E$171,"累计补发8月") -> 4361.61 | M7: =SUM(C7:L7) -> 7372.25
A8: 吴纬涛 | B8: 业务三部 | C8: =SUMIFS('8月奖金发放记录'!$J$2:$J$171,'8月奖金发放记录'!$B$2:$B$171,A8,'8月奖金发放记录'!$E$2:$E$171,"当月") -> 5979.35 | D8: =SUMIFS('8月奖金发放记录'!$J$2:$J$171,'8月奖金发放记录'!$B$2:$B$171,A8,'8月奖金发放记录'!$E$2:$E$171,"结转") -> 0 | E8: =SUMIFS('8月奖金发放记录'!$J$2:$J$171,'8月奖金发放记录'!$B$2:$B$171,A8,'8月奖金发放记录'!$E$2:$E$171,"补发1月") -> 0 | F8: =SUMIFS('8月奖金发放记录'!$J$2:$J$171,'8月奖金发放记录'!$B$2:$B$171,A8,'8月奖金发放记录'!$E$2:$E$171,"补发2月") -> 0 | G8: =SUMIFS('8月奖金发放记录'!$J$2:$J$171,'8月奖金发放记录'!$B$2:$B$171,A8,'8月奖金发放记录'!$E$2:$E$171,"补发3月") -> 0 | H8: =SUMIFS('8月奖金发放记录'!$J$2:$J$171,'8月奖金发放记录'!$B$2:$B$171,A8,'8月奖金发放记录'!$E$2:$E$171,"补发4月") -> 0 | I8: =SUMIFS('8月奖金发放记录'!$J$2:$J$171,'8月奖金发放记录'!$B$2:$B$171,A8,'8月奖金发放记录'!$E$2:$E$171,"补发5月") -> 0 | J8: =SUMIFS('8月奖金发放记录'!$J$2:$J$171,'8月奖金发放记录'!$B$2:$B$171,A8,'8月奖金发放记录'!$E$2:$E$171,"补发6月") -> 0 | K8: =SUMIFS('8月奖金发放记录'!$J$2:$J$171,'8月奖金发放记录'!$B$2:$B$171,A8,'8月奖金发放记录'!$E$2:$E$171,"补发7月") -> 0 | L8: =SUMIFS('8月奖金发放记录'!$J$2:$J$171,'8月奖金发放记录'!$B$2:$B$171,A8,'8月奖金发放记录'!$E$2:$E$171,"累计补发8月") -> 0 | M8: =SUM(C8:L8) -> 5979.35
A9: 尚建华 | B9: 业务二部 | C9: =SUMIFS('8月奖金发放记录'!$J$2:$J$171,'8月奖金发放记录'!$B$2:$B$171,A9,'8月奖金发放记录'!$E$2:$E$171,"当月") -> 2690.97 | D9: =SUMIFS('8月奖金发放记录'!$J$2:$J$171,'8月奖金发放记录'!$B$2:$B$171,A9,'8月奖金发放记录'!$E$2:$E$171,"结转") -> 2730 | E9: =SUMIFS('8月奖金发放记录'!$J$2:$J$171,'8月奖金发放记录'!$B$2:$B$171,A9,'8月奖金发放记录'!$E$2:$E$171,"补发1月") -> 0 | F9: =SUMIFS('8月奖金发放记录'!$J$2:$J$171,'8月奖金发放记录'!$B$2:$B$171,A9,'8月奖金发放记录'!$E$2:$E$171,"补发2月") -> 0 | G9: =SUMIFS('8月奖金发放记录'!$J$2:$J$171,'8月奖金发放记录'!$B$2:$B$171,A9,'8月奖金发放记录'!$E$2:$E$171,"补发3月") -> 0 | H9: =SUMIFS('8月奖金发放记录'!$J$2:$J$171,'8月奖金发放记录'!$B$2:$B$171,A9,'8月奖金发放记录'!$E$2:$E$171,"补发4月") -> 0 | I9: =SUMIFS('8月奖金发放记录'!$J$2:$J$171,'8月奖金发放记录'!$B$2:$B$171,A9,'8月奖金发放记录'!$E$2:$E$171,"补发5月") -> 0 | J9: =SUMIFS('8月奖金发放记录'!$J$2:$J$171,'8月奖金发放记录'!$B$2:$B$171,A9,'8月奖金发放记录'!$E$2:$E$171,"补发6月") -> 0 | K9: =SUMIFS('8月奖金发放记录'!$J$2:$J$171,'8月奖金发放记录'!$B$2:$B$171,A9,'8月奖金发放记录'!$E$2:$E$171,"补发7月") -> 0 | L9: =SUMIFS('8月奖金发放记录'!$J$2:$J$171,'8月奖金发放记录'!$B$2:$B$171,A9,'8月奖金发放记录'!$E$2:$E$171,"累计补发8月") -> 180.97 | M9: =SUM(C9:L9) -> 5601.94
A10: 秦挺 | B10: 业务五部 | C10: =SUMIFS('8月奖金发放记录'!$J$2:$J$171,'8月奖金发放记录'!$B$2:$B$171,A10,'8月奖金发放记录'!$E$2:$E$171,"当月") -> 9951.61 | D10: =SUMIFS('8月奖金发放记录'!$J$2:$J$171,'8月奖金发放记录'!$B$2:$B$171,A10,'8月奖金发放记录'!$E$2:$E$171,"结转") -> 2000 | E10: =SUMIFS('8月奖金发放记录'!$J$2:$J$171,'8月奖金发放记录'!$B$2:$B$171,A10,'8月奖金发放记录'!$E$2:$E$171,"补发1月") -> 0 | F10: =SUMIFS('8月奖金发放记录'!$J$2:$J$171,'8月奖金发放记录'!$B$2:$B$171,A10,'8月奖金发放记录'!$E$2:$E$171,"补发2月") -> 0 | G10: =SUMIFS('8月奖金发放记录'!$J$2:$J$171,'8月奖金发放记录'!$B$2:$B$171,A10,'8月奖金发放记录'!$E$2:$E$171,"补发3月") -> 0 | H10: =SUMIFS('8月奖金发放记录'!$J$2:$J$171,'8月奖金发放记录'!$B$2:$B$171,A10,'8月奖金发放记录'!$E$2:$E$171,"补发4月") -> 0 | I10: =SUMIFS('8月奖金发放记录'!$J$2:$J$171,'8月奖金发放记录'!$B$2:$B$171,A10,'8月奖金发放记录'!$E$2:$E$171,"补发5月") -> 0 | J10: =SUMIFS('8月奖金发放记录'!$J$2:$J$171,'8月奖金发放记录'!$B$2:$B$171,A10,'8月奖金发放记录'!$E$2:$E$171,"补发6月") -> 0 | K10: =SUMIFS('8月奖金发放记录'!$J$2:$J$171,'8月奖金发放记录'!$B$2:$B$171,A10,'8月奖金发放记录'!$E$2:$E$171,"补发7月") -> 0 | L10: =SUMIFS('8月奖金发放记录'!$J$2:$J$171,'8月奖金发放记录'!$B$2:$B$171,A10,'8月奖金发放记录'!$E$2:$E$171,"累计补发8月") -> 354.84 | M10: =SUM(C10:L10) -> 12306.45
A11: 童军林 | B11: 综合业务部 | C11: =SUMIFS('8月奖金发放记录'!$J$2:$J$171,'8月奖金发放记录'!$B$2:$B$171,A11,'8月奖金发放记录'!$E$2:$E$171,"当月") -> 0 | D11: =SUMIFS('8月奖金发放记录'!$J$2:$J$171,'8月奖金发放记录'!$B$2:$B$171,A11,'8月奖金发放记录'!$E$2:$E$171,"结转") -> 0 | E11: =SUMIFS('8月奖金发放记录'!$J$2:$J$171,'8月奖金发放记录'!$B$2:$B$171,A11,'8月奖金发放记录'!$E$2:$E$171,"补发1月") -> 0 | F11: =SUMIFS('8月奖金发放记录'!$J$2:$J$171,'8月奖金发放记录'!$B$2:$B$171,A11,'8月奖金发放记录'!$E$2:$E$171,"补发2月") -> 0 | G11: =SUMIFS('8月奖金发放记录'!$J$2:$J$171,'8月奖金发放记录'!$B$2:$B$171,A11,'8月奖金发放记录'!$E$2:$E$171,"补发3月") -> 0 | H11: =SUMIFS('8月奖金发放记录'!$J$2:$J$171,'8月奖金发放记录'!$B$2:$B$171,A11,'8月奖金发放记录'!$E$2:$E$171,"补发4月") -> 0 | I11: =SUMIFS('8月奖金发放记录'!$J$2:$J$171,'8月奖金发放记录'!$B$2:$B$171,A11,'8月奖金发放记录'!$E$2:$E$171,"补发5月") -> 0 | J11: =SUMIFS('8月奖金发放记录'!$J$2:$J$171,'8月奖金发放记录'!$B$2:$B$171,A11,'8月奖金发放记录'!$E$2:$E$171,"补发6月") -> 0 | K11: =SUMIFS('8月奖金发放记录'!$J$2:$J$171,'8月奖金发放记录'!$B$2:$B$171,A11,'8月奖金发放记录'!$E$2:$E$171,"补发7月") -> 0 | L11: =SUMIFS('8月奖金发放记录'!$J$2:$J$171,'8月奖金发放记录'!$B$2:$B$171,A11,'8月奖金发放记录'!$E$2:$E$171,"累计补发8月") -> 0 | M11: =SUM(C11:L11) -> 0
A12: 董剑煜 | B12: 业务二部 | C12: =SUMIFS('8月奖金发放记录'!$J$2:$J$171,'8月奖金发放记录'!$B$2:$B$171,A12,'8月奖金发放记录'!$E$2:$E$171,"当月") -> 1185.8 | D12: =SUMIFS('8月奖金发放记录'!$J$2:$J$171,'8月奖金发放记录'!$B$2:$B$171,A12,'8月奖金发放记录'!$E$2:$E$171,"结转") -> 1870 | E12: =SUMIFS('8月奖金发放记录'!$J$2:$J$171,'8月奖金发放记录'!$B$2:$B$171,A12,'8月奖金发放记录'!$E$2:$E$171,"补发1月") -> 0 | F12: =SUMIFS('8月奖金发放记录'!$J$2:$J$171,'8月奖金发放记录'!$B$2:$B$171,A12,'8月奖金发放记录'!$E$2:$E$171,"补发2月") -> 0 | G12: =SUMIFS('8月奖金发放记录'!$J$2:$J$171,'8月奖金发放记录'!$B$2:$B$171,A12,'8月奖金发放记录'!$E$2:$E$171,"补发3月") -> 0 | H12: =SUMIFS('8月奖金发放记录'!$J$2:$J$171,'8月奖金发放记录'!$B$2:$B$171,A12,'8月奖金发放记录'!$E$2:$E$171,"补发4月") -> 0 | I12: =SUMIFS('8月奖金发放记录'!$J$2:$J$171,'8月奖金发放记录'!$B$2:$B$171,A12,'8月奖金发放记录'!$E$2:$E$171,"补发5月") -> 0 | J12: =SUMIFS('8月奖金发放记录'!$J$2:$J$171,'8月奖金发放记录'!$B$2:$B$171,A12,'8月奖金发放记录'!$E$2:$E$171,"补发6月") -> 0 | K12: =SUMIFS('8月奖金发放记录'!$J$2:$J$171,'8月奖金发放记录'!$B$2:$B$171,A12,'8月奖金发放记录'!$E$2:$E$171,"补发7月") -> 0 | L12: =SUMIFS('8月奖金发放记录'!$J$2:$J$171,'8月奖金发放记录'!$B$2:$B$171,A12,'8月奖金发放记录'!$E$2:$E$171,"累计补发8月") -> 293.87 | M12: =SUM(C12:L12) -> 3349.67
A13: 谯云 | B13: 业务二部 | C13: =SUMIFS('8月奖金发放记录'!$J$2:$J$171,'8月奖金发放记录'!$B$2:$B$171,A13,'8月奖金发放记录'!$E$2:$E$171,"当月") -> 1819.04 | D13: =SUMIFS('8月奖金发放记录'!$J$2:$J$171,'8月奖金发放记录'!$B$2:$B$171,A13,'8月奖金发放记录'!$E$2:$E$171,"结转") -> 1380 | E13: =SUMIFS('8月奖金发放记录'!$J$2:$J$171,'8月奖金发放记录'!$B$2:$B$171,A13,'8月奖金发放记录'!$E$2:$E$171,"补发1月") -> 0 | F13: =SUMIFS('8月奖金发放记录'!$J$2:$J$171,'8月奖金发放记录'!$B$2:$B$171,A13,'8月奖金发放记录'!$E$2:$E$171,"补发2月") -> 0 | G13: =SUMIFS('8月奖金发放记录'!$J$2:$J$171,'8月奖金发放记录'!$B$2:$B$171,A13,'8月奖金发放记录'!$E$2:$E$171,"补发3月") -> 0 | H13: =SUMIFS('8月奖金发放记录'!$J$2:$J$171,'8月奖金发放记录'!$B$2:$B$171,A13,'8月奖金发放记录'!$E$2:$E$171,"补发4月") -> 0 | I13: =SUMIFS('8月奖金发放记录'!$J$2:$J$171,'8月奖金发放记录'!$B$2:$B$171,A13,'8月奖金发放记录'!$E$2:$E$171,"补发5月") -> 0 | J13: =SUMIFS('8月奖金发放记录'!$J$2:$J$171,'8月奖金发放记录'!$B$2:$B$171,A13,'8月奖金发放记录'!$E$2:$E$171,"补发6月") -> 0 | K13: =SUMIFS('8月奖金发放记录'!$J$2:$J$171,'8月奖金发放记录'!$B$2:$B$171,A13,'8月奖金发放记录'!$E$2:$E$171,"补发7月") -> 0 | L13: =SUMIFS('8月奖金发放记录'!$J$2:$J$171,'8月奖金发放记录'!$B$2:$B$171,A13,'8月奖金发放记录'!$E$2:$E$171,"累计补发8月") -> 150.97 | M13: =SUM(C13:L13) -> 3350.01
A14: 赵伟军 | B14: 综合业务部 | C14: =SUMIFS('8月奖金发放记录'!$J$2:$J$171,'8月奖金发放记录'!$B$2:$B$171,A14,'8月奖金发放记录'!$E$2:$E$171,"当月") -> 0 | D14: =SUMIFS('8月奖金发放记录'!$J$2:$J$171,'8月奖金发放记录'!$B$2:$B$171,A14,'8月奖金发放记录'!$E$2:$E$171,"结转") -> 0 | E14: =SUMIFS('8月奖金发放记录'!$J$2:$J$171,'8月奖金发放记录'!$B$2:$B$171,A14,'8月奖金发放记录'!$E$2:$E$171,"补发1月") -> 0 | F14: =SUMIFS('8月奖金发放记录'!$J$2:$J$171,'8月奖金发放记录'!$B$2:$B$171,A14,'8月奖金发放记录'!$E$2:$E$171,"补发2月") -> 0 | G14: =SUMIFS('8月奖金发放记录'!$J$2:$J$171,'8月奖金发放记录'!$B$2:$B$171,A14,'8月奖金发放记录'!$E$2:$E$171,"补发3月") -> 0 | H14: =SUMIFS('8月奖金发放记录'!$J$2:$J$171,'8月奖金发放记录'!$B$2:$B$171,A14,'8月奖金发放记录'!$E$2:$E$171,"补发4月") -> 0 | I14: =SUMIFS('8月奖金发放记录'!$J$2:$J$171,'8月奖金发放记录'!$B$2:$B$171,A14,'8月奖金发放记录'!$E$2:$E$171,"补发5月") -> 0 | J14: =SUMIFS('8月奖金发放记录'!$J$2:$J$171,'8月奖金发放记录'!$B$2:$B$171,A14,'8月奖金发放记录'!$E$2:$E$171,"补发6月") -> 0 | K14: =SUMIFS('8月奖金发放记录'!$J$2:$J$171,'8月奖金发放记录'!$B$2:$B$171,A14,'8月奖金发放记录'!$E$2:$E$171,"补发7月") -> 0 | L14: =SUMIFS('8月奖金发放记录'!$J$2:$J$171,'8月奖金发放记录'!$B$2:$B$171,A14,'8月奖金发放记录'!$E$2:$E$171,"累计补发8月") -> 0 | M14: =SUM(C14:L14) -> 0
A15: 金可鹏 | B15: 业务三部 | C15: =SUMIFS('8月奖金发放记录'!$J$2:$J$171,'8月奖金发放记录'!$B$2:$B$171,A15,'8月奖金发放记录'!$E$2:$E$171,"当月") -> 2190 | D15: =SUMIFS('8月奖金发放记录'!$J$2:$J$171,'8月奖金发放记录'!$B$2:$B$171,A15,'8月奖金发放记录'!$E$2:$E$171,"结转") -> 2470 | E15: =SUMIFS('8月奖金发放记录'!$J$2:$J$171,'8月奖金发放记录'!$B$2:$B$171,A15,'8月奖金发放记录'!$E$2:$E$171,"补发1月") -> 0 | F15: =SUMIFS('8月奖金发放记录'!$J$2:$J$171,'8月奖金发放记录'!$B$2:$B$171,A15,'8月奖金发放记录'!$E$2:$E$171,"补发2月") -> 0 | G15: =SUMIFS('8月奖金发放记录'!$J$2:$J$171,'8月奖金发放记录'!$B$2:$B$171,A15,'8月奖金发放记录'!$E$2:$E$171,"补发3月") -> 0 | H15: =SUMIFS('8月奖金发放记录'!$J$2:$J$171,'8月奖金发放记录'!$B$2:$B$171,A15,'8月奖金发放记录'!$E$2:$E$171,"补发4月") -> 0 | I15: =SUMIFS('8月奖金发放记录'!$J$2:$J$171,'8月奖金发放记录'!$B$2:$B$171,A15,'8月奖金发放记录'!$E$2:$E$171,"补发5月") -> 0 | J15: =SUMIFS('8月奖金发放记录'!$J$2:$J$171,'8月奖金发放记录'!$B$2:$B$171,A15,'8月奖金发放记录'!$E$2:$E$171,"补发6月") -> 0 | K15: =SUMIFS('8月奖金发放记录'!$J$2:$J$171,'8月奖金发放记录'!$B$2:$B$171,A15,'8月奖金发放记录'!$E$2:$E$171,"补发7月") -> 0 | L15: =SUMIFS('8月奖金发放记录'!$J$2:$J$171,'8月奖金发放记录'!$B$2:$B$171,A15,'8月奖金发放记录'!$E$2:$E$171,"累计补发8月") -> 0 | M15: =SUM(C15:L15) -> 4660
A16: 钟祥 | B16: 业务一部、业务三部 | C16: =SUMIFS('8月奖金发放记录'!$J$2:$J$171,'8月奖金发放记录'!$B$2:$B$171,A16,'8月奖金发放记录'!$E$2:$E$171,"当月") -> 1701.93 | D16: =SUMIFS('8月奖金发放记录'!$J$2:$J$171,'8月奖金发放记录'!$B$2:$B$171,A16,'8月奖金发放记录'!$E$2:$E$171,"结转") -> 0 | E16: =SUMIFS('8月奖金发放记录'!$J$2:$J$171,'8月奖金发放记录'!$B$2:$B$171,A16,'8月奖金发放记录'!$E$2:$E$171,"补发1月") -> 0 | F16: =SUMIFS('8月奖金发放记录'!$J$2:$J$171,'8月奖金发放记录'!$B$2:$B$171,A16,'8月奖金发放记录'!$E$2:$E$171,"补发2月") -> 0 | G16: =SUMIFS('8月奖金发放记录'!$J$2:$J$171,'8月奖金发放记录'!$B$2:$B$171,A16,'8月奖金发放记录'!$E$2:$E$171,"补发3月") -> 0 | H16: =SUMIFS('8月奖金发放记录'!$J$2:$J$171,'8月奖金发放记录'!$B$2:$B$171,A16,'8月奖金发放记录'!$E$2:$E$171,"补发4月") -> 0 | I16: =SUMIFS('8月奖金发放记录'!$J$2:$J$171,'8月奖金发放记录'!$B$2:$B$171,A16,'8月奖金发放记录'!$E$2:$E$171,"补发5月") -> 0 | J16: =SUMIFS('8月奖金发放记录'!$J$2:$J$171,'8月奖金发放记录'!$B$2:$B$171,A16,'8月奖金发放记录'!$E$2:$E$171,"补发6月") -> 150 | K16: =SUMIFS('8月奖金发放记录'!$J$2:$J$171,'8月奖金发放记录'!$B$2:$B$171,A16,'8月奖金发放记录'!$E$2:$E$171,"补发7月") -> 150 | L16: =SUMIFS('8月奖金发放记录'!$J$2:$J$171,'8月奖金发放记录'!$B$2:$B$171,A16,'8月奖金发放记录'!$E$2:$E$171,"累计补发8月") -> 443.87 | M16: =SUM(C16:L16) -> 2445.8
A17: 陈高伟 | B17: 业务一部 | C17: =SUMIFS('8月奖金发放记录'!$J$2:$J$171,'8月奖金发放记录'!$B$2:$B$171,A17,'8月奖金发放记录'!$E$2:$E$171,"当月") -> 0 | D17: =SUMIFS('8月奖金发放记录'!$J$2:$J$171,'8月奖金发放记录'!$B$2:$B$171,A17,'8月奖金发放记录'!$E$2:$E$171,"结转") -> 0 | E17: =SUMIFS('8月奖金发放记录'!$J$2:$J$171,'8月奖金发放记录'!$B$2:$B$171,A17,'8月奖金发放记录'!$E$2:$E$171,"补发1月") -> 0 | F17: =SUMIFS('8月奖金发放记录'!$J$2:$J$171,'8月奖金发放记录'!$B$2:$B$171,A17,'8月奖金发放记录'!$E$2:$E$171,"补发2月") -> 0 | G17: =SUMIFS('8月奖金发放记录'!$J$2:$J$171,'8月奖金发放记录'!$B$2:$B$171,A17,'8月奖金发放记录'!$E$2:$E$171,"补发3月") -> 0 | H17: =SUMIFS('8月奖金发放记录'!$J$2:$J$171,'8月奖金发放记录'!$B$2:$B$171,A17,'8月奖金发放记录'!$E$2:$E$171,"补发4月") -> 0 | I17: =SUMIFS('8月奖金发放记录'!$J$2:$J$171,'8月奖金发放记录'!$B$2:$B$171,A17,'8月奖金发放记录'!$E$2:$E$171,"补发5月") -> 0 | J17: =SUMIFS('8月奖金发放记录'!$J$2:$J$171,'8月奖金发放记录'!$B$2:$B$171,A17,'8月奖金发放记录'!$E$2:$E$171,"补发6月") -> 0 | K17: =SUMIFS('8月奖金发放记录'!$J$2:$J$171,'8月奖金发放记录'!$B$2:$B$171,A17,'8月奖金发放记录'!$E$2:$E$171,"补发7月") -> 0 | L17: =SUMIFS('8月奖金发放记录'!$J$2:$J$171,'8月奖金发放记录'!$B$2:$B$171,A17,'8月奖金发放记录'!$E$2:$E$171,"累计补发8月") -> 0 | M17: =SUM(C17:L17) -> 0
A22: 合计 | C22: =SUM(C6:C21) -> 27519.34 | D22: =SUM(D6:D21) -> 11460 | E22: =SUM(E6:E21) -> 0 | F22: =SUM(F6:F21) -> 0 | G22: =SUM(G6:G21) -> 0 | H22: =SUM(H6:H21) -> 0 | I22: =SUM(I6:I21) -> 0 | J22: =SUM(J6:J21) -> 150 | ... M22: =SUM(M6:M21) -> 45065.47
A26: 部门 | B26: 发放金额（元）
A27: 业务一部 | B27: =SUMIF('8月奖金发放记录'!$C$2:$C$171,A27,'8月奖金发放记录'!$J$2:$J$171) -> 2145.8
A28: 业务三部 | B28: =SUMIF('8月奖金发放记录'!$C$2:$C$171,A28,'8月奖金发放记录'!$J$2:$J$171) -> 10939.35
A29: 业务二部 | B29: =SUMIF('8月奖金发放记录'!$C$2:$C$171,A29,'8月奖金发放记录'!$J$2:$J$171) -> 19673.87
A30: 业务五部 | B30: =SUMIF('8月奖金发放记录'!$C$2:$C$171,A30,'8月奖金发放记录'!$J$2:$J$171) -> 12306.45
A31: 综合业务部 | B31: =SUMIF('8月奖金发放记录'!$C$2:$C$171,A31,'8月奖金发放记录'!$J$2:$J$171) -> 0

Sheet 一部-何文斌
A1: 何文斌 | 业务一部 | 8月绩效对账单
A2: 本月考核及结转车辆：3辆 | E2: 本月实发合计（元） | H2: =SUMIFS('8月奖金发放记录'!$J$2:$J$171,'8月奖金发放记录'!$B$2:$B$171,"何文斌") -> 0
A4: 车牌号 | B4: 考核目标 | C4: 月奖励 | D4: 1月里程/目标 | E4: 2月里程/目标 | F4: 3月里程/目标 | G4: 4月里程/目标 | H4: 5月里程/目标 | I4: 6月里程/目标 | J4: 7月里程/目标 | K4: 8月里程/目标 | L4: 累计里程/目标 | M4: 达标
A5: 粤AGP5613 | B5: 羚牛136辆4.5T冷链车 | C5: 300 | D5: - | E5: - | F5: - | G5: - | H5: - | I5: - | J5: 3534.60/2741.94 | K5: 213.30/161.29 | L5: 3747.90/2903.23 | M5: 达标
B6: 发放项 | C6: 金额 | D6: 说明 | E6: 结转余额
B7: 当月 | C7: ='8月奖金发放记录'!J12 -> 0 | D7: 奖励基准×考核天数/对应月天数
B8: 本月合计 | C8: =SUMIFS('8月奖金发放记录'!$J$2:$J$171,'8月奖金发放记录'!$B$2:$B$171,"何文斌",'8月奖金发放记录'!$A$2:$A$171,"粤AGP5613") -> 0 | D8: 已计入个人汇总 | E8: 上期0期，本期剩余0期
A10: 粤AGP9351 | B10: 羚牛136辆4.5T冷链车 | C10: 300 | D10: - | E10: - | F10: - | G10: - | H10: - | I10: - | J10: 2431.00/2741.94 | K10: 123.00/161.29 | L10: 2554.00/2903.23 | M10: 未达标
B11: 发放项 | C11: 金额 | D11: 说明 | E11: 结转余额
B12: 本月不发 | C12: 0 | D12: 未满足本月奖励、结转或补发条件
B13: 本月合计 | C13: =SUMIFS('8月奖金发放记录'!$J$2:$J$171,'8月奖金发放记录'!$B$2:$B$171,"何文斌",'8月奖金发放记录'!$A$2:$A$171,"粤AGP9351") -> 0 | D13: 已计入个人汇总 | E13: 上期0期，本期剩余0期
A15: 粤AGP9773 | B15: 交投190辆4.5T冷链车 | C15: 150 | D15: - | E15: - | F15: - | G15: - | H15: - | I15: - | J15: - | K15: 594.80/1548.39 | L15: 594.80/1548.39 | M15: 未达标
B16: 发放项 | C16: 金额 | D16: 说明 | E16: 结转余额
B17: 本月不发 | C17: 0 | D17: 未满足本月奖励、结转或补发条件
B18: 本月合计 | C18: =SUMIFS('8月奖金发放记录'!$J$2:$J$171,'8月奖金发放记录'!$B$2:$B$171,"何文斌",'8月奖金发放记录'!$A$2:$A$171,"粤AGP9773") -> 0 | D18: 已计入个人汇总 | E18: 上期0期，本期剩余0期
A20: 合计 | C20: =H2 -> 0

Sheet 二部-刘念念
A1: 刘念念 | 业务二部 | 8月绩效对账单
A2: 本月考核及结转车辆：46辆 | E2: 本月实发合计（元） | H2: =SUMIFS('8月奖金发放记录'!$J$2:$J$171,'8月奖金发放记录'!$B$2:$B$171,"刘念念") -> 7372.25
A4: 车牌号 | B4: 考核目标 | C4: 月奖励 | D4: 1月里程/目标 | E4: 2月里程/目标 | F4: 3月里程/目标 | G4: 4月里程/目标 | H4: 5月里程/目标 | I4: 6月里程/目标 | J4: 7月里程/目标 | K4: 8月里程/目标 | L4: 累计里程/目标 | M4: 达标
A5: 粤A00116F | B5: 羚牛100辆18T | C5: 1000 | D5: 3360.90/5032.26 | E5: 0.20/6000.00 | F5: 5303.60/6000.00 | G5: 7704.50/6000.00 | H5: 4580.80/6193.55 | I5: 685.30/6000.00 | J5: 760.20/6000.00 | K5: 161.20/6000.00 | L5: 22556.70/47225.81 | M5: 未达标
B6: 发放项 | C6: 金额 | D6: 说明 | E6: 结转余额
B7: 本月不发 | C7: 0 | D7: 未满足本月奖励、结转或补发条件
B8: 本月合计 | C8: =SUMIFS('8月奖金发放记录'!$J$2:$J$171,'8月奖金发放记录'!$B$2:$B$171,"刘念念",'8月奖金发放记录'!$A$2:$A$171,"粤A00116F") -> 0 | D8: 已计入个人汇总 | E8: 上期0期，本期剩余0期
A10: 粤A00828F | B10: 羚牛100辆18T | C10: 1000 | D10: - | E10: - | F10: 2472.80/1161.29 | G10: 11145.90/6000.00 | H10: 11262.70/6000.00 | I10: 10851.60/6000.00 | J10: 2227.20/6000.00 | K10: 1474.50/6000.00 | L10: 39434.70/31161.29 | M10: 达标
B11: 发放项 | C11: 金额 | D11: 说明 | E11: 结转余额
B12: 累计补发8月 | C12: ='8月奖金发放记录'!J160 -> 1000 | D12: 奖励基准×考核天数/对应月天数
B13: 本月合计 | C13: =SUMIFS('8月奖金发放记录'!$J$2:$J$171,'8月奖金发放记录'!$B$2:$B$171,"刘念念",'8月奖金发放记录'!$A$2:$A$171,"粤A00828F") -> 1000 | D13: 已计入个人汇总 | E13: 上期0期，本期剩余0期
A15: 粤A01013F | B15: 羚牛100辆18T | C15: 1000 | D15: 5432.40/3096.77 | E15: 8908.10/6000.00 | F15: 12352.00/6000.00 | G15: 12029.40/6000.00 | H15: 4331.70/6193.54 | I15: 367.20/6000.00 | J15: 228.40/6000.00 | K15: 553.20/6000.00 | L15: 44202.40/45290.31 | M15: 未达标
B16: 发放项 | C16: 金额 | D16: 说明 | E16: 结转余额
B17: 本月不发 | C17: 0 | D17: 未满足本月奖励、结转或补发条件
B18: 本月合计 | C18: =SUMIFS('8月奖金发放记录'!$J$2:$J$171,'8月奖金发放记录'!$B$2:$B$171,"刘念念",'8月奖金发放记录'!$A$2:$A$171,"粤A01013F") -> 0 | D18: 已计入个人汇总 | E18: 上期0期，本期剩余0期
A20: 粤A01505F | B20: 羚牛100辆18T | C20: 1000 | D20: - | E20: - | F20: - | G20: 490.90/600.00 | H20: 5250.80/6000.00 | I20: 5490.60/6000.00 | J20: 2727.70/6000.00 | K20: 5960.10/6000.00 | L20: 19920.10/24600.00 | M20: 未达标
B21: 发放项 | C21: 金额 | D21: 说明 | E21: 结转余额
B22: 本月不发 | C22: 0 | D22: 未满足本月奖励、结转或补发条件
B23: 本月合计 | C23: =SUMIFS('8月奖金发放记录'!$J$2:$J$171,'8月奖金发放记录'!$B$2:$B$171,"刘念念",'8月奖金发放记录'!$A$2:$A$171,"粤A01505F") -> 0 | D23: 已计入个人汇总 | E23: 上期0期，本期剩余0期
A25: 粤A01506F | B25: 羚牛100辆18T | C25: 1000 | D25: - | E25: 1280.30/5357.14 | F25: 5869.40/6000.00 | G25: 5132.50/6000.00 | H25: 5177.30/6000.00 | I25: 6413.50/6000.00 | J25: 4959.90/6000.00 | K25: 6000.50/6000.00 | L25: 34833.40/41357.14 | M25: 未达标
B26: 发放项 | C26: 金额 | D26: 说明 | E26: 结转余额
B27: 当月 | C27: ='8月奖金发放记录'!J28 -> 1000 | D27: 奖励基准×考核天数/对应月天数
B28: 本月合计 | C28: =SUMIFS('8月奖金发放记录'!$J$2:$J$171,'8月奖金发放记录'!$B$2:$B$171,"刘念念",'8月奖金发放记录'!$A$2:$A$171,"粤A01506F") -> 1000 | D28: 已计入个人汇总 | E28: 上期0期，本期剩余0期
A30: 粤A02007F | B30: 羚牛100辆18T | C30: 1000 | D30: 6896.00/5225.81 | E30: 6339.70/6000.00 | F30: 6512.40/6000.00 | G30: 10520.20/6000.00 | H30: 3325.00/6193.54 | I30: 483.10/6000.00 | J30: 48.90/6000.00 | K30: 311.60/6000.00 | L30: 34436.90/47419.35 | M30: 未达标
B31: 发放项 | C31: 金额 | D31: 说明 | E31: 结转余额
B32: 本月不发 | C32: 0 | D32: 未满足本月奖励、结转或补发条件
B33: 本月合计 | C33: =SUMIFS('8月奖金发放记录'!$J$2:$J$171,'8月奖金发放记录'!$B$2:$B$171,"刘念念",'8月奖金发放记录'!$A$2:$A$171,"粤A02007F") -> 0 | D33: 已计入个人汇总 | E33: 上期0期，本期剩余0期
A35: 粤A02058F | B35: 羚牛100辆18T | C35: 1000 | D35: - | E35: 2901.60/4928.57 | F35: 2302.90/5419.35 | G35: - | H35: 254.80/2516.13 | I35: 3773.60/6000.00 | J35: 909.20/6000.00 | K35: 658.00/6000.00 | L35: 5595.60/20516.13 | M35: 未达标
B36: 发放项 | C36: 金额 | D36: 说明 | E36: 结转余额
B37: 本月不发 | C37: 0 | D37: 未满足本月奖励、结转或补发条件
B38: 本月合计 | C38: =SUMIFS('8月奖金发放记录'!$J$2:$J$171,'8月奖金发放记录'!$B$2:$B$171,"刘念念",'8月奖金发放记录'!$A$2:$A$171,"粤A02058F") -> 0 | D38: 已计入个人汇总 | E38: 上期0期，本期剩余0期
A40: 粤A02298F | B40: 羚牛100辆18T | C40: 1000 | D40: 7545.30/5032.26 | E40: 6233.20/6000.00 | F40: 10051.70/6000.00 | G40: 10756.20/6000.00 | H40: 5339.70/5806.45 | I40: 311.50/6000.00 | J40: 140.40/6000.00 | K40: 1072.70/6000.00 | L40: 41450.70/46838.71 | M40: 未达标
B41: 发放项 | C41: 金额 | D41: 说明 | E41: 结转余额
B42: 本月不发 | C42: 0 | D42: 未满足本月奖励、结转或补发条件
B43: 本月合计 | C43: =SUMIFS('8月奖金发放记录'!$J$2:$J$171,'8月奖金发放记录'!$B$2:$B$171,"刘念念",'8月奖金发放记录'!$A$2:$A$171,"粤A02298F") -> 0 | D43: 已计入个人汇总 | E43: 上期0期，本期剩余0期
A45: 粤A03350F | B45: 羚牛100辆18T | C45: 1000 | D45: 4462.90/2903.23 | E45: 836.40/6000.00 | F45: 12162.00/6000.00 | G45: 9826.10/6000.00 | H45: 3544.20/5806.45 | I45: 294.70/6000.00 | J45: 256.30/6000.00 | K45: 756.90/6000.00 | L45: 32139.50/44709.68 | M45: 未达标
B46: 发放项 | C46: 金额 | D46: 说明 | E46: 结转余额
B47: 本月不发 | C47: 0 | D47: 未满足本月奖励、结转或补发条件
B48: 本月合计 | C48: =SUMIFS('8月奖金发放记录'!$J$2:$J$171,'8月奖金发放记录'!$B$2:$B$171,"刘念念",'8月奖金发放记录'!$A$2:$A$171,"粤A03350F") -> 0 | D48: 已计入个人汇总 | E48: 上期0期，本期剩余0期
A50: 粤A03517F | B50: 羚牛100辆18T | C50: 1000 | D50: - | E50: - | F50: 3699.30/2516.13 | G50: 7673.60/6000.00 | H50: 11301.90/6000.00 | I50: 3687.80/6000.00 | J50: 1507.10/6000.00 | K50: 1688.60/6000.00 | L50: 29558.30/32516.13 | M50: 未达标
B51: 发放项 | C51: 金额 | D51: 说明 | E51: 结转余额
B52: 本月不发 | C52: 0 | D52: 未满足本月奖励、结转或补发条件
B53: 本月合计 | C53: =SUMIFS('8月奖金发放记录'!$J$2:$J$171,'8月奖金发放记录'!$B$2:$B$171,"刘念念",'8月奖金发放记录'!$A$2:$A$171,"粤A03517F") -> 0 | D53: 已计入个人汇总 | E53: 上期0期，本期剩余0期
A55: 粤A03676F | B55: 羚牛100辆18T | C55: 1000 | D55: - | E55: - | F55: 2417.00/1741.94 | G55: 6031.00/6200.00 | H55: 8266.70/6000.00 | I55: 6887.50/6000.00 | J55: 2324.00/4838.71 | K55: 1478.50/6000.00 | L55: 27404.70/30780.65 | M55: 未达标
B56: 发放项 | C56: 金额 | D56: 说明 | E56: 结转余额
B57: 本月不发 | C57: 0 | D57: 未满足本月奖励、结转或补发条件
B58: 本月合计 | C58: =SUMIFS('8月奖金发放记录'!$J$2:$J$171,'8月奖金发放记录'!$B$2:$B$171,"刘念念",'8月奖金发放记录'!$A$2:$A$171,"粤A03676F") -> 0 | D58: 已计入个人汇总 | E58: 上期0期，本期剩余0期
A60: 粤A05609F | B60: 羚牛100辆18T | C60: 1000 | D60: 1435.60/3677.42 | E60: 943.90/6000.00 | F60: 6576.90/6000.00 | G60: 7551.70/6000.00 | H60: 5895.00/6000.00 | I60: 7747.20/6000.00 | J60: 285.30/5419.35 | K60: 458.10/6000.00 | L60: 30893.70/45096.77 | M60: 未达标
B61: 发放项 | C61: 金额 | D61: 说明 | E61: 结转余额
B62: 本月不发 | C62: 0 | D62: 未满足本月奖励、结转或补发条件
B63: 本月合计 | C63: =SUMIFS('8月奖金发放记录'!$J$2:$J$171,'8月奖金发放记录'!$B$2:$B$171,"刘念念",'8月奖金发放记录'!$A$2:$A$171,"粤A05609F") -> 0 | D63: 已计入个人汇总 | E63: 上期0期，本期剩余0期
A65: 粤A05650F | B65: 羚牛100辆18T | C65: 1000 | D65: - | E65: - | F65: 1288.80/2516.13 | G65: 2035.80/6000.00 | H65: 2467.20/6000.00 | I65: 1649.60/3600.00 | J65: 2994.90/3096.77 | K65: 1728.70/3290.32 | L65: 12165.00/24503.22 | M65: 未达标
B66: 发放项 | C66: 金额 | D66: 说明 | E66: 结转余额
B67: 本月不发 | C67: 0 | D67: 未满足本月奖励、结转或补发条件
B68: 本月合计 | C68: =SUMIFS('8月奖金发放记录'!$J$2:$J$171,'8月奖金发放记录'!$B$2:$B$171,"刘念念",'8月奖金发放记录'!$A$2:$A$171,"粤A05650F") -> 0 | D68: 已计入个人汇总 | E68: 上期0期，本期剩余0期
A70: 粤A05809F | B70: 羚牛100辆18T | C70: 1000 | D70: 8877.20/5032.26 | E70: 7883.90/6000.00 | F70: 13240.80/6000.00 | G70: 6707.90/6200.00 | H70: 446.30/6000.00 | I70: 643.80/6000.00 | J70: 149.90/6000.00 | K70: 471.10/6000.00 | L70: 38420.90/47232.26 | M70: 未达标
B71: 发放项 | C71: 金额 | D71: 说明 | E71: 结转余额
B72: 本月不发 | C72: 0 | D72: 未满足本月奖励、结转或补发条件
B73: 本月合计 | C73: =SUMIFS('8月奖金发放记录'!$J$2:$J$171,'8月奖金发放记录'!$B$2:$B$171,"刘念念",'8月奖金发放记录'!$A$2:$A$171,"粤A05809F") -> 0 | D73: 已计入个人汇总 | E73: 上期0期，本期剩余0期
A75: 粤A05906F | B75: 羚牛100辆18T | C75: 1000 | D75: - | E75: - | F75: 1550.40/1741.94 | G75: 4392.00/6200.00 | H75: 9051.60/6000.00 | I75: 10525.60/6000.00 | J75: 0.00/6000.00 | K75: 2894.20/6000.00 | L75: 28413.80/31941.94 | M75: 未达标
B76: 发放项 | C76: 金额 | D76: 说明 | E76: 结转余额
B77: 本月不发 | C77: 0 | D77: 未满足本月奖励、结转或补发条件
B78: 本月合计 | C78: =SUMIFS('8月奖金发放记录'!$J$2:$J$171,'8月奖金发放记录'!$B$2:$B$171,"刘念念",'8月奖金发放记录'!$A$2:$A$171,"粤A05906F") -> 0 | D78: 已计入个人汇总 | E78: 上期0期，本期剩余0期
A80: 粤A06177F | B80: 羚牛100辆18T | C80: 1000 | D80: 2106.70/4838.71 | E80: 0.00/6000.00 | F80: 5854.40/6000.00 | G80: 9559.90/6000.00 | H80: 3398.90/6193.55 | I80: 472.70/6000.00 | J80: 708.30/6000.00 | K80: 551.90/6000.00 | L80: 22652.80/47032.26 | M80: 未达标
B81: 发放项 | C81: 金额 | D81: 说明 | E81: 结转余额
B82: 本月不发 | C82: 0 | D82: 未满足本月奖励、结转或补发条件
B83: 本月合计 | C83: =SUMIFS('8月奖金发放记录'!$J$2:$J$171,'8月奖金发放记录'!$B$2:$B$171,"刘念念",'8月奖金发放记录'!$A$2:$A$171,"粤A06177F") -> 0 | D83: 已计入个人汇总 | E83: 上期0期，本期剩余0期
A85: 粤A06271F | B85: 羚牛100辆18T | C85: 1000 | D85: - | E85: - | F85: - | G85: - | H85: 355.80/2516.13 | I85: 5644.70/6000.00 | J85: 3156.70/6000.00 | K85: 618.40/6000.00 | L85: 9775.60/20516.13 | M85: 未达标
B86: 发放项 | C86: 金额 | D86: 说明 | E86: 结转余额
B87: 本月不发 | C87: 0 | D87: 未满足本月奖励、结转或补发条件
B88: 本月合计 | C88: =SUMIFS('8月奖金发放记录'!$J$2:$J$171,'8月奖金发放记录'!$B$2:$B$171,"刘念念",'8月奖金发放记录'!$A$2:$A$171,"粤A06271F") -> 0 | D88: 已计入个人汇总 | E88: 上期0期，本期剩余0期
A90: 粤A06619F | B90: 羚牛100辆18T | C90: 1000 | D90: - | E90: - | F90: - | G90: - | H90: 369.40/2516.13 | I90: 687.00/6000.00 | J90: 831.00/6000.00 | K90: 267.50/6000.00 | L90: 2154.90/20516.13 | M90: 未达标
B91: 发放项 | C91: 金额 | D91: 说明 | E91: 结转余额
B92: 本月不发 | C92: 0 | D92: 未满足本月奖励、结转或补发条件
B93: 本月合计 | C93: =SUMIFS('8月奖金发放记录'!$J$2:$J$171,'8月奖金发放记录'!$B$2:$B$171,"刘念念",'8月奖金发放记录'!$A$2:$A$171,"粤A06619F") -> 0 | D93: 已计入个人汇总 | E93: 上期0期，本期剩余0期
A95: 粤A06632F | B95: 羚牛100辆18T | C95: 1000 | D95: 1156.80/3677.42 | E95: 0.00/6000.00 | F95: 4925.20/6000.00 | G95: 6427.40/6000.00 | H95: 11292.10/6000.00 | I95: 10104.20/6000.00 | J95: 4150.00/5612.91 | K95: 1152.90/6000.00 | L95: 39208.60/45290.33 | M95: 未达标
B96: 发放项 | C96: 金额 | D96: 说明 | E96: 结转余额
B97: 本月不发 | C97: 0 | D97: 未满足本月奖励、结转或补发条件
B98: 本月合计 | C98: =SUMIFS('8月奖金发放记录'!$J$2:$J$171,'8月奖金发放记录'!$B$2:$B$171,"刘念念",'8月奖金发放记录'!$A$2:$A$171,"粤A06632F") -> 0 | D98: 已计入个人汇总 | E98: 上期0期，本期剩余0期
A100: 粤A07577F | B100: 羚牛100辆18T | C100: 1000 | D100: - | E100: - | F100: 2422.90/1161.29 | G100: 10296.10/6000.00 | H100: 13707.10/6000.00 | I100: 11502.80/6000.00 | J100: 1432.90/5419.36 | K100: 1426.90/6000.00 | L100: 40788.70/30580.65 | M100: 达标
B101: 发放项 | C101: 金额 | D101: 说明 | E101: 结转余额
B102: 累计补发8月 | C102: ='8月奖金发放记录'!J161 -> 1000 | D102: 奖励基准×考核天数/对应月天数
B103: 本月合计 | C103: =SUMIFS('8月奖金发放记录'!$J$2:$J$171,'8月奖金发放记录'!$B$2:$B$171,"刘念念",'8月奖金发放记录'!$A$2:$A$171,"粤A07577F") -> 1000 | D103: 已计入个人汇总 | E103: 上期0期，本期剩余0期
A105: 粤A08506F | B105: 羚牛100辆18T | C105: 1000 | D105: 2772.10/5225.81 | E105: 132.20/6000.00 | F105: 10851.20/6000.00 | G105: 10938.10/6000.00 | H105: 3846.20/6193.54 | I105: 705.20/6000.00 | J105: 116.00/6000.00 | K105: 249.60/6000.00 | L105: 29610.60/47419.35 | M105: 未达标
B106: 发放项 | C106: 金额 | D106: 说明 | E106: 结转余额
B107: 本月不发 | C107: 0 | D107: 未满足本月奖励、结转或补发条件
B108: 本月合计 | C108: =SUMIFS('8月奖金发放记录'!$J$2:$J$171,'8月奖金发放记录'!$B$2:$B$171,"刘念念",'8月奖金发放记录'!$A$2:$A$171,"粤A08506F") -> 0 | D108: 已计入个人汇总 | E108: 上期0期，本期剩余0期
A110: 粤A08578F | B110: 羚牛100辆18T | C110: 1000 | D110: - | E110: - | F110: 4759.80/6000.00 | G110: 5993.20/6200.00 | H110: 7531.00/6000.00 | I110: 6947.70/6000.00 | J110: 5890.70/5225.80 | K110: 5379.60/6000.00 | L110: 36502.00/35425.80 | M110: 达标
B111: 发放项 | C111: 金额 | D111: 说明 | E111: 结转余额
B112: 累计补发8月 | C112: ='8月奖金发放记录'!J162 -> 1000 | D112: 奖励基准×考核天数/对应月天数
B113: 本月合计 | C113: =SUMIFS('8月奖金发放记录'!$J$2:$J$171,'8月奖金发放记录'!$B$2:$B$171,"刘念念",'8月奖金发放记录'!$A$2:$A$171,"粤A08578F") -> 1000 | D113: 已计入个人汇总 | E113: 上期0期，本期剩余0期
A115: 粤A09209F | B115: 羚牛100辆18T | C115: 1000 | D115: - | E115: - | F115: 2759.20/1354.84 | G115: 11740.90/6000.00 | H115: 13847.90/6000.00 | I115: 6771.50/6000.00 | J115: 223.40/5419.35 | K115: 191.10/6000.00 | L115: 35534.00/30774.19 | M115: 达标
B116: 发放项 | C116: 金额 | D116: 说明 | E116: 结转余额
B117: 累计补发8月 | C117: ='8月奖金发放记录'!J163 -> 1000 | D117: 奖励基准×考核天数/对应月天数
B118: 本月合计 | C118: =SUMIFS('8月奖金发放记录'!$J$2:$J$171,'8月奖金发放记录'!$B$2:$B$171,"刘念念",'8月奖金发放记录'!$A$2:$A$171,"粤A09209F") -> 1000 | D118: 已计入个人汇总 | E118: 上期0期，本期剩余0期
A120: 粤AFH3525 | B120: 恒运50辆4.5T普货 | C120: 260 | D120: - | E120: - | F120: - | G120: 691.90/3000.00 | H120: 1778.10/5000.00 | I120: 1699.50/5000.00 | J120: 1806.80/5000.00 | K120: 1000.50/5000.00 | L120: 6976.80/23000.00 | M120: 未达标
B121: 发放项 | C121: 金额 | D121: 说明 | E121: 结转余额
B122: 本月不发 | C122: 0 | D122: 未满足本月奖励、结转或补发条件
B123: 本月合计 | C123: =SUMIFS('8月奖金发放记录'!$J$2:$J$171,'8月奖金发放记录'!$B$2:$B$171,"刘念念",'8月奖金发放记录'!$A$2:$A$171,"粤AFH3525") -> 0 | D123: 已计入个人汇总 | E123: 上期0期，本期剩余0期
A125: 粤AFQ7882 | B125: 恒运50辆4.5T普货 | C125: 260 | D125: - | E125: - | F125: - | G125: - | H125: 386.10/1612.90 | I125: 1316.00/5000.00 | J125: 1715.50/5000.00 | K125: 1471.20/5000.00 | L125: 4888.80/16612.90 | M125: 未达标
...

Sheet 三部-吴纬涛
A1: 吴纬涛 | 业务三部 | 8月绩效对账单
A2: 本月考核及结转车辆：71辆 | E2: 本月实发合计（元） | H2: =SUMIFS('8月奖金发放记录'!$J$2:$J$171,'8月奖金发放记录'!$B$2:$B$171,"吴纬涛") -> 5979.35
A4: 车牌号 | B4: 考核目标 | C4: 月奖励 | D4: 1月里程/目标 | E4: 2月里程/目标 | F4: 3月里程/目标 | G4: 4月里程/目标 | H4: 5月里程/目标 | I4: 6月里程/目标 | J4: 7月里程/目标 | K4: 8月里程/目标 | L4: 累计里程/目标 | M4: 达标
A5: 粤A00255F | B5: 羚牛100辆18T | C5: 1000 | D5: 195.50/6000.00 | E5: 57.90/857.14 | F5: - | G5: - | H5: - | I5: - | J5: - | K5: 2331.10/6000.00 | L5: 2331.10/6000.00 | M5: 未达标
B6: 发放项 | C6: 金额 | D6: 说明 | E6: 结转余额
B7: 本月不发 | C7: 0 | D7: 未满足本月奖励、结转或补发条件
B8: 本月合计 | C8: =SUMIFS('8月奖金发放记录'!$J$2:$J$171,'8月奖金发放记录'!$B$2:$B$171,"吴纬涛",'8月奖金发放记录'!$A$2:$A$171,"粤A00255F") -> 0 | D8: 已计入个人汇总 | E8: 上期0期，本期剩余0期
A10: 粤A01209F | B10: 羚牛100辆18T | C10: 1000 | D10: - | E10: - | F10: - | G10: - | H10: - | I10: - | J10: - | K10: 779.20/6000.00 | L10: 779.20/6000.00 | M10: 未达标
B11: 发放项 | C11: 金额 | D11: 说明 | E11: 结转余额
B12: 本月不发 | C12: 0 | D12: 未满足本月奖励、结转或补发条件
B13: 本月合计 | C13: =SUMIFS('8月奖金发放记录'!$J$2:$J$171,'8月奖金发放记录'!$B$2:$B$171,"吴纬涛",'8月奖金发放记录'!$A$2:$A$171,"粤A01209F") -> 0 | D13: 已计入个人汇总 | E13: 上期0期，本期剩余0期
A15: 粤A01396F | B15: 羚牛100辆18T | C15: 1000 | D15: - | E15: - | F15: - | G15: - | H15: - | I15: - | J15: - | K15: 5641.50/6000.00 | L15: 5641.50/6000.00 | M15: 未达标
B16: 发放项 | C16: 金额 | D16: 说明 | E16: 结转余额
B17: 本月不发 | C17: 0 | D17: 未满足本月奖励、结转或补发条件
B18: 本月合计 | C18: =SUMIFS('8月奖金发放记录'!$J$2:$J$171,'8月奖金发放记录'!$B$2:$B$171,"吴纬涛",'8月奖金发放记录'!$A$2:$A$171,"粤A01396F") -> 0 | D18: 已计入个人汇总 | E18: 上期0期，本期剩余0期
A20: 粤A01886F | B20: 羚牛100辆18T | C20: 1000 | D20: - | E20: - | F20: - | G20: - | H20: - | I20: - | J20: - | K20: 0.00/193.55 | L20: 0.00/193.55 | M20: 未达标
B21: 发放项 | C21: 金额 | D21: 说明 | E21: 结转余额
B22: 本月不发 | C22: 0 | D22: 未满足本月奖励、结转或补发条件
B23: 本月合计 | C23: =SUMIFS('8月奖金发放记录'!$J$2:$J$171,'8月奖金发放记录'!$B$2:$B$171,"吴纬涛",'8月奖金发放记录'!$A$2:$A$171,"粤A01886F") -> 0 | D23: 已计入个人汇总 | E23: 上期0期，本期剩余0期
A25: 粤A02956F | B25: 羚牛100辆18T | C25: 1000 | D25: - | E25: - | F25: - | G25: - | H25: - | I25: - | J25: - | K25: 0.00/1935.48 | L25: 0.00/1935.48 | M25: 未达标
B26: 发放项 | C26: 金额 | D26: 说明 | E26: 结转余额
B27: 本月不发 | C27: 0 | D27: 未满足本月奖励、结转或补发条件
B28: 本月合计 | C28: =SUMIFS('8月奖金发放记录'!$J$2:$J$171,'8月奖金发放记录'!$B$2:$B$171,"吴纬涛",'8月奖金发放记录'!$A$2:$A$171,"粤A02956F") -> 0 | D28: 已计入个人汇总 | E28: 上期0期，本期剩余0期
A30: 粤A03569F | B30: 羚牛100辆18T | C30: 1000 | D30: - | E30: - | F30: - | G30: - | H30: - | I30: - | J30: - | K30: 29.50/6000.00 | L30: 29.50/6000.00 | M30: 未达标
B31: 发放项 | C31: 金额 | D31: 说明 | E31: 结转余额
B32: 本月不发 | C32: 0 | D32: 未满足本月奖励、结转或补发条件
B33: 本月合计 | C33: =SUMIFS('8月奖金发放记录'!$J$2:$J$171,'8月奖金发放记录'!$B$2:$B$171,"吴纬涛",'8月奖金发放记录'!$A$2:$A$171,"粤A03569F") -> 0 | D33: 已计入个人汇总 | E33: 上期0期，本期剩余0期
A35: 粤A05839F | B35: 羚牛100辆18T | C35: 1000 | D35: - | E35: - | F35: - | G35: - | H35: - | I35: - | J35: - | K35: 529.80/6000.00 | L35: 529.80/6000.00 | M35: 未达标
B36: 发放项 | C36: 金额 | D36: 说明 | E36: 结转余额
B37: 本月不发 | C37: 0 | D37: 未满足本月奖励、结转或补发条件
B38: 本月合计 | C38: =SUMIFS('8月奖金发放记录'!$J$2:$J$171,'8月奖金发放记录'!$B$2:$B$171,"吴纬涛",'8月奖金发放记录'!$A$2:$A$171,"粤A05839F") -> 0 | D38: 已计入个人汇总 | E38: 上期0期，本期剩余0期
A40: 粤A05985F | B40: 羚牛100辆18T | C40: 1000 | D40: - | E40: - | F40: - | G40: - | H40: - | I40: - | J40: - | K40: 0.30/6000.00 | L40: 0.30/6000.00 | M40: 未达标
B41: 发放项 | C41: 金额 | D41: 说明 | E41: 结转余额
B42: 本月不发 | C42: 0 | D42: 未满足本月奖励、结转或补发条件
B43: 本月合计 | C43: =SUMIFS('8月奖金发放记录'!$J$2:$J$171,'8月奖金发放记录'!$B$2:$B$171,"吴纬涛",'8月奖金发放记录'!$A$2:$A$171,"粤A05985F") -> 0 | D43: 已计入个人汇总 | E43: 上期0期，本期剩余0期
A45: 粤A05995F | B45: 羚牛100辆18T | C45: 1000 | D45: 197.10/193.55 | E45: - | F45: - | G45: - | H45: - | I45: - | J45: - | K45: 3841.50/6000.00 | L45: 3841.50/6000.00 | M45: 未达标
B46: 发放项 | C46: 金额 | D46: 说明 | E46: 结转余额
B47: 本月不发 | C47: 0 | D47: 未满足本月奖励、结转或补发条件
B48: 本月合计 | C48: =SUMIFS('8月奖金发放记录'!$J$2:$J$171,'8月奖金发放记录'!$B$2:$B$171,"吴纬涛",'8月奖金发放记录'!$A$2:$A$171,"粤A05995F") -> 0 | D48: 已计入个人汇总 | E48: 上期0期，本期剩余0期
A50: 粤A06691F | B50: 羚牛100辆18T | C50: 1000 | D50: - | E50: - | F50: - | G50: - | H50: - | I50: - | J50: - | K50: 6979.70/6000.00 | L50: 6979.70/6000.00 | M50: 达标
B51: 发放项 | C51: 金额 | D51: 说明 | E51: 结转余额
B52: 当月 | C52: ='8月奖金发放记录'!J58 -> 1000 | D52: 奖励基准×考核天数/对应月天数
B53: 本月合计 | C53: =SUMIFS('8月奖金发放记录'!$J$2:$J$171,'8月奖金发放记录'!$B$2:$B$171,"吴纬涛",'8月奖金发放记录'!$A$2:$A$171,"粤A06691F") -> 1000 | D53: 已计入个人汇总 | E53: 上期0期，本期剩余0期
A55: 粤A06931F | B55: 羚牛100辆18T | C55: 1000 | D55: - | E55: - | F55: - | G55: - | H55: - | I55: - | J55: - | K55: 8541.60/6000.00 | L55: 8541.60/6000.00 | M55: 达标
B56: 发放项 | C56: 金额 | D56: 说明 | E56: 结转余额
B57: 当月 | C57: ='8月奖金发放记录'!J59 -> 1000 | D57: 奖励基准×考核天数/对应月天数
B58: 本月合计 | C58: =SUMIFS('8月奖金发放记录'!$J$2:$J$171,'8月奖金发放记录'!$B$2:$B$171,"吴纬涛",'8月奖金发放记录'!$A$2:$A$171,"粤A06931F") -> 1000 | D58: 已计入个人汇总 | E58: 上期0期，本期剩余0期
A60: 粤A07260F | B60: 羚牛100辆18T | C60: 1000 | D60: - | E60: - | F60: - | G60: - | H60: - | I60: - | J60: - | K60: 1426.30/6000.00 | L60: 1426.30/6000.00 | M60: 未达标
B61: 发放项 | C61: 金额 | D61: 说明 | E61: 结转余额
B62: 本月不发 | C62: 0 | D62: 未满足本月奖励、结转或补发条件
B63: 本月合计 | C63: =SUMIFS('8月奖金发放记录'!$J$2:$J$171,'8月奖金发放记录'!$B$2:$B$171,"吴纬涛",'8月奖金发放记录'!$A$2:$A$171,"粤A07260F") -> 0 | D63: 已计入个人汇总 | E63: 上期0期，本期剩余0期
A65: 粤A07555F | B65: 羚牛100辆18T | C65: 1000 | D65: - | E65: - | F65: - | G65: - | H65: - | I65: - | J65: - | K65: 3750.70/6000.00 | L65: 3750.70/6000.00 | M65: 未达标
B66: 发放项 | C66: 金额 | D66: 说明 | E66: 结转余额
B67: 本月不发 | C67: 0 | D67: 未满足本月奖励、结转或补发条件
B68: 本月合计 | C68: =SUMIFS('8月奖金发放记录'!$J$2:$J$171,'8月奖金发放记录'!$B$2:$B$171,"吴纬涛",'8月奖金发放记录'!$A$2:$A$171,"粤A07555F") -> 0 | D68: 已计入个人汇总 | E68: 上期0期，本期剩余0期
A70: 粤A07568F | B70: 羚牛100辆18T | C70: 1000 | D70: - | E70: - | F70: - | G70: - | H70: - | I70: - | J70: - | K70: 217.30/4258.06 | L70: 217.30/4258.06 | M70: 未达标
B71: 发放项 | C71: 金额 | D71: 说明 | E71: 结转余额
B72: 本月不发 | C72: 0 | D72: 未满足本月奖励、结转或补发条件
B73: 本月合计 | C73: =SUMIFS('8月奖金发放记录'!$J$2:$J$171,'8月奖金发放记录'!$B$2:$B$171,"吴纬涛",'8月奖金发放记录'!$A$2:$A$171,"粤A07568F") -> 0 | D73: 已计入个人汇总 | E73: 上期0期，本期剩余0期
A75: 粤A08910F | B75: 羚牛100辆18T | C75: 1000 | D75: - | E75: - | F75: - | G75: - | H75: - | I75: - | J75: - | K75: 8752.40/6000.00 | L75: 8752.40/6000.00 | M75: 达标
B76: 发放项 | C76: 金额 | D76: 说明 | E76: 结转余额
B77: 当月 | C77: ='8月奖金发放记录'!J60 -> 1000 | D77: 奖励基准×考核天数/对应月天数
B78: 本月合计 | C78: =SUMIFS('8月奖金发放记录'!$J$2:$J$171,'8月奖金发放记录'!$B$2:$B$171,"吴纬涛",'8月奖金发放记录'!$A$2:$A$171,"粤A08910F") -> 1000 | D78: 已计入个人汇总 | E78: 上期0期，本期剩余0期
A80: 粤A09620F | B80: 羚牛100辆18T | C80: 1000 | D80: - | E80: - | F80: - | G80: - | H80: - | I80: - | J80: - | K80: 38.80/967.74 | L80: 38.80/967.74 | M80: 未达标
B81: 发放项 | C81: 金额 | D81: 说明 | E81: 结转余额
B82: 本月不发 | C82: 0 | D82: 未满足本月奖励、结转或补发条件
B83: 本月合计 | C83: =SUMIFS('8月奖金发放记录'!$J$2:$J$171,'8月奖金发放记录'!$B$2:$B$171,"吴纬涛",'8月奖金发放记录'!$A$2:$A$171,"粤A09620F") -> 0 | D83: 已计入个人汇总 | E83: 上期0期，本期剩余0期
A85: 粤AFB6967 | B85: 交投190辆4.5T冷链车 | C85: 150 | D85: - | E85: - | F85: - | G85: - | H85: 66.30/967.74 | I85: 1216.90/3000.00 | J85: 827.90/2612.90 | K85: 44.50/96.77 | L85: 2155.60/6677.41 | M85: 未达标
B86: 发放项 | C86: 金额 | D86: 说明 | E86: 结转余额
B87: 本月不发 | C87: 0 | D87: 未满足本月奖励、结转或补发条件
B88: 本月合计 | C88: =SUMIFS('8月奖金发放记录'!$J$2:$J$171,'8月奖金发放记录'!$B$2:$B$171,"吴纬涛",'8月奖金发放记录'!$A$2:$A$171,"粤AFB6967") -> 0 | D88: 已计入个人汇总 | E88: 上期0期，本期剩余0期
A90: 粤AFG2090 | B90: 恒运50辆4.5T普货 | C90: 260 | D90: - | E90: - | F90: - | G90: - | H90: - | I90: - | J90: - | K90: 3171.80/5000.00 | L90: 3171.80/5000.00 | M90: 未达标
B91: 发放项 | C91: 金额 | D91: 说明 | E91: 结转余额
B92: 本月不发 | C92: 0 | D92: 未满足本月奖励、结转或补发条件
B93: 本月合计 | C93: =SUMIFS('8月奖金发放记录'!$J$2:$J$171,'8月奖金发放记录'!$B$2:$B$171,"吴纬涛",'8月奖金发放记录'!$A$2:$A$171,"粤AFG2090") -> 0 | D93: 已计入个人汇总 | E93: 上期0期，本期剩余0期
A95: 粤AFQ8722 | B95: 恒运50辆4.5T普货 | C95: 260 | D95: - | E95: - | F95: - | G95: 1232.10/1333.33 | H95: 838.90/5000.00 | I95: 652.00/5000.00 | J95: 710.10/5000.00 | K95: 523.10/5000.00 | L95: 3956.20/21333.33 | M95: 未达标
B96: 发放项 | C96: 金额 | D96: 说明 | E96: 结转余额
B97: 本月不发 | C97: 0 | D97: 未满足本月奖励、结转或补发条件
B98: 本月合计 | C98: =SUMIFS('8月奖金发放记录'!$J$2:$J$171,'8月奖金发放记录'!$B$2:$B$171,"吴纬涛",'8月奖金发放记录'!$A$2:$A$171,"粤AFQ8722") -> 0 | D98: 已计入个人汇总 | E98: 上期0期，本期剩余0期
A100: 粤AG03779 | B100: 恒运50辆4.5T普货 | C100: 260 | D100: - | E100: - | F100: - | G100: - | H100: - | I100: - | J100: - | K100: 5367.24/5000.00 | L100: 5367.24/5000.00 | M100: 达标
B101: 发放项 | C101: 金额 | D101: 说明 | E101: 结转余额
B102: 当月 | C102: ='8月奖金发放记录'!J61 -> 260 | D102: 奖励基准×考核天数/对应月天数
B103: 本月合计 | C103: =SUMIFS('8月奖金发放记录'!$J$2:$J$171,'8月奖金发放记录'!$B$2:$B$171,"吴纬涛",'8月奖金发放记录'!$A$2:$A$171,"粤AG03779") -> 260 | D103: 已计入个人汇总 | E103: 上期0期，本期剩余0期
A105: 粤AG32783 | B105: 恒运50辆4.5T普货 | C105: 260 | D105: - | E105: - | F105: - | G105: - | H105: - | I105: - | J105: - | K105: 0.00/2258.06 | L105: 0.00/2258.06 | M105: 未达标
B106: 发放项 | C106: 金额 | D106: 说明 | E106: 结转余额
B107: 本月不发 | C107: 0 | D107: 未满足本月奖励、结转或补发条件
B108: 本月合计 | C108: =SUMIFS('8月奖金发放记录'!$J$2:$J$171,'8月奖金发放记录'!$B$2:$B$171,"吴纬涛",'8月奖金发放记录'!$A$2:$A$171,"粤AG32783") -> 0 | D108: 已计入个人汇总 | E108: 上期0期，本期剩余0期
A110: 粤AG35802 | B110: 恒运50辆4.5T普货 | C110: 260 | D110: - | E110: - | F110: - | G110: - | H110: - | I110: - | J110: - | K110: 4080.90/5000.00 | L110: 4080.90/5000.00 | M110: 未达标
B111: 发放项 | C111: 金额 | D111: 说明 | E111: 结转余额
B112: 本月不发 | C112: 0 | D112: 未满足本月奖励、结转或补发条件
B113: 本月合计 | C113: =SUMIFS('8月奖金发放记录'!$J$2:$J$171,'8月奖金发放记录'!$B$2:$B$171,"吴纬涛",'8月奖金发放记录'!$A$2:$A$171,"粤AG35802") -> 0 | D113: 已计入个人汇总 | E113: 上期0期，本期剩余0期
A115: 粤AG39007 | B115: 恒运50辆4.5T普货 | C115: 260 | D115: - | E115: - | F115: - | G115: - | H115: - | I115: - | J115: - | K115: 0.00/645.16 | L115: 0.00/645.16 | M115: 未达标
B116: 发放项 | C116: 金额 | D116: 说明 | E116: 结转余额
B117: 本月不发 | C117: 0 | D117: 未满足本月奖励、结转或补发条件
B118: 本月合计 | C118: =SUMIFS('8月奖金发放记录'!$J$2:$J$171,'8月奖金发放记录'!$B$2:$B$171,"吴纬涛",'8月奖金发放记录'!$A$2:$A$171,"粤AG39007") -> 0 | D118: 已计入个人汇总 | E118: 上期0期，本期剩余0期
A120: 粤AGE1516 | B120: 交投40辆4.5T普货 | C120: 150 | D120: - | E120: - | F120: - | G120: - | H120: - | I120: - | J120: - | K120: 3358.60/3000.00 | L120: 3358.60/3000.00 | M120: 达标
B121: 发放项 | C121: 金额 | D121: 说明 | E121: 结转余额
B122: 当月 | C122: ='8月奖金发放记录'!J62 -> 150 | D122: 奖励基准×考核天数/对应月天数
B123: 本月合计 | C123: =SUMIFS('8月奖金发放记录'!$J$2:$J$171,'8月奖金发放记录'!$B$2:$B$171,"吴纬涛",'8月奖金发放记录'!$A$2:$A$171,"粤AGE1516") -> 150 | D123: 已计入个人汇总 | E123: 上期0期，本期剩余0期
A125: 粤AGF7490 | B125: 交投40辆4.5T普货 | C125: 150 | D125: - | E125: - | F125: - | G125: - | H125: - | I125: - | J125: - | K125: 3985.80/3000.00 | L125: 3985.80/3000.00 | M125: 达标
...

Sheet 二部-尚建华
A1: 尚建华 | 业务二部 | 8月绩效对账单
A2: 本月考核及结转车辆：53辆 | E2: 本月实发合计（元） | H2: =SUMIFS('8月奖金发放记录'!$J$2:$J$171,'8月奖金发放记录'!$B$2:$B$171,"尚建华") -> 5601.94
A4: 车牌号 | B4: 考核目标 | C4: 月奖励 | D4: 1月里程/目标 | E4: 2月里程/目标 | F4: 3月里程/目标 | G4: 4月里程/目标 | H4: 5月里程/目标 | I4: 6月里程/目标 | J4: 7月里程/目标 | K4: 8月里程/目标 | L4: 累计里程/目标 | M4: 达标
A5: 粤AGE6410 | B5: 交投40辆4.5T普货 | C5: 150 | D5: 2694.00/3000.00 | E5: 89.50/3000.00 | F5: 2582.40/3000.00 | G5: 5744.90/3000.00 | H5: 3503.70/3000.00 | I5: 3297.40/3000.00 | J5: 3571.10/3000.00 | K5: 3290.10/3000.00 | L5: 24773.10/24000.00 | M5: 达标
B6: 发放项 | C6: 金额 | D6: 说明 | E6: 结转余额
B7: 当月 | C7: ='8月奖金发放记录'!J13 -> 150 | D7: 奖励基准×考核天数/对应月天数
B8: 本月合计 | C8: =SUMIFS('8月奖金发放记录'!$J$2:$J$171,'8月奖金发放记录'!$B$2:$B$171,"尚建华",'8月奖金发放记录'!$A$2:$A$171,"粤AGE6410") -> 150 | D8: 已计入个人汇总 | E8: 上期0期，本期剩余0期
A10: 粤AGP3027 | B10: 羚牛136辆4.5T冷链车 | C10: 260 | D10: - | E10: - | F10: - | G10: 4342.00/5000.00 | H10: 5301.70/5000.00 | I10: 8379.80/5000.00 | J10: 4882.10/5000.00 | K10: 6968.20/3870.97 | L10: 29873.80/23870.97 | M10: 达标
B11: 发放项 | C11: 金额 | D11: 说明 | E11: 结转余额
B12: 当月 | C12: ='8月奖金发放记录'!J14 -> 201.29 | D12: 奖励基准×考核天数/对应月天数
B13: 本月合计 | C13: =SUMIFS('8月奖金发放记录'!$J$2:$J$171,'8月奖金发放记录'!$B$2:$B$171,"尚建华",'8月奖金发放记录'!$A$2:$A$171,"粤AGP3027") -> 201.29 | D13: 已计入个人汇总 | E13: 上期0期，本期剩余1期
A15: 粤AGP3028 | B15: 交投190辆4.5T冷链车 | C15: 150 | D15: 1993.70/3000.00 | E15: 272.20/3000.00 | F15: 1853.70/3000.00 | G15: 3039.60/3000.00 | H15: 3321.70/3000.00 | I15: 3463.30/3000.00 | J15: 2573.90/3000.00 | K15: 3146.80/3000.00 | L15: 19664.90/24000.00 | M15: 未达标
B16: 发放项 | C16: 金额 | D16: 说明 | E16: 结转余额
B17: 当月 | C17: ='8月奖金发放记录'!J15 -> 150 | D17: 奖励基准×考核天数/对应月天数
B18: 本月合计 | C18: =SUMIFS('8月奖金发放记录'!$J$2:$J$171,'8月奖金发放记录'!$B$2:$B$171,"尚建华",'8月奖金发放记录'!$A$2:$A$171,"粤AGP3028") -> 150 | D18: 已计入个人汇总 | E18: 上期0期，本期剩余0期
A20: 粤AGP3486 | B20: 羚牛136辆4.5T冷链车 | C20: 260 | D20: - | E20: - | F20: 81.90/483.87 | G20: 4143.00/5000.00 | H20: 2929.77/5000.00 | I20: 6339.50/5000.00 | J20: 5059.30/5000.00 | K20: 3846.80/5000.00 | L20: 22400.27/25483.87 | M20: 未达标
B21: 发放项 | C21: 金额 | D21: 说明 | E21: 结转余额
B22: 本月不发 | C22: 0 | D22: 未满足本月奖励、结转或补发条件
B23: 本月合计 | C23: =SUMIFS('8月奖金发放记录'!$J$2:$J$171,'8月奖金发放记录'!$B$2:$B$171,"尚建华",'8月奖金发放记录'!$A$2:$A$171,"粤AGP3486") -> 0 | D23: 已计入个人汇总 | E23: 上期0期，本期剩余0期
A25: 粤AGP3612 | B25: 羚牛136辆4.5T冷链车 | C25: 260 | D25: - | E25: - | F25: - | G25: - | H25: 407.60/645.16 | I25: 4715.70/5000.00 | J25: 4520.60/5000.00 | K25: 4978.20/5000.00 | L25: 14622.10/15645.16 | M25: 未达标
B26: 发放项 | C26: 金额 | D26: 说明 | E26: 结转余额
B27: 本月不发 | C27: 0 | D27: 未满足本月奖励、结转或补发条件
B28: 本月合计 | C28: =SUMIFS('8月奖金发放记录'!$J$2:$J$171,'8月奖金发放记录'!$B$2:$B$171,"尚建华",'8月奖金发放记录'!$A$2:$A$171,"粤AGP3612") -> 0 | D28: 已计入个人汇总 | E28: 上期0期，本期剩余0期
A30: 粤AGP3617 | B30: 羚牛136辆4.5T冷链车 | C30: 260 | D30: - | E30: - | F30: 190.10/483.87 | G30: 3592.10/5000.00 | H30: 2169.86/5000.00 | I30: 5776.80/5000.00 | J30: 4118.50/5000.00 | K30: 4343.50/5000.00 | L30: 20190.86/25483.87 | M30: 未达标
B31: 发放项 | C31: 金额 | D31: 说明 | E31: 结转余额
B32: 本月不发 | C32: 0 | D32: 未满足本月奖励、结转或补发条件
B33: 本月合计 | C33: =SUMIFS('8月奖金发放记录'!$J$2:$J$171,'8月奖金发放记录'!$B$2:$B$171,"尚建华",'8月奖金发放记录'!$A$2:$A$171,"粤AGP3617") -> 0 | D33: 已计入个人汇总 | E33: 上期0期，本期剩余0期
A35: 粤AGP3649 | B35: 羚牛136辆4.5T冷链车 | C35: 260 | D35: - | E35: - | F35: - | G35: 6870.00/4166.67 | H35: 8028.80/5000.00 | I35: 9305.40/5000.00 | J35: 13153.10/5000.00 | K35: 2934.80/3709.68 | L35: 40292.10/22876.35 | M35: 达标
B36: 发放项 | C36: 金额 | D36: 说明 | E36: 结转余额
B37: 结转 | C37: ='8月奖金发放记录'!J95 -> 260 | D37: 整月结转，不与当月奖励重复
B38: 本月合计 | C38: =SUMIFS('8月奖金发放记录'!$J$2:$J$171,'8月奖金发放记录'!$B$2:$B$171,"尚建华",'8月奖金发放记录'!$A$2:$A$171,"粤AGP3649") -> 260 | D38: 已计入个人汇总 | E38: 上期1期，本期剩余0期
A40: 粤AGP4223 | B40: 羚牛136辆4.5T冷链车 | C40: 260 | D40: - | E40: - | F40: - | G40: - | H40: - | I40: - | J40: - | K40: 412.80/1290.32 | L40: 412.80/1290.32 | M40: 未达标
B41: 发放项 | C41: 金额 | D41: 说明 | E41: 结转余额
B42: 本月不发 | C42: 0 | D42: 未满足本月奖励、结转或补发条件
B43: 本月合计 | C43: =SUMIFS('8月奖金发放记录'!$J$2:$J$171,'8月奖金发放记录'!$B$2:$B$171,"尚建华",'8月奖金发放记录'!$A$2:$A$171,"粤AGP4223") -> 0 | D43: 已计入个人汇总 | E43: 上期0期，本期剩余0期
A45: 粤AGP4321 | B45: 羚牛136辆4.5T冷链车 | C45: 260 | D45: 2967.80/5000.00 | E45: 1026.60/5000.00 | F45: 3059.10/5000.00 | G45: 11933.90/5000.00 | H45: 8966.70/5000.00 | I45: 3615.30/5000.00 | J45: 6592.20/5000.00 | K45: 1014.60/1129.03 | L45: 39176.20/36129.03 | M45: 达标
B46: 发放项 | C46: 金额 | D46: 说明 | E46: 结转余额
B47: 累计补发8月 | C47: ='8月奖金发放记录'!J157 -> 58.71 | D47: 奖励基准×考核天数/对应月天数
B48: 本月合计 | C48: =SUMIFS('8月奖金发放记录'!$J$2:$J$171,'8月奖金发放记录'!$B$2:$B$171,"尚建华",'8月奖金发放记录'!$A$2:$A$171,"粤AGP4321") -> 58.71 | D48: 已计入个人汇总 | E48: 上期0期，本期剩余0期
A50: 粤AGP4489 | B50: 羚牛136辆4.5T冷链车 | C50: 260 | D50: - | E50: 4026.40/4285.71 | F50: 6688.20/5000.00 | G50: 8238.10/5000.00 | H50: 8966.10/5000.00 | I50: 260.00/5000.00 | J50: 9210.80/5000.00 | K50: 4683.80/4516.13 | L50: 42073.40/33801.84 | M50: 达标
B51: 发放项 | C51: 金额 | D51: 说明 | E51: 结转余额
B52: 当月 | C52: ='8月奖金发放记录'!J16 -> 234.84 | D52: 奖励基准×考核天数/对应月天数
B53: 本月合计 | C53: =SUMIFS('8月奖金发放记录'!$J$2:$J$171,'8月奖金发放记录'!$B$2:$B$171,"尚建华",'8月奖金发放记录'!$A$2:$A$171,"粤AGP4489") -> 234.84 | D53: 已计入个人汇总 | E53: 上期0期，本期剩余0期
A55: 粤AGP4502 | B55: 羚牛136辆4.5T冷链车 | C55: 260 | D55: - | E55: - | F55: - | G55: - | H55: - | I55: - | J55: 463.90/1935.48 | K55: 896.70/4193.55 | L55: 1360.60/6129.03 | M55: 未达标
B56: 发放项 | C56: 金额 | D56: 说明 | E56: 结转余额
B57: 本月不发 | C57: 0 | D57: 未满足本月奖励、结转或补发条件
B58: 本月合计 | C58: =SUMIFS('8月奖金发放记录'!$J$2:$J$171,'8月奖金发放记录'!$B$2:$B$171,"尚建华",'8月奖金发放记录'!$A$2:$A$171,"粤AGP4502") -> 0 | D58: 已计入个人汇总 | E58: 上期0期，本期剩余0期
A60: 粤AGP5158 | B60: 交投190辆4.5T冷链车 | C60: 150 | D60: 2935.00/3000.00 | E60: 6726.90/3000.00 | F60: 6532.40/3000.00 | G60: 7477.70/3000.00 | H60: 9290.10/3000.00 | I60: 8058.80/3000.00 | J60: 153.10/1451.61 | K60: 0.00/3000.00 | L60: 41174.00/22451.61 | M60: 未达标
B61: 发放项 | C61: 金额 | D61: 说明 | E61: 结转余额
B62: 结转 | C62: ='8月奖金发放记录'!J134 -> 150 | D62: 历史结转，本月无考核记录
B63: 本月合计 | C63: =SUMIFS('8月奖金发放记录'!$J$2:$J$171,'8月奖金发放记录'!$B$2:$B$171,"尚建华",'8月奖金发放记录'!$A$2:$A$171,"粤AGP5158") -> 150 | D63: 已计入个人汇总 | E63: 上期2期，本期剩余1期
A65: 粤AGP5165 | B65: 羚牛136辆4.5T冷链车 | C65: 260 | D65: - | E65: - | F65: - | G65: 5848.10/4166.67 | H65: 5021.40/5000.00 | I65: 8572.60/5000.00 | J65: 8196.70/5000.00 | K65: 5411.00/3548.39 | L65: 33049.80/22715.06 | M65: 达标
B66: 发放项 | C66: 金额 | D66: 说明 | E66: 结转余额
B67: 当月 | C67: ='8月奖金发放记录'!J17 -> 184.52 | D67: 奖励基准×考核天数/对应月天数
B68: 本月合计 | C68: =SUMIFS('8月奖金发放记录'!$J$2:$J$171,'8月奖金发放记录'!$B$2:$B$171,"尚建华",'8月奖金发放记录'!$A$2:$A$171,"粤AGP5165") -> 184.52 | D68: 已计入个人汇总 | E68: 上期0期，本期剩余1期
A70: 粤AGP5167 | B70: 羚牛136辆4.5T冷链车 | C70: 260 | D70: - | E70: - | F70: - | G70: - | H70: - | I70: - | J70: - | K70: 1413.20/2419.35 | L70: 1413.20/2419.35 | M70: 未达标
B71: 发放项 | C71: 金额 | D71: 说明 | E71: 结转余额
B72: 本月不发 | C72: 0 | D72: 未满足本月奖励、结转或补发条件
B73: 本月合计 | C73: =SUMIFS('8月奖金发放记录'!$J$2:$J$171,'8月奖金发放记录'!$B$2:$B$171,"尚建华",'8月奖金发放记录'!$A$2:$A$171,"粤AGP5167") -> 0 | D73: 已计入个人汇总 | E73: 上期0期，本期剩余0期
A75: 粤AGP5301 | B75: 羚牛136辆4.5T冷链车 | C75: 260 | D75: - | E75: - | F75: - | G75: - | H75: - | I75: - | J75: - | K75: 345.30/2419.35 | L75: 345.30/2419.35 | M75: 未达标
B76: 发放项 | C76: 金额 | D76: 说明 | E76: 结转余额
B77: 本月不发 | C77: 0 | D77: 未满足本月奖励、结转或补发条件
B78: 本月合计 | C78: =SUMIFS('8月奖金发放记录'!$J$2:$J$171,'8月奖金发放记录'!$B$2:$B$171,"尚建华",'8月奖金发放记录'!$A$2:$A$171,"粤AGP5301") -> 0 | D78: 已计入个人汇总 | E78: 上期0期，本期剩余0期
A80: 粤AGP5617 | B80: 羚牛136辆4.5T冷链车 | C80: 260 | D80: - | E80: - | F80: - | G80: 7423.60/5000.00 | H80: 10245.60/5000.00 | I80: 8681.90/5000.00 | J80: 8704.80/5000.00 | K80: 6492.30/3870.97 | L80: 41548.20/23870.97 | M80: 达标
B81: 发放项 | C81: 金额 | D81: 说明 | E81: 结转余额
B82: 结转 | C82: ='8月奖金发放记录'!J96 -> 260 | D82: 整月结转，不与当月奖励重复
B83: 本月合计 | C83: =SUMIFS('8月奖金发放记录'!$J$2:$J$171,'8月奖金发放记录'!$B$2:$B$171,"尚建华",'8月奖金发放记录'!$A$2:$A$171,"粤AGP5617") -> 260 | D83: 已计入个人汇总 | E83: 上期1期，本期剩余0期
A85: 粤AGP5643 | B85: 羚牛136辆4.5T冷链车 | C85: 260 | D85: 3552.80/5000.00 | E85: 0.00/5000.00 | F85: 2850.30/5000.00 | G85: 3701.70/5000.00 | H85: 3200.34/5000.00 | I85: 3551.60/5000.00 | J85: 1941.90/5000.00 | K85: 1044.30/3064.52 | L85: 19842.94/38064.52 | M85: 未达标
B86: 发放项 | C86: 金额 | D86: 说明 | E86: 结转余额
B87: 本月不发 | C87: 0 | D87: 未满足本月奖励、结转或补发条件
B88: 本月合计 | C88: =SUMIFS('8月奖金发放记录'!$J$2:$J$171,'8月奖金发放记录'!$B$2:$B$171,"尚建华",'8月奖金发放记录'!$A$2:$A$171,"粤AGP5643") -> 0 | D88: 已计入个人汇总 | E88: 上期0期，本期剩余0期
A90: 粤AGP5710 | B90: 羚牛136辆4.5T冷链车 | C90: 260 | D90: - | E90: - | F90: - | G90: - | H90: - | I90: - | J90: - | K90: 1013.30/2419.35 | L90: 1013.30/2419.35 | M90: 未达标
B91: 发放项 | C91: 金额 | D91: 说明 | E91: 结转余额
B92: 本月不发 | C92: 0 | D92: 未满足本月奖励、结转或补发条件
B93: 本月合计 | C93: =SUMIFS('8月奖金发放记录'!$J$2:$J$171,'8月奖金发放记录'!$B$2:$B$171,"尚建华",'8月奖金发放记录'!$A$2:$A$171,"粤AGP5710") -> 0 | D93: 已计入个人汇总 | E93: 上期0期，本期剩余0期
A95: 粤AGP5711 | B95: 羚牛136辆4.5T冷链车 | C95: 260 | D95: 74.30/5000.00 | E95: 60.60/5000.00 | F95: 207.00/5000.00 | G95: 317.10/3000.00 | H95: 4300.90/5000.00 | I95: 3240.30/5000.00 | J95: 3175.70/5000.00 | K95: 4009.50/5000.00 | L95: 15385.40/38000.00 | M95: 未达标
B96: 发放项 | C96: 金额 | D96: 说明 | E96: 结转余额
B97: 本月不发 | C97: 0 | D97: 未满足本月奖励、结转或补发条件
B98: 本月合计 | C98: =SUMIFS('8月奖金发放记录'!$J$2:$J$171,'8月奖金发放记录'!$B$2:$B$171,"尚建华",'8月奖金发放记录'!$A$2:$A$171,"粤AGP5711") -> 0 | D98: 已计入个人汇总 | E98: 上期0期，本期剩余0期
A100: 粤AGP5770 | B100: 羚牛136辆4.5T冷链车 | C100: 260 | D100: - | E100: - | F100: - | G100: - | H100: 683.80/645.16 | I100: 9246.90/5000.00 | J100: 5487.90/5000.00 | K100: 7925.00/5000.00 | L100: 23343.60/15645.16 | M100: 达标
B101: 发放项 | C101: 金额 | D101: 说明 | E101: 结转余额
B102: 当月 | C102: ='8月奖金发放记录'!J18 -> 260 | D102: 奖励基准×考核天数/对应月天数
B103: 本月合计 | C103: =SUMIFS('8月奖金发放记录'!$J$2:$J$171,'8月奖金发放记录'!$B$2:$B$171,"尚建华",'8月奖金发放记录'!$A$2:$A$171,"粤AGP5770") -> 260 | D103: 已计入个人汇总 | E103: 上期0期，本期剩余1期
A105: 粤AGP5791 | B105: 羚牛136辆4.5T冷链车 | C105: 260 | D105: 1466.80/5000.00 | E105: 295.30/5000.00 | F105: 797.60/5000.00 | G105: 5283.40/5000.00 | H105: 6191.47/5000.00 | I105: 7295.20/5000.00 | J105: 5552.90/5000.00 | K105: 6272.80/5000.00 | L105: 33155.47/40000.00 | M105: 未达标
B106: 发放项 | C106: 金额 | D106: 说明 | E106: 结转余额
B107: 当月 | C107: ='8月奖金发放记录'!J19 -> 260 | D107: 奖励基准×考核天数/对应月天数
B108: 本月合计 | C108: =SUMIFS('8月奖金发放记录'!$J$2:$J$171,'8月奖金发放记录'!$B$2:$B$171,"尚建华",'8月奖金发放记录'!$A$2:$A$171,"粤AGP5791") -> 260 | D108: 已计入个人汇总 | E108: 上期0期，本期剩余0期
A110: 粤AGP5796 | B110: 交投190辆4.5T冷链车 | C110: 150 | D110: - | E110: - | F110: - | G110: - | H110: 178.30/387.10 | I110: 4714.90/3000.00 | J110: 5334.80/3000.00 | K110: 41.80/96.77 | L110: 10269.80/6483.87 | M110: 达标
B111: 发放项 | C111: 金额 | D111: 说明 | E111: 结转余额
B112: 结转 | C112: ='8月奖金发放记录'!J97 -> 150 | D112: 整月结转，不与当月奖励重复
B113: 本月合计 | C113: =SUMIFS('8月奖金发放记录'!$J$2:$J$171,'8月奖金发放记录'!$B$2:$B$171,"尚建华",'8月奖金发放记录'!$A$2:$A$171,"粤AGP5796") -> 150 | D113: 已计入个人汇总 | E113: 上期1期，本期剩余0期
A115: 粤AGP6639 | B115: 交投190辆4.5T冷链车 | C115: 150 | D115: 4475.60/3000.00 | E115: 536.70/3000.00 | F115: 5417.60/3000.00 | G115: 5312.20/3000.00 | H115: 4922.00/3000.00 | I115: 3823.50/3000.00 | J115: 5363.50/3000.00 | K115: 4579.00/2225.81 | L115: 34430.10/23225.81 | M115: 达标
B116: 发放项 | C116: 金额 | D116: 说明 | E116: 结转余额
B117: 当月 | C117: ='8月奖金发放记录'!J20 -> 111.29 | D117: 奖励基准×考核天数/对应月天数
B118: 本月合计 | C118: =SUMIFS('8月奖金发放记录'!$J$2:$J$171,'8月奖金发放记录'!$B$2:$B$171,"尚建华",'8月奖金发放记录'!$A$2:$A$171,"粤AGP6639") -> 111.29 | D118: 已计入个人汇总 | E118: 上期0期，本期剩余1期
A120: 粤AGP6651 | B120: 交投190辆4.5T冷链车 | C120: 150 | D120: 1299.90/3000.00 | E120: 126.70/3000.00 | F120: 3167.10/3000.00 | G120: 3667.80/3000.00 | H120: 5385.70/3000.00 | I120: 4479.60/3000.00 | J120: 4254.00/3000.00 | K120: 3389.60/2225.81 | L120: 25770.40/23225.81 | M120: 达标
B121: 发放项 | C121: 金额 | D121: 说明 | E121: 结转余额
B122: 当月 | C122: ='8月奖金发放记录'!J21 -> 111.29 | D122: 奖励基准×考核天数/对应月天数
B123: 本月合计 | C123: =SUMIFS('8月奖金发放记录'!$J$2:$J$171,'8月奖金发放记录'!$B$2:$B$171,"尚建华",'8月奖金发放记录'!$A$2:$A$171,"粤AGP6651") -> 111.29 | D123: 已计入个人汇总 | E123: 上期0期，本期剩余0期
A125: 粤AGP6680 | B125: 交投190辆4.5T冷链车 | C125: 150 | D125: 2365.80/3000.00 | E125: 1432.60/3000.00 | F125: 2378.70/3000.00 | G125: 2379.80/3000.00 | H125: 2402.30/3000.00 | I125: 2367.50/3000.00 | J125: 2393.30/3000.00 | K125: 2363.20/3000.00 | L125: 18083.20/24000.00 | M125: 未达标
...

Sheet 五部-秦挺
A1: 秦挺 | 业务五部 | 8月绩效对账单
A2: 本月考核及结转车辆：28辆 | E2: 本月实发合计（元） | H2: =SUMIFS('8月奖金发放记录'!$J$2:$J$171,'8月奖金发放记录'!$B$2:$B$171,"秦挺") -> 12306.45
A4: 车牌号 | B4: 考核目标 | C4: 月奖励 | D4: 1月里程/目标 | E4: 2月里程/目标 | F4: 3月里程/目标 | G4: 4月里程/目标 | H4: 5月里程/目标 | I4: 6月里程/目标 | J4: 7月里程/目标 | K4: 8月里程/目标 | L4: 累计里程/目标 | M4: 达标
A5: 粤A00585F | B5: 羚牛100辆18T | C5: 1000 | D5: - | E5: 2074.20/6000.00 | F5: 4892.30/6000.00 | G5: 9535.50/6000.00 | H5: 8822.80/6000.00 | I5: 10663.70/6000.00 | J5: 9903.40/6000.00 | K5: 8898.60/6000.00 | L5: 54790.50/42000.00 | M5: 达标
B6: 发放项 | C6: 金额 | D6: 说明 | E6: 结转余额
B7: 当月 | C7: ='8月奖金发放记录'!J81 -> 1000 | D7: 奖励基准×考核天数/对应月天数
B8: 本月合计 | C8: =SUMIFS('8月奖金发放记录'!$J$2:$J$171,'8月奖金发放记录'!$B$2:$B$171,"秦挺",'8月奖金发放记录'!$A$2:$A$171,"粤A00585F") -> 1000 | D8: 已计入个人汇总 | E8: 上期0期，本期剩余1期
A10: 粤A00855F | B10: 羚牛100辆18T | C10: 1000 | D10: - | E10: 1397.00/6000.00 | F10: 7093.60/6000.00 | G10: 11754.70/6000.00 | H10: 8761.90/6000.00 | I10: 8444.50/6000.00 | J10: 6269.30/6000.00 | K10: 6163.70/6000.00 | L10: 49884.70/42000.00 | M10: 达标
B11: 发放项 | C11: 金额 | D11: 说明 | E11: 结转余额
B12: 当月 | C12: ='8月奖金发放记录'!J82 -> 1000 | D12: 奖励基准×考核天数/对应月天数
B13: 本月合计 | C13: =SUMIFS('8月奖金发放记录'!$J$2:$J$171,'8月奖金发放记录'!$B$2:$B$171,"秦挺",'8月奖金发放记录'!$A$2:$A$171,"粤A00855F") -> 1000 | D13: 已计入个人汇总 | E13: 上期0期，本期剩余0期
A15: 粤A01629F | B15: 羚牛100辆18T | C15: 1000 | D15: - | E15: 2651.00/6000.00 | F15: 7396.60/6000.00 | G15: 10391.90/6000.00 | H15: 8120.60/6000.00 | I15: 11564.90/6000.00 | J15: 7645.80/6000.00 | K15: 8334.10/6000.00 | L15: 56104.90/42000.00 | M15: 达标
B16: 发放项 | C16: 金额 | D16: 说明 | E16: 结转余额
B17: 当月 | C17: ='8月奖金发放记录'!J83 -> 1000 | D17: 奖励基准×考核天数/对应月天数
B18: 本月合计 | C18: =SUMIFS('8月奖金发放记录'!$J$2:$J$171,'8月奖金发放记录'!$B$2:$B$171,"秦挺",'8月奖金发放记录'!$A$2:$A$171,"粤A01629F") -> 1000 | D18: 已计入个人汇总 | E18: 上期0期，本期剩余1期
A20: 粤A01766F | B20: 羚牛100辆18T | C20: 1000 | D20: - | E20: - | F20: - | G20: 4620.80/3200.00 | H20: 7840.20/6000.00 | I20: 747.70/6000.00 | J20: 6870.80/6000.00 | K20: 5887.50/6000.00 | L20: 25967.00/27200.00 | M20: 未达标
B21: 发放项 | C21: 金额 | D21: 说明 | E21: 结转余额
B22: 本月不发 | C22: 0 | D22: 未满足本月奖励、结转或补发条件
B23: 本月合计 | C23: =SUMIFS('8月奖金发放记录'!$J$2:$J$171,'8月奖金发放记录'!$B$2:$B$171,"秦挺",'8月奖金发放记录'!$A$2:$A$171,"粤A01766F") -> 0 | D23: 已计入个人汇总 | E23: 上期0期，本期剩余0期
A25: 粤A02393F | B25: 羚牛100辆18T | C25: 1000 | D25: 0.00/2516.13 | E25: 1321.30/6000.00 | F25: 3471.70/6000.00 | G25: 1725.70/6000.00 | H25: 2198.70/6000.00 | I25: 5200.20/6000.00 | J25: 3778.40/6000.00 | K25: 6529.10/6000.00 | L25: 24225.10/44516.13 | M25: 未达标
B26: 发放项 | C26: 金额 | D26: 说明 | E26: 结转余额
B27: 当月 | C27: ='8月奖金发放记录'!J84 -> 1000 | D27: 奖励基准×考核天数/对应月天数
B28: 本月合计 | C28: =SUMIFS('8月奖金发放记录'!$J$2:$J$171,'8月奖金发放记录'!$B$2:$B$171,"秦挺",'8月奖金发放记录'!$A$2:$A$171,"粤A02393F") -> 1000 | D28: 已计入个人汇总 | E28: 上期0期，本期剩余0期
A30: 粤A02956F | B30: 羚牛100辆18T | C30: 1000 | D30: - | E30: - | F30: - | G30: - | H30: - | I30: - | J30: - | K30: 435.80/4064.52 | L30: 435.80/4064.52 | M30: 未达标
B31: 发放项 | C31: 金额 | D31: 说明 | E31: 结转余额
B32: 本月不发 | C32: 0 | D32: 未满足本月奖励、结转或补发条件
B33: 本月合计 | C33: =SUMIFS('8月奖金发放记录'!$J$2:$J$171,'8月奖金发放记录'!$B$2:$B$171,"秦挺",'8月奖金发放记录'!$A$2:$A$171,"粤A02956F") -> 0 | D33: 已计入个人汇总 | E33: 上期0期，本期剩余0期
A35: 粤A03186F | B35: 羚牛100辆18T | C35: 1000 | D35: - | E35: - | F35: - | G35: 5782.60/5800.00 | H35: 6806.80/6000.00 | I35: 4366.00/4000.00 | J35: 4830.00/6000.00 | K35: 3748.60/6000.00 | L35: 25534.00/27800.00 | M35: 未达标
B36: 发放项 | C36: 金额 | D36: 说明 | E36: 结转余额
B37: 本月不发 | C37: 0 | D37: 未满足本月奖励、结转或补发条件
B38: 本月合计 | C38: =SUMIFS('8月奖金发放记录'!$J$2:$J$171,'8月奖金发放记录'!$B$2:$B$171,"秦挺",'8月奖金发放记录'!$A$2:$A$171,"粤A03186F") -> 0 | D38: 已计入个人汇总 | E38: 上期0期，本期剩余0期
A40: 粤A03809F | B40: 羚牛100辆18T | C40: 1000 | D40: - | E40: - | F40: - | G40: - | H40: 4608.00/3483.87 | I40: 7459.40/6000.00 | J40: 5950.80/6000.00 | K40: 6207.60/6000.00 | L40: 24225.80/21483.87 | M40: 达标
B41: 发放项 | C41: 金额 | D41: 说明 | E41: 结转余额
B42: 当月 | C42: ='8月奖金发放记录'!J85 -> 1000 | D42: 奖励基准×考核天数/对应月天数
B43: 本月合计 | C43: =SUMIFS('8月奖金发放记录'!$J$2:$J$171,'8月奖金发放记录'!$B$2:$B$171,"秦挺",'8月奖金发放记录'!$A$2:$A$171,"粤A03809F") -> 1000 | D43: 已计入个人汇总 | E43: 上期0期，本期剩余0期
A45: 粤A05106F | B45: 羚牛100辆18T | C45: 1000 | D45: - | E45: - | F45: - | G45: - | H45: - | I45: - | J45: - | K45: 1464.10/967.74 | L45: 1464.10/967.74 | M45: 达标
B46: 发放项 | C46: 金额 | D46: 说明 | E46: 结转余额
B47: 当月 | C47: ='8月奖金发放记录'!J86 -> 161.29 | D47: 奖励基准×考核天数/对应月天数
B48: 本月合计 | C48: =SUMIFS('8月奖金发放记录'!$J$2:$J$171,'8月奖金发放记录'!$B$2:$B$171,"秦挺",'8月奖金发放记录'!$A$2:$A$171,"粤A05106F") -> 161.29 | D48: 已计入个人汇总 | E48: 上期0期，本期剩余0期
A50: 粤A05378F | B50: 羚牛100辆18T | C50: 1000 | D50: - | E50: - | F50: - | G50: 1585.90/2000.00 | H50: 5858.70/6000.00 | I50: 3750.20/6000.00 | J50: 3740.50/4064.52 | K50: 6842.10/6000.00 | L50: 21777.40/24064.52 | M50: 未达标
B51: 发放项 | C51: 金额 | D51: 说明 | E51: 结转余额
B52: 当月 | C52: ='8月奖金发放记录'!J87 -> 1000 | D52: 奖励基准×考核天数/对应月天数
B53: 本月合计 | C53: =SUMIFS('8月奖金发放记录'!$J$2:$J$171,'8月奖金发放记录'!$B$2:$B$171,"秦挺",'8月奖金发放记录'!$A$2:$A$171,"粤A05378F") -> 1000 | D53: 已计入个人汇总 | E53: 上期0期，本期剩余0期
A55: 粤A05579F | B55: 羚牛100辆18T | C55: 1000 | D55: 322.00/6000.00 | E55: 3449.00/6000.00 | F55: 3920.90/6000.00 | G55: 1359.60/6000.00 | H55: 2015.90/6000.00 | I55: 1517.60/6000.00 | J55: 1374.10/6000.00 | K55: 1489.40/6000.00 | L55: 15448.50/48000.00 | M55: 未达标
B56: 发放项 | C56: 金额 | D56: 说明 | E56: 结转余额
B57: 本月不发 | C57: 0 | D57: 未满足本月奖励、结转或补发条件
B58: 本月合计 | C58: =SUMIFS('8月奖金发放记录'!$J$2:$J$171,'8月奖金发放记录'!$B$2:$B$171,"秦挺",'8月奖金发放记录'!$A$2:$A$171,"粤A05579F") -> 0 | D58: 已计入个人汇总 | E58: 上期0期，本期剩余0期
A60: 粤A05700F | B60: 羚牛100辆18T | C60: 1000 | D60: 2943.80/2322.58 | E60: 3229.50/6000.00 | F60: 7860.10/6000.00 | G60: 10279.80/6000.00 | H60: 5936.50/6000.00 | I60: 6518.10/6000.00 | J60: 2662.40/6000.00 | K60: 6169.40/6000.00 | L60: 45599.60/44322.58 | M60: 达标
B61: 发放项 | C61: 金额 | D61: 说明 | E61: 结转余额
B62: 当月 | C62: ='8月奖金发放记录'!J88 -> 1000 | D62: 奖励基准×考核天数/对应月天数
B63: 本月合计 | C63: =SUMIFS('8月奖金发放记录'!$J$2:$J$171,'8月奖金发放记录'!$B$2:$B$171,"秦挺",'8月奖金发放记录'!$A$2:$A$171,"粤A05700F") -> 1000 | D63: 已计入个人汇总 | E63: 上期0期，本期剩余0期
A65: 粤A05718F | B65: 羚牛100辆18T | C65: 1000 | D65: - | E65: 3863.70/6000.00 | F65: 8442.20/6000.00 | G65: 9112.70/6000.00 | H65: 10325.20/6000.00 | I65: 9703.50/6000.00 | J65: 8129.50/6000.00 | K65: 10609.00/6000.00 | L65: 60185.80/42000.00 | M65: 达标
B66: 发放项 | C66: 金额 | D66: 说明 | E66: 结转余额
B67: 结转 | C67: ='8月奖金发放记录'!J132 -> 1000 | D67: 整月结转，不与当月奖励重复
B68: 本月合计 | C68: =SUMIFS('8月奖金发放记录'!$J$2:$J$171,'8月奖金发放记录'!$B$2:$B$171,"秦挺",'8月奖金发放记录'!$A$2:$A$171,"粤A05718F") -> 1000 | D68: 已计入个人汇总 | E68: 上期1期，本期剩余1期
A70: 粤A05876F | B70: 羚牛100辆18T | C70: 1000 | D70: - | E70: - | F70: - | G70: - | H70: - | I70: - | J70: - | K70: 1409.40/967.74 | L70: 1409.40/967.74 | M70: 达标
B71: 发放项 | C71: 金额 | D71: 说明 | E71: 结转余额
B72: 当月 | C72: ='8月奖金发放记录'!J89 -> 161.29 | D72: 奖励基准×考核天数/对应月天数
B73: 本月合计 | C73: =SUMIFS('8月奖金发放记录'!$J$2:$J$171,'8月奖金发放记录'!$B$2:$B$171,"秦挺",'8月奖金发放记录'!$A$2:$A$171,"粤A05876F") -> 161.29 | D73: 已计入个人汇总 | E73: 上期0期，本期剩余0期
A75: 粤A05925F | B75: 羚牛100辆18T | C75: 1000 | D75: - | E75: - | F75: - | G75: - | H75: 9071.40/4258.06 | I75: 11610.40/6000.00 | J75: 9948.10/6000.00 | K75: 8278.60/6000.00 | L75: 38908.50/22258.06 | M75: 达标
B76: 发放项 | C76: 金额 | D76: 说明 | E76: 结转余额
B77: 结转 | C77: ='8月奖金发放记录'!J133 -> 1000 | D77: 整月结转，不与当月奖励重复
B78: 本月合计 | C78: =SUMIFS('8月奖金发放记录'!$J$2:$J$171,'8月奖金发放记录'!$B$2:$B$171,"秦挺",'8月奖金发放记录'!$A$2:$A$171,"粤A05925F") -> 1000 | D78: 已计入个人汇总 | E78: 上期1期，本期剩余0期
A80: 粤A05968F | B80: 羚牛100辆18T | C80: 1000 | D80: 492.40/580.65 | E80: 4886.80/6000.00 | F80: 3814.70/6000.00 | G80: 3768.30/6000.00 | H80: 3109.30/6000.00 | I80: 4472.40/6000.00 | J80: 2813.10/6000.00 | K80: 3983.50/6000.00 | L80: 27340.50/42580.65 | M80: 未达标
B81: 发放项 | C81: 金额 | D81: 说明 | E81: 结转余额
B82: 本月不发 | C82: 0 | D82: 未满足本月奖励、结转或补发条件
B83: 本月合计 | C83: =SUMIFS('8月奖金发放记录'!$J$2:$J$171,'8月奖金发放记录'!$B$2:$B$171,"秦挺",'8月奖金发放记录'!$A$2:$A$171,"粤A05968F") -> 0 | D83: 已计入个人汇总 | E83: 上期0期，本期剩余0期
A85: 粤A06980F | B85: 羚牛100辆18T | C85: 1000 | D85: 0.00/2516.13 | E85: 1406.70/6000.00 | F85: 5552.90/6000.00 | G85: 1735.60/6000.00 | H85: 2321.40/6000.00 | I85: 1493.90/6000.00 | J85: 1375.70/6000.00 | K85: 3239.70/6000.00 | L85: 17125.90/44516.13 | M85: 未达标
B86: 发放项 | C86: 金额 | D86: 说明 | E86: 结转余额
B87: 本月不发 | C87: 0 | D87: 未满足本月奖励、结转或补发条件
B88: 本月合计 | C88: =SUMIFS('8月奖金发放记录'!$J$2:$J$171,'8月奖金发放记录'!$B$2:$B$171,"秦挺",'8月奖金发放记录'!$A$2:$A$171,"粤A06980F") -> 0 | D88: 已计入个人汇总 | E88: 上期0期，本期剩余0期
A90: 粤A08177F | B90: 羚牛100辆18T | C90: 1000 | D90: - | E90: - | F90: 1285.50/1354.84 | G90: 6370.40/6000.00 | H90: 6480.40/6000.00 | I90: 5822.60/6000.00 | J90: 4309.40/4451.61 | K90: 7112.10/6000.00 | L90: 31380.40/29806.45 | M90: 达标
B91: 发放项 | C91: 金额 | D91: 说明 | E91: 结转余额
B92: 当月 | C92: ='8月奖金发放记录'!J90 -> 1000 | D92: 奖励基准×考核天数/对应月天数
B93: 本月合计 | C93: =SUMIFS('8月奖金发放记录'!$J$2:$J$171,'8月奖金发放记录'!$B$2:$B$171,"秦挺",'8月奖金发放记录'!$A$2:$A$171,"粤A08177F") -> 1000 | D93: 已计入个人汇总 | E93: 上期0期，本期剩余0期
A95: 粤A08391F | B95: 羚牛100辆18T | C95: 1000 | D95: - | E95: - | F95: - | G95: - | H95: - | I95: 1927.50/1400.00 | J95: 2421.40/6000.00 | K95: 5160.40/6000.00 | L95: 9509.30/13400.00 | M95: 未达标
B96: 发放项 | C96: 金额 | D96: 说明 | E96: 结转余额
B97: 本月不发 | C97: 0 | D97: 未满足本月奖励、结转或补发条件
B98: 本月合计 | C98: =SUMIFS('8月奖金发放记录'!$J$2:$J$171,'8月奖金发放记录'!$B$2:$B$171,"秦挺",'8月奖金发放记录'!$A$2:$A$171,"粤A08391F") -> 0 | D98: 已计入个人汇总 | E98: 上期0期，本期剩余0期
A100: 粤A08500F | B100: 羚牛100辆18T | C100: 1000 | D100: 2277.00/4258.06 | E100: 2362.00/6000.00 | F100: 6939.50/6000.00 | G100: 9570.00/6000.00 | H100: 6526.50/6000.00 | I100: 12648.60/6000.00 | J100: 11326.10/6000.00 | K100: 12390.80/6000.00 | L100: 64040.50/46258.06 | M100: 达标
B101: 发放项 | C101: 金额 | D101: 说明 | E101: 结转余额
B102: 当月 | C102: ='8月奖金发放记录'!J91 -> 1000 | D102: 奖励基准×考核天数/对应月天数
B103: 本月合计 | C103: =SUMIFS('8月奖金发放记录'!$J$2:$J$171,'8月奖金发放记录'!$B$2:$B$171,"秦挺",'8月奖金发放记录'!$A$2:$A$171,"粤A08500F") -> 1000 | D103: 已计入个人汇总 | E103: 上期0期，本期剩余1期
A105: 粤A08569F | B105: 羚牛100辆18T | C105: 1000 | D105: 0.00/2516.13 | E105: 2938.60/6000.00 | F105: 6694.70/6000.00 | G105: 2201.20/6000.00 | H105: 2073.20/6000.00 | I105: 1571.20/6000.00 | J105: 1638.30/6000.00 | K105: 3472.90/6000.00 | L105: 20590.10/44516.13 | M105: 未达标
B106: 发放项 | C106: 金额 | D106: 说明 | E106: 结转余额
B107: 本月不发 | C107: 0 | D107: 未满足本月奖励、结转或补发条件
B108: 本月合计 | C108: =SUMIFS('8月奖金发放记录'!$J$2:$J$171,'8月奖金发放记录'!$B$2:$B$171,"秦挺",'8月奖金发放记录'!$A$2:$A$171,"粤A08569F") -> 0 | D108: 已计入个人汇总 | E108: 上期0期，本期剩余0期
A110: 粤A08796F | B110: 羚牛100辆18T | C110: 1000 | D110: - | E110: - | F110: - | G110: - | H110: - | I110: - | J110: - | K110: 137.40/2322.58 | L110: 137.40/2322.58 | M110: 未达标
B111: 发放项 | C111: 金额 | D111: 说明 | E111: 结转余额
B112: 本月不发 | C112: 0 | D112: 未满足本月奖励、结转或补发条件
B113: 本月合计 | C113: =SUMIFS('8月奖金发放记录'!$J$2:$J$171,'8月奖金发放记录'!$B$2:$B$171,"秦挺",'8月奖金发放记录'!$A$2:$A$171,"粤A08796F") -> 0 | D113: 已计入个人汇总 | E113: 上期0期，本期剩余0期
A115: 粤A08968F | B115: 羚牛100辆18T | C115: 1000 | D115: - | E115: - | F115: 3133.20/5225.81 | G115: 3612.60/6000.00 | H115: 2064.70/6000.00 | I115: 5281.40/6000.00 | J115: 1644.00/6000.00 | K115: 3439.90/6000.00 | L115: 19175.80/35225.81 | M115: 未达标
B116: 发放项 | C116: 金额 | D116: 说明 | E116: 结转余额
B117: 本月不发 | C117: 0 | D117: 未满足本月奖励、结转或补发条件
B118: 本月合计 | C118: =SUMIFS('8月奖金发放记录'!$J$2:$J$171,'8月奖金发放记录'!$B$2:$B$171,"秦挺",'8月奖金发放记录'!$A$2:$A$171,"粤A08968F") -> 0 | D118: 已计入个人汇总 | E118: 上期0期，本期剩余0期
A120: 粤A09369F | B120: 羚牛100辆18T | C120: 1000 | D120: - | E120: - | F120: - | G120: 2462.60/2000.00 | H120: 10433.50/6000.00 | I120: 8075.40/6000.00 | J120: 2969.20/5419.35 | K120: 1313.80/2129.03 | L120: 25254.50/21548.38 | M120: 达标
B121: 发放项 | C121: 金额 | D121: 说明 | E121: 结转余额
B122: 累计补发8月 | C122: ='8月奖金发放记录'!J171 -> 354.84 | D122: 奖励基准×考核天数/对应月天数
B123: 本月合计 | C123: =SUMIFS('8月奖金发放记录'!$J$2:$J$171,'8月奖金发放记录'!$B$2:$B$171,"秦挺",'8月奖金发放记录'!$A$2:$A$171,"粤A09369F") -> 354.84 | D123: 已计入个人汇总 | E123: 上期0期，本期剩余0期
A125: 粤A09956F | B125: 羚牛100辆18T | C125: 1000 | D125: - | E125: - | F125: - | G125: 4180.10/3200.00 | H125: 6413.20/6000.00 | I125: 6624.70/6000.00 | J125: 684.40/6000.00 | K125: 582.20/6000.00 | L125: 18484.60/27200.00 | M125: 未达标
...

Sheet 综合部-童军林
A1: 童军林 | 综合业务部 | 8月绩效对账单
A2: 本月考核及结转车辆：1辆 | E2: 本月实发合计（元） | H2: =SUMIFS('8月奖金发放记录'!$J$2:$J$171,'8月奖金发放记录'!$B$2:$B$171,"童军林") -> 0
A4: 车牌号 | B4: 考核目标 | C4: 月奖励 | D4: 1月里程/目标 | E4: 2月里程/目标 | F4: 3月里程/目标 | G4: 4月里程/目标 | H4: 5月里程/目标 | I4: 6月里程/目标 | J4: 7月里程/目标 | K4: 8月里程/目标 | L4: 累计里程/目标 | M4: 达标
A5: 粤A01620F | B5: 羚牛100辆18T | C5: 150 | D5: - | E5: - | F5: - | G5: - | H5: - | I5: - | J5: - | K5: 290.80/6000.00 | L5: 290.80/6000.00 | M5: 未达标
B6: 发放项 | C6: 金额 | D6: 说明 | E6: 结转余额
B7: 本月不发 | C7: 0 | D7: 未满足本月奖励、结转或补发条件
B8: 本月合计 | C8: =SUMIFS('8月奖金发放记录'!$J$2:$J$171,'8月奖金发放记录'!$B$2:$B$171,"童军林",'8月奖金发放记录'!$A$2:$A$171,"粤A01620F") -> 0 | D8: 已计入个人汇总 | E8: 上期0期，本期剩余0期
A10: 合计 | C10: =H2 -> 0

Sheet 二部-董剑煜
A1: 董剑煜 | 业务二部 | 8月绩效对账单
A2: 本月考核及结转车辆：24辆 | E2: 本月实发合计（元） | H2: =SUMIFS('8月奖金发放记录'!$J$2:$J$171,'8月奖金发放记录'!$B$2:$B$171,"董剑煜") -> 3349.67
A4: 车牌号 | B4: 考核目标 | C4: 月奖励 | D4: 1月里程/目标 | E4: 2月里程/目标 | F4: 3月里程/目标 | G4: 4月里程/目标 | H4: 5月里程/目标 | I4: 6月里程/目标 | J4: 7月里程/目标 | K4: 8月里程/目标 | L4: 累计里程/目标 | M4: 达标
A5: 粤AG37790 | B5: 恒运50辆4.5T普货 | C5: 260 | D5: - | E5: - | F5: - | G5: 38.50/166.67 | H5: 4868.40/5000.00 | I5: 4101.60/5000.00 | J5: 2893.90/5000.00 | K5: 5675.30/5000.00 | L5: 17577.70/20166.67 | M5: 未达标
B6: 发放项 | C6: 金额 | D6: 说明 | E6: 结转余额
B7: 当月 | C7: ='8月奖金发放记录'!J44 -> 260 | D7: 奖励基准×考核天数/对应月天数
B8: 本月合计 | C8: =SUMIFS('8月奖金发放记录'!$J$2:$J$171,'8月奖金发放记录'!$B$2:$B$171,"董剑煜",'8月奖金发放记录'!$A$2:$A$171,"粤AG37790") -> 260 | D8: 已计入个人汇总 | E8: 上期0期，本期剩余0期
A10: 粤AG37862 | B10: 恒运50辆4.5T普货 | C10: 260 | D10: - | E10: - | F10: - | G10: 69.50/166.67 | H10: 4512.90/5000.00 | I10: 2584.40/5000.00 | J10: 5180.50/5000.00 | K10: 5239.10/5000.00 | L10: 17586.40/20166.67 | M10: 未达标
B11: 发放项 | C11: 金额 | D11: 说明 | E11: 结转余额
B12: 当月 | C12: ='8月奖金发放记录'!J45 -> 260 | D12: 奖励基准×考核天数/对应月天数
B13: 本月合计 | C13: =SUMIFS('8月奖金发放记录'!$J$2:$J$171,'8月奖金发放记录'!$B$2:$B$171,"董剑煜",'8月奖金发放记录'!$A$2:$A$171,"粤AG37862") -> 260 | D13: 已计入个人汇总 | E13: 上期0期，本期剩余0期
A15: 粤AGP3079 | B15: 羚牛136辆4.5T冷链车 | C15: 260 | D15: - | E15: - | F15: - | G15: - | H15: 3830.30/5000.00 | I15: 3505.60/5000.00 | J15: 4484.30/5000.00 | K15: 4024.00/5000.00 | L15: 15844.20/20000.00 | M15: 未达标
B16: 发放项 | C16: 金额 | D16: 说明 | E16: 结转余额
B17: 本月不发 | C17: 0 | D17: 未满足本月奖励、结转或补发条件
B18: 本月合计 | C18: =SUMIFS('8月奖金发放记录'!$J$2:$J$171,'8月奖金发放记录'!$B$2:$B$171,"董剑煜",'8月奖金发放记录'!$A$2:$A$171,"粤AGP3079") -> 0 | D18: 已计入个人汇总 | E18: 上期0期，本期剩余0期
A20: 粤AGP3080 | B20: 交投190辆4.5T冷链车 | C20: 150 | D20: - | E20: - | F20: 1778.40/1548.39 | G20: 7126.60/3000.00 | H20: 4104.10/3000.00 | I20: 16354.50/3000.00 | J20: 14560.10/3000.00 | K20: 14823.40/3000.00 | L20: 58747.10/16548.39 | M20: 达标
B21: 发放项 | C21: 金额 | D21: 说明 | E21: 结转余额
B22: 结转 | C22: ='8月奖金发放记录'!J121 -> 150 | D22: 整月结转，不与当月奖励重复
B23: 本月合计 | C23: =SUMIFS('8月奖金发放记录'!$J$2:$J$171,'8月奖金发放记录'!$B$2:$B$171,"董剑煜",'8月奖金发放记录'!$A$2:$A$171,"粤AGP3080") -> 150 | D23: 已计入个人汇总 | E23: 上期8期，本期剩余11期
A25: 粤AGP3651 | B25: 羚牛136辆4.5T冷链车 | C25: 260 | D25: - | E25: - | F25: 1607.20/2419.35 | G25: 9559.10/5000.00 | H25: 8004.57/5000.00 | I25: 7256.30/5000.00 | J25: 9179.30/5000.00 | K25: 5.10/161.29 | L25: 35611.57/22580.64 | M25: 达标
B26: 发放项 | C26: 金额 | D26: 说明 | E26: 结转余额
B27: 结转 | C27: ='8月奖金发放记录'!J122 -> 260 | D27: 整月结转，不与当月奖励重复
B28: 本月合计 | C28: =SUMIFS('8月奖金发放记录'!$J$2:$J$171,'8月奖金发放记录'!$B$2:$B$171,"董剑煜",'8月奖金发放记录'!$A$2:$A$171,"粤AGP3651") -> 260 | D28: 已计入个人汇总 | E28: 上期1期，本期剩余0期
A30: 粤AGP3659 | B30: 羚牛136辆4.5T冷链车 | C30: 260 | D30: - | E30: - | F30: - | G30: - | H30: 4340.40/5000.00 | I30: 5495.30/5000.00 | J30: 5626.60/5000.00 | K30: 5460.60/5000.00 | L30: 20922.90/20000.00 | M30: 达标
B31: 发放项 | C31: 金额 | D31: 说明 | E31: 结转余额
B32: 当月 | C32: ='8月奖金发放记录'!J46 -> 260 | D32: 奖励基准×考核天数/对应月天数
B33: 本月合计 | C33: =SUMIFS('8月奖金发放记录'!$J$2:$J$171,'8月奖金发放记录'!$B$2:$B$171,"董剑煜",'8月奖金发放记录'!$A$2:$A$171,"粤AGP3659") -> 260 | D33: 已计入个人汇总 | E33: 上期0期，本期剩余0期
A35: 粤AGP3695 | B35: 羚牛136辆4.5T冷链车 | C35: 260 | D35: - | E35: - | F35: 2798.10/4193.55 | G35: 5708.20/5000.00 | H35: 7668.67/5000.00 | I35: 7809.00/5000.00 | J35: 7867.10/5000.00 | K35: 4549.90/3709.68 | L35: 36400.97/27903.23 | M35: 达标
B36: 发放项 | C36: 金额 | D36: 说明 | E36: 结转余额
B37: 当月 | C37: ='8月奖金发放记录'!J47 -> 192.9 | D37: 奖励基准×考核天数/对应月天数
B38: 本月合计 | C38: =SUMIFS('8月奖金发放记录'!$J$2:$J$171,'8月奖金发放记录'!$B$2:$B$171,"董剑煜",'8月奖金发放记录'!$A$2:$A$171,"粤AGP3695") -> 192.9 | D38: 已计入个人汇总 | E38: 上期0期，本期剩余0期
A40: 粤AGP4355 | B40: 羚牛136辆4.5T冷链车 | C40: 260 | D40: - | E40: - | F40: 2764.20/2419.35 | G40: 5991.70/5000.00 | H40: 7306.99/5000.00 | I40: 6847.40/5000.00 | J40: 4602.20/5000.00 | K40: 65.50/161.29 | L40: 27577.99/22580.64 | M40: 达标
B41: 发放项 | C41: 金额 | D41: 说明 | E41: 结转余额
B42: 累计补发8月 | C42: ='8月奖金发放记录'!J167 -> 8.39 | D42: 奖励基准×考核天数/对应月天数
B43: 本月合计 | C43: =SUMIFS('8月奖金发放记录'!$J$2:$J$171,'8月奖金发放记录'!$B$2:$B$171,"董剑煜",'8月奖金发放记录'!$A$2:$A$171,"粤AGP4355") -> 8.39 | D43: 已计入个人汇总 | E43: 上期0期，本期剩余0期
A45: 粤AGP4522 | B45: 羚牛136辆4.5T冷链车 | C45: 260 | D45: - | E45: - | F45: 1102.10/2419.35 | G45: 10672.70/5000.00 | H45: 6882.24/5000.00 | I45: 7444.30/5000.00 | J45: 7331.80/5000.00 | K45: 1672.90/1935.48 | L45: 35106.04/24354.83 | M45: 达标
B46: 发放项 | C46: 金额 | D46: 说明 | E46: 结转余额
B47: 结转 | C47: ='8月奖金发放记录'!J123 -> 260 | D47: 整月结转，不与当月奖励重复
B48: 本月合计 | C48: =SUMIFS('8月奖金发放记录'!$J$2:$J$171,'8月奖金发放记录'!$B$2:$B$171,"董剑煜",'8月奖金发放记录'!$A$2:$A$171,"粤AGP4522") -> 260 | D48: 已计入个人汇总 | E48: 上期1期，本期剩余0期
A50: 粤AGP5379 | B50: 羚牛136辆4.5T冷链车 | C50: 260 | D50: - | E50: - | F50: - | G50: - | H50: - | I50: 3226.80/3666.67 | J50: 2888.00/5000.00 | K50: 3369.90/5000.00 | L50: 9484.70/13666.67 | M50: 未达标
B51: 发放项 | C51: 金额 | D51: 说明 | E51: 结转余额
B52: 本月不发 | C52: 0 | D52: 未满足本月奖励、结转或补发条件
B53: 本月合计 | C53: =SUMIFS('8月奖金发放记录'!$J$2:$J$171,'8月奖金发放记录'!$B$2:$B$171,"董剑煜",'8月奖金发放记录'!$A$2:$A$171,"粤AGP5379") -> 0 | D53: 已计入个人汇总 | E53: 上期0期，本期剩余0期
A55: 粤AGP8633 | B55: 交投190辆4.5T冷链车 | C55: 150 | D55: - | E55: - | F55: 268.40/1354.84 | G55: 5494.10/3000.00 | H55: 4679.80/3000.00 | I55: 673.50/3000.00 | J55: 5564.50/3000.00 | K55: 162.80/2225.81 | L55: 16843.10/15580.65 | M55: 达标
B56: 发放项 | C56: 金额 | D56: 说明 | E56: 结转余额
B57: 累计补发8月 | C57: ='8月奖金发放记录'!J168 -> 111.29 | D57: 奖励基准×考核天数/对应月天数
B58: 本月合计 | C58: =SUMIFS('8月奖金发放记录'!$J$2:$J$171,'8月奖金发放记录'!$B$2:$B$171,"董剑煜",'8月奖金发放记录'!$A$2:$A$171,"粤AGP8633") -> 111.29 | D58: 已计入个人汇总 | E58: 上期0期，本期剩余0期
A60: 粤AGP9785 | B60: 交投190辆4.5T冷链车 | C60: 150 | D60: - | E60: - | F60: 3835.50/1838.71 | G60: 3623.00/3000.00 | H60: 10970.70/3000.00 | I60: 10492.50/3000.00 | J60: 0.20/3000.00 | K60: 301.90/2032.26 | L60: 29223.80/15870.97 | M60: 达标
B61: 发放项 | C61: 金额 | D61: 说明 | E61: 结转余额
B62: 结转 | C62: ='8月奖金发放记录'!J124 -> 150 | D62: 整月结转，不与当月奖励重复
B63: 本月合计 | C63: =SUMIFS('8月奖金发放记录'!$J$2:$J$171,'8月奖金发放记录'!$B$2:$B$171,"董剑煜",'8月奖金发放记录'!$A$2:$A$171,"粤AGP9785") -> 150 | D63: 已计入个人汇总 | E63: 上期3期，本期剩余1期
A65: 粤AGP9786 | B65: 交投190辆4.5T冷链车 | C65: 150 | D65: - | E65: - | F65: 4398.60/2129.03 | G65: 10278.90/3000.00 | H65: 12633.10/3000.00 | I65: 13593.10/3000.00 | J65: 166.80/1451.61 | K65: 0.00/3000.00 | L65: 41070.50/15580.64 | M65: 未达标
B66: 发放项 | C66: 金额 | D66: 说明 | E66: 结转余额
B67: 结转 | C67: ='8月奖金发放记录'!J137 -> 150 | D67: 历史结转，本月无考核记录
B68: 本月合计 | C68: =SUMIFS('8月奖金发放记录'!$J$2:$J$171,'8月奖金发放记录'!$B$2:$B$171,"董剑煜",'8月奖金发放记录'!$A$2:$A$171,"粤AGP9786") -> 150 | D68: 已计入个人汇总 | E68: 上期6期，本期剩余5期
A70: 粤AGP9819 | B70: 交投190辆4.5T冷链车 | C70: 150 | D70: - | E70: - | F70: - | G70: - | H70: - | I70: - | J70: 717.40/290.32 | K70: 2202.90/2032.26 | L70: 2920.30/2322.58 | M70: 达标
B71: 发放项 | C71: 金额 | D71: 说明 | E71: 结转余额
B72: 当月 | C72: ='8月奖金发放记录'!J48 -> 101.61 | D72: 奖励基准×考核天数/对应月天数
B73: 本月合计 | C73: =SUMIFS('8月奖金发放记录'!$J$2:$J$171,'8月奖金发放记录'!$B$2:$B$171,"董剑煜",'8月奖金发放记录'!$A$2:$A$171,"粤AGP9819") -> 101.61 | D73: 已计入个人汇总 | E73: 上期0期，本期剩余0期
A75: 粤AGR0288 | B75: 交投190辆4.5T冷链车 | C75: 150 | D75: - | E75: - | F75: 423.60/1354.84 | G75: 3051.90/3000.00 | H75: 1303.10/3000.00 | I75: 1350.30/3000.00 | J75: 1173.20/3000.00 | K75: 42.10/96.77 | L75: 7344.20/13451.61 | M75: 未达标
B76: 发放项 | C76: 金额 | D76: 说明 | E76: 结转余额
B77: 本月不发 | C77: 0 | D77: 未满足本月奖励、结转或补发条件
B78: 本月合计 | C78: =SUMIFS('8月奖金发放记录'!$J$2:$J$171,'8月奖金发放记录'!$B$2:$B$171,"董剑煜",'8月奖金发放记录'!$A$2:$A$171,"粤AGR0288") -> 0 | D78: 已计入个人汇总 | E78: 上期0期，本期剩余0期
A80: 粤AGR2833 | B80: 交投190辆4.5T冷链车 | C80: 150 | D80: - | E80: 46.00/107.14 | F80: 6684.20/3000.00 | G80: 7497.50/3000.00 | H80: 7569.90/3000.00 | I80: 9986.20/3000.00 | J80: 7529.20/3000.00 | K80: 5162.60/2129.03 | L80: 44475.60/17236.17 | M80: 达标
B81: 发放项 | C81: 金额 | D81: 说明 | E81: 结转余额
B82: 结转 | C82: ='8月奖金发放记录'!J125 -> 150 | D82: 整月结转，不与当月奖励重复
B83: 本月合计 | C83: =SUMIFS('8月奖金发放记录'!$J$2:$J$171,'8月奖金发放记录'!$B$2:$B$171,"董剑煜",'8月奖金发放记录'!$A$2:$A$171,"粤AGR2833") -> 150 | D83: 已计入个人汇总 | E83: 上期4期，本期剩余4期
A85: 粤AGR5288 | B85: 交投190辆4.5T冷链车 | C85: 150 | D85: - | E85: - | F85: 1588.40/870.97 | G85: 5782.90/3000.00 | H85: 5722.20/3000.00 | I85: 5710.00/3000.00 | J85: 5183.20/3000.00 | K85: 58.30/483.87 | L85: 24045.00/13354.84 | M85: 达标
B86: 发放项 | C86: 金额 | D86: 说明 | E86: 结转余额
B87: 累计补发8月 | C87: ='8月奖金发放记录'!J169 -> 24.19 | D87: 奖励基准×考核天数/对应月天数
B88: 本月合计 | C88: =SUMIFS('8月奖金发放记录'!$J$2:$J$171,'8月奖金发放记录'!$B$2:$B$171,"董剑煜",'8月奖金发放记录'!$A$2:$A$171,"粤AGR5288") -> 24.19 | D88: 已计入个人汇总 | E88: 上期0期，本期剩余0期
A90: 粤AGR5532 | B90: 交投190辆4.5T冷链车 | C90: 150 | D90: - | E90: - | F90: 648.80/1354.84 | G90: 4488.80/3000.00 | H90: 5104.90/3000.00 | I90: 186.80/3000.00 | J90: 3508.00/3000.00 | K90: 6101.20/2225.81 | L90: 20038.50/15580.65 | M90: 达标
B91: 发放项 | C91: 金额 | D91: 说明 | E91: 结转余额
B92: 当月 | C92: ='8月奖金发放记录'!J49 -> 111.29 | D92: 奖励基准×考核天数/对应月天数
B93: 本月合计 | C93: =SUMIFS('8月奖金发放记录'!$J$2:$J$171,'8月奖金发放记录'!$B$2:$B$171,"董剑煜",'8月奖金发放记录'!$A$2:$A$171,"粤AGR5532") -> 111.29 | D93: 已计入个人汇总 | E93: 上期0期，本期剩余0期
A95: 粤AGR5535 | B95: 交投190辆4.5T冷链车 | C95: 150 | D95: - | E95: - | F95: 3448.60/2806.45 | G95: 693.50/3000.00 | H95: 11825.90/3000.00 | I95: 6371.00/3000.00 | J95: 0.00/3000.00 | K95: 0.00/3000.00 | L95: 22339.00/17806.45 | M95: 达标
B96: 发放项 | C96: 金额 | D96: 说明 | E96: 结转余额
B97: 累计补发8月 | C97: ='8月奖金发放记录'!J170 -> 150 | D97: 奖励基准×考核天数/对应月天数
B98: 本月合计 | C98: =SUMIFS('8月奖金发放记录'!$J$2:$J$171,'8月奖金发放记录'!$B$2:$B$171,"董剑煜",'8月奖金发放记录'!$A$2:$A$171,"粤AGR5535") -> 150 | D98: 已计入个人汇总 | E98: 上期0期，本期剩余0期
A100: 粤AGR6828 | B100: 交投190辆4.5T冷链车 | C100: 150 | D100: - | E100: - | F100: 3142.60/1161.29 | G100: 3873.10/3000.00 | H100: 7579.80/3000.00 | I100: 8498.30/3000.00 | J100: 8367.00/3000.00 | K100: 3961.30/1645.16 | L100: 35422.10/14806.45 | M100: 达标
B101: 发放项 | C101: 金额 | D101: 说明 | E101: 结转余额
B102: 结转 | C102: ='8月奖金发放记录'!J126 -> 150 | D102: 整月结转，不与当月奖励重复
B103: 本月合计 | C103: =SUMIFS('8月奖金发放记录'!$J$2:$J$171,'8月奖金发放记录'!$B$2:$B$171,"董剑煜",'8月奖金发放记录'!$A$2:$A$171,"粤AGR6828") -> 150 | D103: 已计入个人汇总 | E103: 上期4期，本期剩余3期
A105: 粤AGR6863 | B105: 交投190辆4.5T冷链车 | C105: 150 | D105: 2221.90/1161.29 | E105: 6759.50/3000.00 | F105: 5642.10/3000.00 | G105: 7092.50/3000.00 | H105: 5427.50/3000.00 | I105: 6164.10/3000.00 | J105: 4514.30/2225.81 | K105: 0.00/3000.00 | L105: 37821.90/21387.10 | M105: 未达标
B106: 发放项 | C106: 金额 | D106: 说明 | E106: 结转余额
B107: 结转 | C107: ='8月奖金发放记录'!J138 -> 150 | D107: 历史结转，本月无考核记录
B108: 本月合计 | C108: =SUMIFS('8月奖金发放记录'!$J$2:$J$171,'8月奖金发放记录'!$B$2:$B$171,"董剑煜",'8月奖金发放记录'!$A$2:$A$171,"粤AGR6863") -> 150 | D108: 已计入个人汇总 | E108: 上期1期，本期剩余0期
A110: 粤AGR6869 | B110: 交投190辆4.5T冷链车 | C110: 150 | D110: - | E110: - | F110: - | G110: - | H110: 4960.10/2225.81 | I110: 11388.90/3000.00 | J110: 10026.30/3000.00 | K110: 9312.60/3000.00 | L110: 35687.90/11225.81 | M110: 达标
B111: 发放项 | C111: 金额 | D111: 说明 | E111: 结转余额
B112: 结转 | C112: ='8月奖金发放记录'!J127 -> 150 | D112: 整月结转，不与当月奖励重复
B113: 本月合计 | C113: =SUMIFS('8月奖金发放记录'!$J$2:$J$171,'8月奖金发放记录'!$B$2:$B$171,"董剑煜",'8月奖金发放记录'!$A$2:$A$171,"粤AGR6869") -> 150 | D113: 已计入个人汇总 | E113: 上期5期，本期剩余6期
A115: 粤AGR6877 | B115: 交投190辆4.5T冷链车 | C115: 150 | D115: - | E115: - | F115: 3099.90/2612.90 | G115: 8132.20/3000.00 | H115: 15793.80/3000.00 | I115: 17005.50/3000.00 | J115: 153.00/2225.81 | K115: 0.00/3000.00 | L115: 44184.40/16838.71 | M115: 未达标
B116: 发放项 | C116: 金额 | D116: 说明 | E116: 结转余额
B117: 结转 | C117: ='8月奖金发放记录'!J139 -> 150 | D117: 历史结转，本月无考核记录
B118: 本月合计 | C118: =SUMIFS('8月奖金发放记录'!$J$2:$J$171,'8月奖金发放记录'!$B$2:$B$171,"董剑煜",'8月奖金发放记录'!$A$2:$A$171,"粤AGR6877") -> 150 | D118: 已计入个人汇总 | E118: 上期7期，本期剩余6期
A120: 粤AGR8500 | B120: 交投190辆4.5T冷链车 | C120: 150 | D120: - | E120: 46.00/107.14 | F120: 6752.70/3000.00 | G120: 6144.00/3000.00 | H120: 6259.30/3000.00 | I120: 5565.40/3000.00 | J120: 6214.00/3000.00 | K120: 4679.80/2225.81 | L120: 35661.20/17332.95 | M120: 达标
B121: 发放项 | C121: 金额 | D121: 说明 | E121: 结转余额
B122: 结转 | C122: ='8月奖金发放记录'!J128 -> 150 | D122: 整月结转，不与当月奖励重复
B123: 本月合计 | C123: =SUMIFS('8月奖金发放记录'!$J$2:$J$171,'8月奖金发放记录'!$B$2:$B$171,"董剑煜",'8月奖金发放记录'!$A$2:$A$171,"粤AGR8500") -> 150 | D123: 已计入个人汇总 | E123: 上期1期，本期剩余1期
A125: 合计 | C125: =H2 -> 3349.67

Sheet 二部-谯云
A1: 谯云 | 业务二部 | 8月绩效对账单
A2: 本月考核及结转车辆：18辆 | E2: 本月实发合计（元） | H2: =SUMIFS('8月奖金发放记录'!$J$2:$J$171,'8月奖金发放记录'!$B$2:$B$171,"谯云") -> 3350.01
A4: 车牌号 | B4: 考核目标 | C4: 月奖励 | D4: 1月里程/目标 | E4: 2月里程/目标 | F4: 3月里程/目标 | G4: 4月里程/目标 | H4: 5月里程/目标 | I4: 6月里程/目标 | J4: 7月里程/目标 | K4: 8月里程/目标 | L4: 累计里程/目标 | M4: 达标
A5: 粤AFF7936 | B5: 恒运50辆4.5T普货 | C5: 260 | D5: - | E5: - | F5: - | G5: 1624.50/4666.67 | H5: 6208.50/5000.00 | I5: 6638.80/5000.00 | J5: 7238.60/5000.00 | K5: 6384.10/5000.00 | L5: 28094.50/24666.67 | M5: 达标
B6: 发放项 | C6: 金额 | D6: 说明 | E6: 结转余额
B7: 当月 | C7: ='8月奖金发放记录'!J35 -> 260 | D7: 奖励基准×考核天数/对应月天数
B8: 本月合计 | C8: =SUMIFS('8月奖金发放记录'!$J$2:$J$171,'8月奖金发放记录'!$B$2:$B$171,"谯云",'8月奖金发放记录'!$A$2:$A$171,"粤AFF7936") -> 260 | D8: 已计入个人汇总 | E8: 上期0期，本期剩余0期
A10: 粤AFN0065 | B10: 恒运50辆4.5T普货 | C10: 260 | D10: - | E10: - | F10: - | G10: 1151.10/4000.00 | H10: 6081.70/5000.00 | I10: 6343.50/5000.00 | J10: 5923.20/5000.00 | K10: 6692.50/5000.00 | L10: 26192.00/24000.00 | M10: 达标
B11: 发放项 | C11: 金额 | D11: 说明 | E11: 结转余额
B12: 当月 | C12: ='8月奖金发放记录'!J36 -> 260 | D12: 奖励基准×考核天数/对应月天数
B13: 本月合计 | C13: =SUMIFS('8月奖金发放记录'!$J$2:$J$171,'8月奖金发放记录'!$B$2:$B$171,"谯云",'8月奖金发放记录'!$A$2:$A$171,"粤AFN0065") -> 260 | D13: 已计入个人汇总 | E13: 上期0期，本期剩余0期
A15: 粤AFQ8013 | B15: 恒运50辆4.5T普货 | C15: 260 | D15: - | E15: - | F15: - | G15: 1713.60/4500.00 | H15: 3564.70/5000.00 | I15: 5847.90/5000.00 | J15: 6068.30/5000.00 | K15: 5790.20/5000.00 | L15: 22984.70/24500.00 | M15: 未达标
B16: 发放项 | C16: 金额 | D16: 说明 | E16: 结转余额
