Workbook

Sheet 考核奖励规则
A1: 考核目标 | B1: 月度目标里程(km) | C1: 当月达标 | D1: 当月未达标 | E1: 结转 | F1: 补发/累计补发
A2: 交投40辆4.5T普货 | B2: 3000 | C2: 150元×天数折算 | D2: 不发 | E2: 150元整月 | F2: 150元×折算
A3: 交投190辆4.5T冷链车 | B3: 3000 | C3: 150元×天数折算 | D3: 不发 | E3: 150元整月 | F3: 150元×折算
A4: 羚牛136辆4.5T冷链车 | B4: 5000 | C4: 260元×天数折算 | D4: 不发 | E4: 260元整月 | F4: 260元×折算
A5: 恒运50辆4.5T普货 | B5: 5000 | C5: 260元×天数折算 | D5: 不发 | E5: 260元整月 | F5: 260元×折算
A6: 羚牛100辆18T | B6: 6000 | C6: 1000元×天数折算 | D6: 不发 | E6: 1000元整月 | F6: 1000元×折算
A9: 8月名单对应考核目标 | B9: 月目标不变 | C9: 名单当月奖励 | D9: 未达标 | E9: 名单结转 | F9: 8月补发基准
A10: 交投40辆4.5T普货 | B10: 3000 | C10: 150元×天数折算 | D10: 不发 | E10: 150元整月 | F10: 150元×折算
A11: 交投190辆4.5T冷链车 | B11: 3000 | C11: 150元×天数折算 | D11: 不发 | E11: 150元整月 | F11: 150元×折算
A12: 羚牛136辆4.5T冷链车 | B12: 5000 | C12: 300元×天数折算 | D12: 不发 | E12: 300元整月 | F12: 300元×折算
A13: 恒运50辆4.5T普货 | B13: 5000 | C13: 300元×天数折算 | D13: 不发 | E13: 300元整月 | F13: 300元×折算
A14: 羚牛100辆18T | B14: 6000 | C14: 150元×天数折算 | D14: 不发 | E14: 150元整月 | F14: 150元×折算

Sheet 里程明细8月
A1: 车牌号 | B1: 部门名称 | C1: 销售经理 | D1: 客户名称 | E1: 合同编号 | F1: 考核目标 | G1: 月度目标里程 | H1: 月奖励金额 | I1: 考核天数 | J1: 8月应考核里程 | K1: 8月实际行驶里程 | L1: 完成率 | M1: 8月是否达标 | N1: 8月奖金(天数折算) | O1: 多跑里程 | P1: 可结转月数 | Q1: 考核状态 | R1: 源表行 | S1: 取数方式 | T1: 新政策 | U1: 考核开始日期 | V1: 考核结束日期 | W1: 说明
A2: 粤A02699F | B2: 业务一部 | C2: 陈高伟 | D2: 杭州宏狼物流有限公司 | E2: LNZLHT 20260310001 | F2: 羚牛100辆18T | G2: 6000 | H2: 1000 | I2: 14 | J2: 2709.68 | K2: 457.7 | L2: 0.16891293 | M2: 未达标 | N2: =IF(K2>=J2,ROUND(H2*I2/31,2),0) -> 0 | O2: 0 | P2: 0 | Q2: 已完成 | R2: 2 | S2: 非测试日纯氢14天 | T2: 否 | U2: 46235 | V2: 46248
A3: 粤A06158F | B3: 业务一部 | C3: 陈高伟 | D3: 杭州宏狼物流有限公司 | E3: LNZLHT 20260310001 | F3: 羚牛100辆18T | G3: 6000 | H3: 1000 | I3: 14 | J3: 2709.68 | K3: 222.2 | L3: 0.082002303 | M3: 未达标 | N3: =IF(K3>=J3,ROUND(H3*I3/31,2),0) -> 0 | O3: 0 | P3: 0 | Q3: 已完成 | R3: 3 | S3: 非测试日纯氢14天 | T3: 否 | U3: 46235 | V3: 46248
A4: 粤A08681F | B4: 业务一部 | C4: 陈高伟 | D4: 杭州宏狼物流有限公司 | E4: LNZLHT 20260310001 | F4: 羚牛100辆18T | G4: 6000 | H4: 1000 | I4: 13 | J4: 2516.13 | K4: 173 | L4: 0.068756384 | M4: 未达标 | N4: =IF(K4>=J4,ROUND(H4*I4/31,2),0) -> 0 | O4: 0 | P4: 0 | Q4: 已完成 | R4: 4 | S4: 非测试日纯氢13天 | T4: 否 | U4: 46235 | V4: 46247
A5: 粤AG37790 | B5: 业务二部 | C5: 董剑煜 | D5: 扬州力骏物流有限公司 | E5: LNZLHT 20260421001 | F5: 恒运50辆4.5T普货 | G5: 5000 | H5: 260 | I5: 31 | J5: 5000 | K5: 5675.3 | L5: 1.13506 | M5: 达标 | N5: =IF(K5>=J5,ROUND(H5*I5/31,2),0) -> 260 | O5: 675.3 | P5: 0 | Q5: 进行中 | R5: 174 | S5: 非测试日仪表31天 | T5: 否 | U5: 46235 | V5: 46265
A6: 粤AG37862 | B6: 业务二部 | C6: 董剑煜 | D6: 扬州力骏物流有限公司 | E6: LNZLHT 20260421001 | F6: 恒运50辆4.5T普货 | G6: 5000 | H6: 260 | I6: 31 | J6: 5000 | K6: 5239.1 | L6: 1.04782 | M6: 达标 | N6: =IF(K6>=J6,ROUND(H6*I6/31,2),0) -> 260 | O6: 239.1 | P6: 0 | Q6: 进行中 | R6: 175 | S6: 非测试日仪表31天 | T6: 否 | U6: 46235 | V6: 46265
A7: 粤AGP3079 | B7: 业务二部 | C7: 董剑煜 | D7: 苏州睿幄物流有限公司 | E7: LNZLHT 20260430001 | F7: 羚牛136辆4.5T冷链车 | G7: 5000 | H7: 260 | I7: 31 | J7: 5000 | K7: 4024 | L7: 0.8048 | M7: 未达标 | N7: =IF(K7>=J7,ROUND(H7*I7/31,2),0) -> 0 | O7: 0 | P7: 0 | Q7: 进行中 | R7: 176 | S7: 非测试日纯氢31天 | T7: 否 | U7: 46235 | V7: 46265
A8: 粤AGP3080 | B8: 业务二部 | C8: 董剑煜 | D8: 无锡铭康物流有限公司-1 | E8: 20260316001 | F8: 交投190辆4.5T冷链车 | G8: 3000 | H8: 150 | I8: 31 | J8: 3000 | K8: 14823.4 | L8: 4.9411333 | M8: 达标 | N8: =IF(K8>=J8,ROUND(H8*I8/31,2),0) -> 150 | O8: 11823.4 | P8: 3 | Q8: 已完成 | R8: 177 | S8: 非测试日纯氢31天 | T8: 否 | U8: 46235 | V8: 46265
A9: 粤AGP3651 | B9: 业务二部 | C9: 董剑煜 | D9: 无锡铭康物流有限公司-1 | E9: 20260316001 | F9: 羚牛136辆4.5T冷链车 | G9: 5000 | H9: 260 | I9: 1 | J9: 161.29 | K9: 5.1 | L9: 0.031620063 | M9: 未达标 | N9: =IF(K9>=J9,ROUND(H9*I9/31,2),0) -> 0 | O9: 0 | P9: 0 | Q9: 已完成 | R9: 178 | S9: 非测试日纯氢1天 | T9: 否 | U9: 46235 | V9: 46235
A10: 粤AGP3659 | B10: 业务二部 | C10: 董剑煜 | D10: 苏州睿幄物流有限公司 | E10: LNZLHT 20260430001 | F10: 羚牛136辆4.5T冷链车 | G10: 5000 | H10: 260 | I10: 31 | J10: 5000 | K10: 5460.6 | L10: 1.09212 | M10: 达标 | N10: =IF(K10>=J10,ROUND(H10*I10/31,2),0) -> 260 | O10: 460.6 | P10: 0 | Q10: 进行中 | R10: 179 | S10: 非测试日纯氢31天 | T10: 否 | U10: 46235 | V10: 46265
A11: 粤AGP3695 | B11: 业务二部 | C11: 董剑煜 | D11: 无锡铭康物流有限公司-1 | E11: 20260316001 | F11: 羚牛136辆4.5T冷链车 | G11: 5000 | H11: 260 | I11: 23 | J11: 3709.68 | K11: 4549.9 | L11: 1.2264939 | M11: 达标 | N11: =IF(K11>=J11,ROUND(H11*I11/31,2),0) -> 192.9 | O11: 840.22 | P11: 0 | Q11: 已完成 | R11: 180 | S11: 非测试日纯氢23天 | T11: 否 | U11: 46235 | V11: 46257
A12: 粤AGP4355 | B12: 业务二部 | C12: 董剑煜 | D12: 无锡铭康物流有限公司-1 | E12: 20260316001 | F12: 羚牛136辆4.5T冷链车 | G12: 5000 | H12: 260 | I12: 1 | J12: 161.29 | K12: 65.5 | L12: 0.40610081 | M12: 未达标 | N12: =IF(K12>=J12,ROUND(H12*I12/31,2),0) -> 0 | O12: 0 | P12: 0 | Q12: 已完成 | R12: 181 | S12: 非测试日纯氢1天 | T12: 否 | U12: 46235 | V12: 46235
A13: 粤AGP4522 | B13: 业务二部 | C13: 董剑煜 | D13: 无锡铭康物流有限公司-1 | E13: 20260316001 | F13: 羚牛136辆4.5T冷链车 | G13: 5000 | H13: 260 | I13: 12 | J13: 1935.48 | K13: 1672.9 | L13: 0.8643334 | M13: 未达标 | N13: =IF(K13>=J13,ROUND(H13*I13/31,2),0) -> 0 | O13: 0 | P13: 0 | Q13: 已完成 | R13: 182 | S13: 非测试日纯氢12天 | T13: 否 | U13: 46235 | V13: 46246
... A86: 粤A09209F | B86: 业务二部 | C86: 刘念念 | D86: 嘉兴市京宝物流有限公司 | E86: LNZLHT 20260518001 | F86: 羚牛100辆18T | G86: 6000 | H86: 1000 | I86: 31 | J86: 6000 | K86: 191.1 | L86: 0.03185 | M86: 未达标 | N86: =IF(K86>=J86,ROUND(H86*I86/31,2),0) -> 0 | O86: 0 | P86: 0 | Q86: 进行中 | R86: 129 | S86: 非测试日纯氢31天 | T86: 否 | U86: 46235 | V86: 46265
A87: 粤AFH3525 | B87: 业务二部 | C87: 刘念念 | D87: 桐乡市丰韵快递有限责任公司 | E87: LNZLHT 20260104001 | F87: 恒运50辆4.5T普货 | G87: 5000 | H87: 260 | I87: 31 | J87: 5000 | K87: 1000.5 | L87: 0.2001 | M87: 未达标 | N87: =IF(K87>=J87,ROUND(H87*I87/31,2),0) -> 0 | O87: 0 | P87: 0 | Q87: 进行中 | R87: 130 | S87: 非测试日仪表28天；缺失3天 | T87: 否 | U87: 46235 | V87: 46265 | W87: 按新口径3天所需来源缺失，暂按已有记录累计
A88: 粤AFQ7882 | B88: 业务二部 | C88: 刘念念 | D88: 嘉兴港区韵达快递有限公司 | E88: LNZLHT 20260515001 | F88: 恒运50辆4.5T普货 | G88: 5000 | H88: 260 | I88: 31 | J88: 5000 | K88: 1471.2 | L88: 0.29424 | M88: 未达标 | N88: =IF(K88>=J88,ROUND(H88*I88/31,2),0) -> 0 | O88: 0 | P88: 0 | Q88: 进行中 | R88: 131 | S88: 非测试日仪表31天 | T88: 否 | U88: 46235 | V88: 46265
A89: 粤AG03213 | B89: 业务二部 | C89: 刘念念 | D89: 嘉兴港区众通快递有限公司 | E89: LNZLHT 20241205001 | F89: 恒运50辆4.5T普货 | G89: 5000 | H89: 260 | I89: 31 | J89: 5000 | K89: 1686.4 | L89: 0.33728 | M89: 未达标 | N89: =IF(K89>=J89,ROUND(H89*I89/31,2),0) -> 0 | O89: 0 | P89: 0 | Q89: 进行中 | R89: 132 | S89: 非测试日仪表31天 | T89: 否 | U89: 46235 | V89: 46265
A90: 粤AG15568 | B90: 业务二部 | C90: 刘念念 | D90: 嘉兴港区众通快递有限公司 | E90: LNZLHT 20251020002 | F90: 恒运50辆4.5T普货 | G90: 5000 | H90: 260 | I90: 31 | J90: 5000 | K90: 1383.6 | L90: 0.27672 | M90: 未达标 | N90: =IF(K90>=J90,ROUND(H90*I90/31,2),0) -> 0 | O90: 0 | P90: 0 | Q90: 进行中 | R90: 133 | S90: 非测试日仪表31天 | T90: 否 | U90: 46235 | V90: 46265
A91: 粤AGP3078 | B91: 业务二部 | C91: 刘念念 | D91: 浙江洋开供应链管理有限公司 | E91: 20251215001 | F91: 羚牛136辆4.5T冷链车 | G91: 5000 | H91: 260 | I91: 28 | J91: 4516.13 | K91: 7195.2 | L91: 1.5932225 | M91: 达标 | N91: =IF(K91>=J91,ROUND(H91*I91/31,2),0) -> 234.84 | O91: 2679.07 | P91: 0 | Q91: 已完成 | R91: 134 | S91: 非测试日纯氢28天 | T91: 否 | U91: 46235 | V91: 46262
A92: 粤AGP3508 | B92: 业务二部 | C92: 刘念念 | D92: 浙江洋开供应链管理有限公司 | E92: 20250815001 | F92: 交投190辆4.5T冷链车 | G92: 3000 | H92: 150 | I92: 23 | J92: 2225.81 | K92: 6707.3 | L92: 3.0134198 | M92: 达标 | N92: =IF(K92>=J92,ROUND(H92*I92/31,2),0) -> 111.29 | O92: 4481.49 | P92: 1 | Q92: 已完成 | R92: 135 | S92: 非测试日纯氢23天 | T92: 否 | U92: 46235 | V92: 46257
A93: 粤AGP3607 | B93: 业务二部 | C93: 刘念念 | D93: 浙江洋开供应链管理有限公司 | E93: 20251215001 | F93: 羚牛136辆4.5T冷链车 | G93: 5000 | H93: 260 | I93: 28 | J93: 4516.13 | K93: 8835.7 | L93: 1.956476 | M93: 达标 | N93: =IF(K93>=J93,ROUND(H93*I93/31,2),0) -> 234.84 | O93: 4319.57 | P93: 0 | Q93: 已完成 | R93: 136 | S93: 非测试日纯氢28天 | T93: 否 | U93: 46235 | V93: 46262
A94: 粤AGP3609 | B94: 业务二部 | C94: 刘念念 | D94: 嘉兴吉时物流有限公司 | E94: LNZLHT 20260305002 | F94: 羚牛136辆4.5T冷链车 | G94: 5000 | H94: 260 | I94: 31 | J94: 5000 | K94: 4531.5 | L94: 0.9063 | M94: 未达标 | N94: =IF(K94>=J94,ROUND(H94*I94/31,2),0) -> 0 | O94: 0 | P94: 0 | Q94: 已完成 | R94: 137 | S94: 非测试日纯氢31天 | T94: 否 | U94: 46235 | V94: 46265
A95: 粤AGP3690 | B95: 业务二部 | C95: 刘念念 | D95: 嘉兴港区韵达快递有限公司 | E95: LNZLHT 20251209001 | F95: 羚牛136辆4.5T冷链车 | G95: 5000 | H95: 260 | I95: 31 | J95: 5000 | K95: 349.5 | L95: 0.0699 | M95: 未达标 | N95: =IF(K95>=J95,ROUND(H95*I95/31,2),0) -> 0 | O95: 0 | P95: 0 | Q95: 进行中 | R95: 138 | S95: 非测试日纯氢31天 | T95: 否 | U95: 46235 | V95: 46265
A96: 粤AGP4335 | B96: 业务二部 | C96: 刘念念 | D96: 嘉兴坤鑫物流有限公司 | E96: LNZLHT 20260305001 | F96: 羚牛136辆4.5T冷链车 | G96: 5000 | H96: 260 | I96: 31 | J96: 5000 | K96: 5080 | L96: 1.016 | M96: 达标 | N96: =IF(K96>=J96,ROUND(H96*I96/31,2),0) -> 260 | O96: 80 | P96: 0 | Q96: 进行中 | R96: 139 | S96: 非测试日纯氢31天 | T96: 否 | U96: 46235 | V96: 46265
A97: 粤AGP4597 | B97: 业务二部 | C97: 刘念念 | D97: 桐乡市丰韵快递有限责任公司 | E97: LNZLHT 20260104001 | F97: 羚牛136辆4.5T冷链车 | G97: 5000 | H97: 260 | I97: 31 | J97: 5000 | K97: 1952.8 | L97: 0.39056 | M97: 未达标 | N97: =IF(K97>=J97,ROUND(H97*I97/31,2),0) -> 0 | O97: 0 | P97: 0 | Q97: 进行中 | R97: 140 | S97: 非测试日纯氢31天 | T97: 否 | U97: 46235 | V97: 46265
A98: 粤AGP4623 | B98: 业务二部 | C98: 刘念念 | D98: 嘉兴港区众通快递有限公司 | E98: LNZLHT 20260703001 | F98: 羚牛136辆4.5T冷链车 | G98: 5000 | H98: 260 | I98: 31 | J98: 5000 | K98: 1767.9 | L98: 0.35358 | M98: 未达标 | N98: =IF(K98>=J98,ROUND(H98*I98/31,2),0) -> 0 | O98: 0 | P98: 0 | Q98: 进行中 | R98: 141 | S98: 非测试日纯氢31天 | T98: 否 | U98: 46235 | V98: 46265
A99: 粤AGP5378 | B99: 业务二部 | C99: 刘念念 | D99: 浙江洋开供应链管理有限公司 | E99: 20250815001 | F99: 交投190辆4.5T冷链车 | G99: 3000 | H99: 150 | I99: 21 | J99: 2032.26 | K99: 1013.8 | L99: 0.49885349 | M99: 未达标 | N99: =IF(K99>=J99,ROUND(H99*I99/31,2),0) -> 0 | O99: 0 | P99: 0 | Q99: 已完成 | R99: 142 | S99: 非测试日纯氢21天 | T99: 否 | U99: 46235 | V99: 46255
... A108: 粤AGR8506 | B108: 业务二部 | C108: 刘念念 | D108: 浙江洋开供应链管理有限公司 | E108: 20250815001 | F108: 交投190辆4.5T冷链车 | G108: 3000 | H108: 150 | I108: 17 | J108: 1645.16 | K108: 1197.7 | L108: 0.7280143 | M108: 未达标 | N108: =IF(K108>=J108,ROUND(H108*I108/31,2),0) -> 0 | O108: 0 | P108: 0 | Q108: 已完成 | R108: 151 | S108: 非测试日纯氢17天 | T108: 否 | U108: 46235 | V108: 46251
A109: 粤AFF7936 | B109: 业务二部 | C109: 谯云 | D109: 上海明纳物流有限公司 | E109: 20251127001 | F109: 恒运50辆4.5T普货 | G109: 5000 | H109: 260 | I109: 31 | J109: 5000 | K109: 6384.1 | L109: 1.27682 | M109: 达标 | N109: =IF(K109>=J109,ROUND(H109*I109/31,2),0) -> 260 | O109: 1384.1 | P109: 0 | Q109: 已完成 | R109: 152 | S109: 非测试日仪表30天；缺失1天 | T109: 否 | U109: 46235 | V109: 46265 | W109: 按新口径1天所需来源缺失，暂按已有记录累计
A110: 粤AFN0065 | B110: 业务二部 | C110: 谯云 | D110: 上海明纳物流有限公司 | E110: 20251127001 | F110: 恒运50辆4.5T普货 | G110: 5000 | H110: 260 | I110: 31 | J110: 5000 | K110: 6692.5 | L110: 1.3385 | M110: 达标 | N110: =IF(K110>=J110,ROUND(H110*I110/31,2),0) -> 260 | O110: 1692.5 | P110: 0 | Q110: 已完成 | R110: 153 | S110: 非测试日仪表31天 | T110: 否 | U110: 46235 | V110: 46265
A111: 粤AFQ8013 | B111: 业务二部 | C111: 谯云 | D111: 上海明纳物流有限公司 | E111: 20251127001 | F111: 恒运50辆4.5T普货 | G111: 5000 | H111: 260 | I111: 31 | J111: 5000 | K111: 5790.2 | L111: 1.15804 | M111: 达标 | N111: =IF(K111>=J111,ROUND(H111*I111/31,2),0) -> 260 | O111: 790.2 | P111: 0 | Q111: 已完成 | R111: 154 | S111: 非测试日仪表31天 | T111: 否 | U111: 46235 | V111: 46265
A112: 粤AG18312 | B112: 业务二部 | C112: 谯云 | D112: 上海明纳物流有限公司 | E112: 20251127001 | F112: 恒运50辆4.5T普货 | G112: 5000 | H112: 260 | I112: 18 | J112: 2903.23 | K112: 2488.1 | L112: 0.85701098 | M112: 未达标 | N112: =IF(K112>=J112,ROUND(H112*I112/31,2),0) -> 0 | O112: 0 | P112: 0 | Q112: 已完成 | R112: 155 | S112: 测试日GPS5天；非测试日仪表12天；测试名单无纯氢GPS1天 | T112: 否 | U112: 46235 | V112: 46252
A113: 粤AGP3038 | B113: 业务二部 | C113: 谯云 | D113: 无锡双庙运输有限公司 | E113: LNZLHT 20251217001 | F113: 交投190辆4.5T冷链车 | G113: 3000 | H113: 150 | I113: 31 | J113: 3000 | K113: 10036.7 | L113: 3.3455667 | M113: 达标 | N113: =IF(K113>=J113,ROUND(H113*I113/31,2),0) -> 150 | O113: 7036.7 | P113: 2 | Q113: 进行中 | R113: 156 | S113: 非测试日纯氢31天 | T113: 否 | U113: 46235 | V113: 46265
A114: 粤AGP3506 | B114: 业务二部 | C114: 谯云 | D114: 上海明纳物流有限公司 | E114: 20251127001 | F114: 羚牛136辆4.5T冷链车 | G114: 5000 | H114: 260 | I114: 19 | J114: 3064.52 | K114: 9796.2 | L114: 3.1966507 | M114: 达标 | N114: =IF(K114>=J114,ROUND(H114*I114/31,2),0) -> 159.35 | O114: 6731.68 | P114: 1 | Q114: 已完成 | R114: 157 | S114: 非测试日纯氢19天 | T114: 否 | U114: 46235 | V114: 46253
A115: 粤AGP5159 | B115: 业务二部 | C115: 谯云 | D115: 无锡双庙运输有限公司 | E115: LNZLHT 20251217001 | F115: 交投190辆4.5T冷链车 | G115: 3000 | H115: 150 | I115: 31 | J115: 3000 | K115: 4684.6 | L115: 1.5615333 | M115: 达标 | N115: =IF(K115>=J115,ROUND(H115*I115/31,2),0) -> 150 | O115: 1684.6 | P115: 0 | Q115: 进行中 | R115: 158 | S115: 非测试日纯氢31天 | T115: 否 | U115: 46235 | V115: 46265
A116: 粤AGP5760 | B116: 业务二部 | C116: 谯云 | D116: 上海明纳物流有限公司 | E116: 20251127001 | F116: 羚牛136辆4.5T冷链车 | G116: 5000 | H116: 260 | I116: 17 | J116: 2741.94 | K116: 88.8 | L116: 0.032385829 | M116: 未达标 | N116: =IF(K116>=J116,ROUND(H116*I116/31,2),0) -> 0 | O116: 0 | P116: 0 | Q116: 已完成 | R116: 159 | S116: 非测试日纯氢17天 | T116: 否 | U116: 46235 | V116: 46251
A117: 粤AGP7047 | B117: 业务二部 | C117: 谯云 | D117: 上海明纳物流有限公司 | E117: 20251127001 | F117: 羚牛136辆4.5T冷链车 | G117: 5000 | H117: 260 | I117: 31 | J117: 5000 | K117: 5238.6 | L117: 1.04772 | M117: 达标 | N117: =IF(K117>=J117,ROUND(H117*I117/31,2),0) -> 260 | O117: 238.6 | P117: 0 | Q117: 已完成 | R117: 160 | S117: 非测试日纯氢31天 | T117: 否 | U117: 46235 | V117: 46265
A118: 粤AGP9337 | B118: 业务二部 | C118: 谯云 | D118: 无锡双庙运输有限公司 | E118: LNZLHT 20251217001 | F118: 交投190辆4.5T冷链车 | G118: 3000 | H118: 150 | I118: 31 | J118: 3000 | K118: 0 | L118: 0 | M118: 未达标 | N118: =IF(K118>=J118,ROUND(H118*I118/31,2),0) -> 0 | O118: 0 | P118: 0 | Q118: 进行中 | R118: 161 | S118: 非测试日纯氢31天 | T118: 否 | U118: 46235 | V118: 46265
A119: 粤AGP9707 | B119: 业务二部 | C119: 谯云 | D119: 上海明纳物流有限公司 | E119: 20251127001 | F119: 羚牛136辆4.5T冷链车 | G119: 5000 | H119: 260 | I119: 19 | J119: 3064.52 | K119: 8197 | L119: 2.6748071 | M119: 达标 | N119: =IF(K119>=J119,ROUND(H119*I119/31,2),0) -> 159.35 | O119: 5132.48 | P119: 1 | Q119: 已完成 | R119: 162 | S119: 测试日GPS4天；非测试日纯氢15天 | T119: 否 | U119: 46235 | V119: 46253
A120: 粤AGP9753 | B120: 业务二部 | C120: 谯云 | D120: 吴凡建 | E120: LNZLHT20260806-01-11 | F120: 羚牛136辆4.5T冷链车 | G120: 5000 | H120: 300 | I120: 24 | J120: 3870.97 | K120: 5948 | L120: 1.5365658 | M120: 达标 | N120: =IF(K120>=J120,ROUND(H120*I120/31,2),0) -> 232.26 | O120: 2077.03 | P120: 0 | Q120: 进行中 | R120: 163 | S120: 非测试日纯氢24天 | T120: 是 | U120: 46242 | V120: 46265 | W120: 8月7日计前段，本段从8月8日起
...

Sheet 8月计算过程
A1: 车牌号 | B1: 销售经理 | C1: 部门 | D1: 8月记录数 | E1: 8月总天数 | F1: 8月应考核 | G1: 8月实际 | H1: 8月有达标 | I1: 8月奖金 | J1: 累计应考核 | K1: 累计实际 | L1: 累计达标 | M1: 可结转 | N1: 结转发放 | O1: 补发1月 | P1: 补发2月 | Q1: 补发3月 | R1: 补发4月 | S1: 补发5月 | T1: 补发6月 | U1: 补发7月 | V1: 当月奖金 | W1: 累计补发8月 | X1: 8月发放合计 | Y1: 无本月考核记录
A2: 粤AGP5613 | B2: 何文斌 | C2: 业务一部 | D2: 1 | E2: 1 | F2: 161.29 | G2: 213.3 | H2: 是 | I2: 9.6774194 | J2: 2903.23 | K2: 3747.9 | L2: 达标 | M2: 0 | N2: =SUMIFS('8月奖金发放记录'!$J$2:$J$171,'8月奖金发放记录'!$B$2:$B$171,B2,'8月奖金发放记录'!$E$2:$E$171,"结转",'8月奖金发放记录'!$A$2:$A$171,A2) -> 0 | O2: =SUMIFS('8月奖金发放记录'!$J$2:$J$171,'8月奖金发放记录'!$B$2:$B$171,B2,'8月奖金发放记录'!$E$2:$E$171,"补发1月",'8月奖金发放记录'!$A$2:$A$171,A2) -> 0 | P2: =SUMIFS('8月奖金发放记录'!$J$2:$J$171,'8月奖金发放记录'!$B$2:$B$171,B2,'8月奖金发放记录'!$E$2:$E$171,"补发2月",'8月奖金发放记录'!$A$2:$A$171,A2) -> 0 | Q2: =SUMIFS('8月奖金发放记录'!$J$2:$J$171,'8月奖金发放记录'!$B$2:$B$171,B2,'8月奖金发放记录'!$E$2:$E$171,"补发3月",'8月奖金发放记录'!$A$2:$A$171,A2) -> 0 | R2: =SUMIFS('8月奖金发放记录'!$J$2:$J$171,'8月奖金发放记录'!$B$2:$B$171,B2,'8月奖金发放记录'!$E$2:$E$171,"补发4月",'8月奖金发放记录'!$A$2:$A$171,A2) -> 0 | S2: =SUMIFS('8月奖金发放记录'!$J$2:$J$171,'8月奖金发放记录'!$B$2:$B$171,B2,'8月奖金发放记录'!$E$2:$E$171,"补发5月",'8月奖金发放记录'!$A$2:$A$171,A2) -> 0 | T2: =SUMIFS('8月奖金发放记录'!$J$2:$J$171,'8月奖金发放记录'!$B$2:$B$171,B2,'8月奖金发放记录'!$E$2:$E$171,"补发6月",'8月奖金发放记录'!$A$2:$A$171,A2) -> 0 | U2: =SUMIFS('8月奖金发放记录'!$J$2:$J$171,'8月奖金发放记录'!$B$2:$B$171,B2,'8月奖金发放记录'!$E$2:$E$171,"补发7月",'8月奖金发放记录'!$A$2:$A$171,A2) -> 0 | V2: =SUMIFS('8月奖金发放记录'!$J$2:$J$171,'8月奖金发放记录'!$B$2:$B$171,B2,'8月奖金发放记录'!$E$2:$E$171,"当月",'8月奖金发放记录'!$A$2:$A$171,A2) -> 0 | W2: =SUMIFS('8月奖金发放记录'!$J$2:$J$171,'8月奖金发放记录'!$B$2:$B$171,B2,'8月奖金发放记录'!$E$2:$E$171,"累计补发8月",'8月奖金发放记录'!$A$2:$A$171,A2) -> 0 | X2: =SUM(N2:W2) -> 0 | Y2: 否
A3: 粤AGP9351 | B3: 何文斌 | C3: 业务一部 | D3: 1 | E3: 1 | F3: 161.29 | G3: 123 | H3: 否 | I3: 0 | J3: 2903.23 | K3: 2554 | L3: 未达标 | M3: 0 | N3: =SUMIFS('8月奖金发放记录'!$J$2:$J$171,'8月奖金发放记录'!$B$2:$B$171,B3,'8月奖金发放记录'!$E$2:$E$171,"结转",'8月奖金发放记录'!$A$2:$A$171,A3) -> 0 | O3: =SUMIFS('8月奖金发放记录'!$J$2:$J$171,'8月奖金发放记录'!$B$2:$B$171,B3,'8月奖金发放记录'!$E$2:$E$171,"补发1月",'8月奖金发放记录'!$A$2:$A$171,A3) -> 0 | P3: =SUMIFS('8月奖金发放记录'!$J$2:$J$171,'8月奖金发放记录'!$B$2:$B$171,B3,'8月奖金发放记录'!$E$2:$E$171,"补发2月",'8月奖金发放记录'!$A$2:$A$171,A3) -> 0 | Q3: =SUMIFS('8月奖金发放记录'!$J$2:$J$171,'8月奖金发放记录'!$B$2:$B$171,B3,'8月奖金发放记录'!$E$2:$E$171,"补发3月",'8月奖金发放记录'!$A$2:$A$171,A3) -> 0 | R3: =SUMIFS('8月奖金发放记录'!$J$2:$J$171,'8月奖金发放记录'!$B$2:$B$171,B3,'8月奖金发放记录'!$E$2:$E$171,"补发4月",'8月奖金发放记录'!$A$2:$A$171,A3) -> 0 | S3: =SUMIFS('8月奖金发放记录'!$J$2:$J$171,'8月奖金发放记录'!$B$2:$B$171,B3,'8月奖金发放记录'!$E$2:$E$171,"补发5月",'8月奖金发放记录'!$A$2:$A$171,A3) -> 0 | T3: =SUMIFS('8月奖金发放记录'!$J$2:$J$171,'8月奖金发放记录'!$B$2:$B$171,B3,'8月奖金发放记录'!$E$2:$E$171,"补发6月",'8月奖金发放记录'!$A$2:$A$171,A3) -> 0 | U3: =SUMIFS('8月奖金发放记录'!$J$2:$J$171,'8月奖金发放记录'!$B$2:$B$171,B3,'8月奖金发放记录'!$E$2:$E$171,"补发7月",'8月奖金发放记录'!$A$2:$A$171,A3) -> 0 | V3: =SUMIFS('8月奖金发放记录'!$J$2:$J$171,'8月奖金发放记录'!$B$2:$B$171,B3,'8月奖金发放记录'!$E$2:$E$171,"当月",'8月奖金发放记录'!$A$2:$A$171,A3) -> 0 | W3: =SUMIFS('8月奖金发放记录'!$J$2:$J$171,'8月奖金发放记录'!$B$2:$B$171,B3,'8月奖金发放记录'!$E$2:$E$171,"累计补发8月",'8月奖金发放记录'!$A$2:$A$171,A3) -> 0 | X3: =SUM(N3:W3) -> 0 | Y3: 否
A4: 粤AGP9773 | B4: 何文斌 | C4: 业务一部 | D4: 1 | E4: 16 | F4: 1548.39 | G4: 594.8 | H4: 否 | I4: 0 | J4: 1548.39 | K4: 594.8 | L4: 未达标 | M4: 0 | N4: =SUMIFS('8月奖金发放记录'!$J$2:$J$171,'8月奖金发放记录'!$B$2:$B$171,B4,'8月奖金发放记录'!$E$2:$E$171,"结转",'8月奖金发放记录'!$A$2:$A$171,A4) -> 0 | O4: =SUMIFS('8月奖金发放记录'!$J$2:$J$171,'8月奖金发放记录'!$B$2:$B$171,B4,'8月奖金发放记录'!$E$2:$E$171,"补发1月",'8月奖金发放记录'!$A$2:$A$171,A4) -> 0 | P4: =SUMIFS('8月奖金发放记录'!$J$2:$J$171,'8月奖金发放记录'!$B$2:$B$171,B4,'8月奖金发放记录'!$E$2:$E$171,"补发2月",'8月奖金发放记录'!$A$2:$A$171,A4) -> 0 | Q4: =SUMIFS('8月奖金发放记录'!$J$2:$J$171,'8月奖金发放记录'!$B$2:$B$171,B4,'8月奖金发放记录'!$E$2:$E$171,"补发3月",'8月奖金发放记录'!$A$2:$A$171,A4) -> 0 | R4: =SUMIFS('8月奖金发放记录'!$J$2:$J$171,'8月奖金发放记录'!$B$2:$B$171,B4,'8月奖金发放记录'!$E$2:$E$171,"补发4月",'8月奖金发放记录'!$A$2:$A$171,A4) -> 0 | S4: =SUMIFS('8月奖金发放记录'!$J$2:$J$171,'8月奖金发放记录'!$B$2:$B$171,B4,'8月奖金发放记录'!$E$2:$E$171,"补发5月",'8月奖金发放记录'!$A$2:$A$171,A4) -> 0 | T4: =SUMIFS('8月奖金发放记录'!$J$2:$J$171,'8月奖金发放记录'!$B$2:$B$171,B4,'8月奖金发放记录'!$E$2:$E$171,"补发6月",'8月奖金发放记录'!$A$2:$A$171,A4) -> 0 | U4: =SUMIFS('8月奖金发放记录'!$J$2:$J$171,'8月奖金发放记录'!$B$2:$B$171,B4,'8月奖金发放记录'!$E$2:$E$171,"补发7月",'8月奖金发放记录'!$A$2:$A$171,A4) -> 0 | V4: =SUMIFS('8月奖金发放记录'!$J$2:$J$171,'8月奖金发放记录'!$B$2:$B$171,B4,'8月奖金发放记录'!$E$2:$E$171,"当月",'8月奖金发放记录'!$A$2:$A$171,A4) -> 0 | W4: =SUMIFS('8月奖金发放记录'!$J$2:$J$171,'8月奖金发放记录'!$B$2:$B$171,B4,'8月奖金发放记录'!$E$2:$E$171,"累计补发8月",'8月奖金发放记录'!$A$2:$A$171,A4) -> 0 | X4: =SUM(N4:W4) -> 0 | Y4: 否
A5: 粤A00116F | B5: 刘念念 | C5: 业务二部 | D5: 1 | E5: 31 | F5: 6000 | G5: 161.2 | H5: 否 | I5: 0 | J5: 47225.81 | K5: 22556.7 | L5: 未达标 | M5: 0 | N5: =SUMIFS('8月奖金发放记录'!$J$2:$J$171,'8月奖金发放记录'!$B$2:$B$171,B5,'8月奖金发放记录'!$E$2:$E$171,"结转",'8月奖金发放记录'!$A$2:$A$171,A5) -> 0 | O5: =SUMIFS('8月奖金发放记录'!$J$2:$J$171,'8月奖金发放记录'!$B$2:$B$171,B5,'8月奖金发放记录'!$E$2:$E$171,"补发1月",'8月奖金发放记录'!$A$2:$A$171,A5) -> 0 | P5: =SUMIFS('8月奖金发放记录'!$J$2:$J$171,'8月奖金发放记录'!$B$2:$B$171,B5,'8月奖金发放记录'!$E$2:$E$171,"补发2月",'8月奖金发放记录'!$A$2:$A$171,A5) -> 0 | Q5: =SUMIFS('8月奖金发放记录'!$J$2:$J$171,'8月奖金发放记录'!$B$2:$B$171,B5,'8月奖金发放记录'!$E$2:$E$171,"补发3月",'8月奖金发放记录'!$A$2:$A$171,A5) -> 0 | R5: =SUMIFS('8月奖金发放记录'!$J$2:$J$171,'8月奖金发放记录'!$B$2:$B$171,B5,'8月奖金发放记录'!$E$2:$E$171,"补发4月",'8月奖金发放记录'!$A$2:$A$171,A5) -> 0 | S5: =SUMIFS('8月奖金发放记录'!$J$2:$J$171,'8月奖金发放记录'!$B$2:$B$171,B5,'8月奖金发放记录'!$E$2:$E$171,"补发5月",'8月奖金发放记录'!$A$2:$A$171,A5) -> 0 | T5: =SUMIFS('8月奖金发放记录'!$J$2:$J$171,'8月奖金发放记录'!$B$2:$B$171,B5,'8月奖金发放记录'!$E$2:$E$171,"补发6月",'8月奖金发放记录'!$A$2:$A$171,A5) -> 0 | U5: =SUMIFS('8月奖金发放记录'!$J$2:$J$171,'8月奖金发放记录'!$B$2:$B$171,B5,'8月奖金发放记录'!$E$2:$E$171,"补发7月",'8月奖金发放记录'!$A$2:$A$171,A5) -> 0 | V5: =SUMIFS('8月奖金发放记录'!$J$2:$J$171,'8月奖金发放记录'!$B$2:$B$171,B5,'8月奖金发放记录'!$E$2:$E$171,"当月",'8月奖金发放记录'!$A$2:$A$171,A5) -> 0 | W5: =SUMIFS('8月奖金发放记录'!$J$2:$J$171,'8月奖金发放记录'!$B$2:$B$171,B5,'8月奖金发放记录'!$E$2:$E$171,"累计补发8月",'8月奖金发放记录'!$A$2:$A$171,A5) -> 0 | X5: =SUM(N5:W5) -> 0 | Y5: 否
A6: 粤A00828F | B6: 刘念念 | C6: 业务二部 | D6: 1 | E6: 31 | F6: 6000 | G6: 1474.5 | H6: 否 | I6: 0 | J6: 31161.29 | K6: 39434.7 | L6: 达标 | M6: 0 | N6: =SUMIFS('8月奖金发放记录'!$J$2:$J$171,'8月奖金发放记录'!$B$2:$B$171,B6,'8月奖金发放记录'!$E$2:$E$171,"结转",'8月奖金发放记录'!$A$2:$A$171,A6) -> 0 | O6: =SUMIFS('8月奖金发放记录'!$J$2:$J$171,'8月奖金发放记录'!$B$2:$B$171,B6,'8月奖金发放记录'!$E$2:$E$171,"补发1月",'8月奖金发放记录'!$A$2:$A$171,A6) -> 0 | P6: =SUMIFS('8月奖金发放记录'!$J$2:$J$171,'8月奖金发放记录'!$B$2:$B$171,B6,'8月奖金发放记录'!$E$2:$E$171,"补发2月",'8月奖金发放记录'!$A$2:$A$171,A6) -> 0 | Q6: =SUMIFS('8月奖金发放记录'!$J$2:$J$171,'8月奖金发放记录'!$B$2:$B$171,B6,'8月奖金发放记录'!$E$2:$E$171,"补发3月",'8月奖金发放记录'!$A$2:$A$171,A6) -> 0 | R6: =SUMIFS('8月奖金发放记录'!$J$2:$J$171,'8月奖金发放记录'!$B$2:$B$171,B6,'8月奖金发放记录'!$E$2:$E$171,"补发4月",'8月奖金发放记录'!$A$2:$A$171,A6) -> 0 | S6: =SUMIFS('8月奖金发放记录'!$J$2:$J$171,'8月奖金发放记录'!$B$2:$B$171,B6,'8月奖金发放记录'!$E$2:$E$171,"补发5月",'8月奖金发放记录'!$A$2:$A$171,A6) -> 0 | T6: =SUMIFS('8月奖金发放记录'!$J$2:$J$171,'8月奖金发放记录'!$B$2:$B$171,B6,'8月奖金发放记录'!$E$2:$E$171,"补发6月",'8月奖金发放记录'!$A$2:$A$171,A6) -> 0 | U6: =SUMIFS('8月奖金发放记录'!$J$2:$J$171,'8月奖金发放记录'!$B$2:$B$171,B6,'8月奖金发放记录'!$E$2:$E$171,"补发7月",'8月奖金发放记录'!$A$2:$A$171,A6) -> 0 | V6: =SUMIFS('8月奖金发放记录'!$J$2:$J$171,'8月奖金发放记录'!$B$2:$B$171,B6,'8月奖金发放记录'!$E$2:$E$171,"当月",'8月奖金发放记录'!$A$2:$A$171,A6) -> 0 | W6: =SUMIFS('8月奖金发放记录'!$J$2:$J$171,'8月奖金发放记录'!$B$2:$B$171,B6,'8月奖金发放记录'!$E$2:$E$171,"累计补发8月",'8月奖金发放记录'!$A$2:$A$171,A6) -> 1000 | X6: =SUM(N6:W6) -> 1000 | Y6: 否
A7: 粤A01013F | B7: 刘念念 | C7: 业务二部 | D7: 1 | E7: 31 | F7: 6000 | G7: 553.2 | H7: 否 | I7: 0 | J7: 45290.31 | K7: 44202.4 | L7: 未达标 | M7: 0 | N7: =SUMIFS('8月奖金发放记录'!$J$2:$J$171,'8月奖金发放记录'!$B$2:$B$171,B7,'8月奖金发放记录'!$E$2:$E$171,"结转",'8月奖金发放记录'!$A$2:$A$171,A7) -> 0 | O7: =SUMIFS('8月奖金发放记录'!$J$2:$J$171,'8月奖金发放记录'!$B$2:$B$171,B7,'8月奖金发放记录'!$E$2:$E$171,"补发1月",'8月奖金发放记录'!$A$2:$A$171,A7) -> 0 | P7: =SUMIFS('8月奖金发放记录'!$J$2:$J$171,'8月奖金发放记录'!$B$2:$B$171,B7,'8月奖金发放记录'!$E$2:$E$171,"补发2月",'8月奖金发放记录'!$A$2:$A$171,A7) -> 0 | Q7: =SUMIFS('8月奖金发放记录'!$J$2:$J$171,'8月奖金发放记录'!$B$2:$B$171,B7,'8月奖金发放记录'!$E$2:$E$171,"补发3月",'8月奖金发放记录'!$A$2:$A$171,A7) -> 0 | R7: =SUMIFS('8月奖金发放记录'!$J$2:$J$171,'8月奖金发放记录'!$B$2:$B$171,B7,'8月奖金发放记录'!$E$2:$E$171,"补发4月",'8月奖金发放记录'!$A$2:$A$171,A7) -> 0 | S7: =SUMIFS('8月奖金发放记录'!$J$2:$J$171,'8月奖金发放记录'!$B$2:$B$171,B7,'8月奖金发放记录'!$E$2:$E$171,"补发5月",'8月奖金发放记录'!$A$2:$A$171,A7) -> 0 | T7: =SUMIFS('8月奖金发放记录'!$J$2:$J$171,'8月奖金发放记录'!$B$2:$B$171,B7,'8月奖金发放记录'!$E$2:$E$171,"补发6月",'8月奖金发放记录'!$A$2:$A$171,A7) -> 0 | U7: =SUMIFS('8月奖金发放记录'!$J$2:$J$171,'8月奖金发放记录'!$B$2:$B$171,B7,'8月奖金发放记录'!$E$2:$E$171,"补发7月",'8月奖金发放记录'!$A$2:$A$171,A7) -> 0 | V7: =SUMIFS('8月奖金发放记录'!$J$2:$J$171,'8月奖金发放记录'!$B$2:$B$171,B7,'8月奖金发放记录'!$E$2:$E$171,"当月",'8月奖金发放记录'!$A$2:$A$171,A7) -> 0 | W7: =SUMIFS('8月奖金发放记录'!$J$2:$J$171,'8月奖金发放记录'!$B$2:$B$171,B7,'8月奖金发放记录'!$E$2:$E$171,"累计补发8月",'8月奖金发放记录'!$A$2:$A$171,A7) -> 0 | X7: =SUM(N7:W7) -> 0 | Y7: 否
A8: 粤A01505F | B8: 刘念念 | C8: 业务二部 | D8: 1 | E8: 31 | F8: 6000 | G8: 5960.1 | H8: 否 | I8: 0 | J8: 24600 | K8: 19920.1 | L8: 未达标 | M8: 0 | N8: =SUMIFS('8月奖金发放记录'!$J$2:$J$171,'8月奖金发放记录'!$B$2:$B$171,B8,'8月奖金发放记录'!$E$2:$E$171,"结转",'8月奖金发放记录'!$A$2:$A$171,A8) -> 0 | O8: =SUMIFS('8月奖金发放记录'!$J$2:$J$171,'8月奖金发放记录'!$B$2:$B$171,B8,'8月奖金发放记录'!$E$2:$E$171,"补发1月",'8月奖金发放记录'!$A$2:$A$171,A8) -> 0 | P8: =SUMIFS('8月奖金发放记录'!$J$2:$J$171,'8月奖金发放记录'!$B$2:$B$171,B8,'8月奖金发放记录'!$E$2:$E$171,"补发2月",'8月奖金发放记录'!$A$2:$A$171,A8) -> 0 | Q8: =SUMIFS('8月奖金发放记录'!$J$2:$J$171,'8月奖金发放记录'!$B$2:$B$171,B8,'8月奖金发放记录'!$E$2:$E$171,"补发3月",'8月奖金发放记录'!$A$2:$A$171,A8) -> 0 | R8: =SUMIFS('8月奖金发放记录'!$J$2:$J$171,'8月奖金发放记录'!$B$2:$B$171,B8,'8月奖金发放记录'!$E$2:$E$171,"补发4月",'8月奖金发放记录'!$A$2:$A$171,A8) -> 0 | S8: =SUMIFS('8月奖金发放记录'!$J$2:$J$171,'8月奖金发放记录'!$B$2:$B$171,B8,'8月奖金发放记录'!$E$2:$E$171,"补发5月",'8月奖金发放记录'!$A$2:$A$171,A8) -> 0 | T8: =SUMIFS('8月奖金发放记录'!$J$2:$J$171,'8月奖金发放记录'!$B$2:$B$171,B8,'8月奖金发放记录'!$E$2:$E$171,"补发6月",'8月奖金发放记录'!$A$2:$A$171,A8) -> 0 | U8: =SUMIFS('8月奖金发放记录'!$J$2:$J$171,'8月奖金发放记录'!$B$2:$B$171,B8,'8月奖金发放记录'!$E$2:$E$171,"补发7月",'8月奖金发放记录'!$A$2:$A$171,A8) -> 0 | V8: =SUMIFS('8月奖金发放记录'!$J$2:$J$171,'8月奖金发放记录'!$B$2:$B$171,B8,'8月奖金发放记录'!$E$2:$E$171,"当月",'8月奖金发放记录'!$A$2:$A$171,A8) -> 0 | W8: =SUMIFS('8月奖金发放记录'!$J$2:$J$171,'8月奖金发放记录'!$B$2:$B$171,B8,'8月奖金发放记录'!$E$2:$E$171,"累计补发8月",'8月奖金发放记录'!$A$2:$A$171,A8) -> 0 | X8: =SUM(N8:W8) -> 0 | Y8: 否
A9: 粤A01506F | B9: 刘念念 | C9: 业务二部 | D9: 1 | E9: 31 | F9: 6000 | G9: 6000.5 | H9: 是 | I9: 1000 | J9: 41357.14 | K9: 34833.4 | L9: 未达标 | M9: 0 | N9: =SUMIFS('8月奖金发放记录'!$J$2:$J$171,'8月奖金发放记录'!$B$2:$B$171,B9,'8月奖金发放记录'!$E$2:$E$171,"结转",'8月奖金发放记录'!$A$2:$A$171,A9) -> 0 | O9: =SUMIFS('8月奖金发放记录'!$J$2:$J$171,'8月奖金发放记录'!$B$2:$B$171,B9,'8月奖金发放记录'!$E$2:$E$171,"补发1月",'8月奖金发放记录'!$A$2:$A$171,A9) -> 0 | P9: =SUMIFS('8月奖金发放记录'!$J$2:$J$171,'8月奖金发放记录'!$B$2:$B$171,B9,'8月奖金发放记录'!$E$2:$E$171,"补发2月",'8月奖金发放记录'!$A$2:$A$171,A9) -> 0 | Q9: =SUMIFS('8月奖金发放记录'!$J$2:$J$171,'8月奖金发放记录'!$B$2:$B$171,B9,'8月奖金发放记录'!$E$2:$E$171,"补发3月",'8月奖金发放记录'!$A$2:$A$171,A9) -> 0 | R9: =SUMIFS('8月奖金发放记录'!$J$2:$J$171,'8月奖金发放记录'!$B$2:$B$171,B9,'8月奖金发放记录'!$E$2:$E$171,"补发4月",'8月奖金发放记录'!$A$2:$A$171,A9) -> 0 | S9: =SUMIFS('8月奖金发放记录'!$J$2:$J$171,'8月奖金发放记录'!$B$2:$B$171,B9,'8月奖金发放记录'!$E$2:$E$171,"补发5月",'8月奖金发放记录'!$A$2:$A$171,A9) -> 0 | T9: =SUMIFS('8月奖金发放记录'!$J$2:$J$171,'8月奖金发放记录'!$B$2:$B$171,B9,'8月奖金发放记录'!$E$2:$E$171,"补发6月",'8月奖金发放记录'!$A$2:$A$171,A9) -> 0 | U9: =SUMIFS('8月奖金发放记录'!$J$2:$J$171,'8月奖金发放记录'!$B$2:$B$171,B9,'8月奖金发放记录'!$E$2:$E$171,"补发7月",'8月奖金发放记录'!$A$2:$A$171,A9) -> 0 | V9: =SUMIFS('8月奖金发放记录'!$J$2:$J$171,'8月奖金发放记录'!$B$2:$B$171,B9,'8月奖金发放记录'!$E$2:$E$171,"当月",'8月奖金发放记录'!$A$2:$A$171,A9) -> 1000 | W9: =SUMIFS('8月奖金发放记录'!$J$2:$J$171,'8月奖金发放记录'!$B$2:$B$171,B9,'8月奖金发放记录'!$E$2:$E$171,"累计补发8月",'8月奖金发放记录'!$A$2:$A$171,A9) -> 0 | X9: =SUM(N9:W9) -> 1000 | Y9: 否
A10: 粤A02007F | B10: 刘念念 | C10: 业务二部 | D10: 1 | E10: 31 | F10: 6000 | G10: 311.6 | H10: 否 | I10: 0 | J10: 47419.35 | K10: 34436.9 | L10: 未达标 | M10: 0 | N10: =SUMIFS('8月奖金发放记录'!$J$2:$J$171,'8月奖金发放记录'!$B$2:$B$171,B10,'8月奖金发放记录'!$E$2:$E$171,"结转",'8月奖金发放记录'!$A$2:$A$171,A10) -> 0 | O10: =SUMIFS('8月奖金发放记录'!$J$2:$J$171,'8月奖金发放记录'!$B$2:$B$171,B10,'8月奖金发放记录'!$E$2:$E$171,"补发1月",'8月奖金发放记录'!$A$2:$A$171,A10) -> 0 | P10: =SUMIFS('8月奖金发放记录'!$J$2:$J$171,'8月奖金发放记录'!$B$2:$B$171,B10,'8月奖金发放记录'!$E$2:$E$171,"补发2月",'8月奖金发放记录'!$A$2:$A$171,A10) -> 0 | Q10: =SUMIFS('8月奖金发放记录'!$J$2:$J$171,'8月奖金发放记录'!$B$2:$B$171,B10,'8月奖金发放记录'!$E$2:$E$171,"补发3月",'8月奖金发放记录'!$A$2:$A$171,A10) -> 0 | R10: =SUMIFS('8月奖金发放记录'!$J$2:$J$171,'8月奖金发放记录'!$B$2:$B$171,B10,'8月奖金发放记录'!$E$2:$E$171,"补发4月",'8月奖金发放记录'!$A$2:$A$171,A10) -> 0 | S10: =SUMIFS('8月奖金发放记录'!$J$2:$J$171,'8月奖金发放记录'!$B$2:$B$171,B10,'8月奖金发放记录'!$E$2:$E$171,"补发5月",'8月奖金发放记录'!$A$2:$A$171,A10) -> 0 | T10: =SUMIFS('8月奖金发放记录'!$J$2:$J$171,'8月奖金发放记录'!$B$2:$B$171,B10,'8月奖金发放记录'!$E$2:$E$171,"补发6月",'8月奖金发放记录'!$A$2:$A$171,A10) -> 0 | U10: =SUMIFS('8月奖金发放记录'!$J$2:$J$171,'8月奖金发放记录'!$B$2:$B$171,B10,'8月奖金发放记录'!$E$2:$E$171,"补发7月",'8月奖金发放记录'!$A$2:$A$171,A10) -> 0 | V10: =SUMIFS('8月奖金发放记录'!$J$2:$J$171,'8月奖金发放记录'!$B$2:$B$171,B10,'8月奖金发放记录'!$E$2:$E$171,"当月",'8月奖金发放记录'!$A$2:$A$171,A10) -> 0 | W10: =SUMIFS('8月奖金发放记录'!$J$2:$J$171,'8月奖金发放记录'!$B$2:$B$171,B10,'8月奖金发放记录'!$E$2:$E$171,"累计补发8月",'8月奖金发放记录'!$A$2:$A$171,A10) -> 0 | X10: =SUM(N10:W10) -> 0 | Y10: 否
A11: 粤A02058F | B11: 刘念念 | C11: 业务二部 | D11: 1 | E11: 31 | F11: 6000 | G11: 658 | H11: 否 | I11: 0 | J11: 20516.13 | K11: 5595.6 | L11: 未达标 | M11: 0 | N11: =SUMIFS('8月奖金发放记录'!$J$2:$J$171,'8月奖金发放记录'!$B$2:$B$171,B11,'8月奖金发放记录'!$E$2:$E$171,"结转",'8月奖金发放记录'!$A$2:$A$171,A11) -> 0 | O11: =SUMIFS('8月奖金发放记录'!$J$2:$J$171,'8月奖金发放记录'!$B$2:$B$171,B11,'8月奖金发放记录'!$E$2:$E$171,"补发1月",'8月奖金发放记录'!$A$2:$A$171,A11) -> 0 | P11: =SUMIFS('8月奖金发放记录'!$J$2:$J$171,'8月奖金发放记录'!$B$2:$B$171,B11,'8月奖金发放记录'!$E$2:$E$171,"补发2月",'8月奖金发放记录'!$A$2:$A$171,A11) -> 0 | Q11: =SUMIFS('8月奖金发放记录'!$J$2:$J$171,'8月奖金发放记录'!$B$2:$B$171,B11,'8月奖金发放记录'!$E$2:$E$171,"补发3月",'8月奖金发放记录'!$A$2:$A$171,A11) -> 0 | R11: =SUMIFS('8月奖金发放记录'!$J$2:$J$171,'8月奖金发放记录'!$B$2:$B$171,B11,'8月奖金发放记录'!$E$2:$E$171,"补发4月",'8月奖金发放记录'!$A$2:$A$171,A11) -> 0 | S11: =SUMIFS('8月奖金发放记录'!$J$2:$J$171,'8月奖金发放记录'!$B$2:$B$171,B11,'8月奖金发放记录'!$E$2:$E$171,"补发5月",'8月奖金发放记录'!$A$2:$A$171,A11) -> 0 | T11: =SUMIFS('8月奖金发放记录'!$J$2:$J$171,'8月奖金发放记录'!$B$2:$B$171,B11,'8月奖金发放记录'!$E$2:$E$171,"补发6月",'8月奖金发放记录'!$A$2:$A$171,A11) -> 0 | U11: =SUMIFS('8月奖金发放记录'!$J$2:$J$171,'8月奖金发放记录'!$B$2:$B$171,B11,'8月奖金发放记录'!$E$2:$E$171,"补发7月",'8月奖金发放记录'!$A$2:$A$171,A11) -> 0 | V11: =SUMIFS('8月奖金发放记录'!$J$2:$J$171,'8月奖金发放记录'!$B$2:$B$171,B11,'8月奖金发放记录'!$E$2:$E$171,"当月",'8月奖金发放记录'!$A$2:$A$171,A11) -> 0 | W11: =SUMIFS('8月奖金发放记录'!$J$2:$J$171,'8月奖金发放记录'!$B$2:$B$171,B11,'8月奖金发放记录'!$E$2:$E$171,"累计补发8月",'8月奖金发放记录'!$A$2:$A$171,A11) -> 0 | X11: =SUM(N11:W11) -> 0 | Y11: 否
A12: 粤A02298F | B12: 刘念念 | C12: 业务二部 | D12: 1 | E12: 31 | F12: 6000 | G12: 1072.7 | H12: 否 | I12: 0 | J12: 46838.71 | K12: 41450.7 | L12: 未达标 | M12: 0 | N12: =SUMIFS('8月奖金发放记录'!$J$2:$J$171,'8月奖金发放记录'!$B$2:$B$171,B12,'8月奖金发放记录'!$E$2:$E$171,"结转",'8月奖金发放记录'!$A$2:$A$171,A12) -> 0 | O12: =SUMIFS('8月奖金发放记录'!$J$2:$J$171,'8月奖金发放记录'!$B$2:$B$171,B12,'8月奖金发放记录'!$E$2:$E$171,"补发1月",'8月奖金发放记录'!$A$2:$A$171,A12) -> 0 | P12: =SUMIFS('8月奖金发放记录'!$J$2:$J$171,'8月奖金发放记录'!$B$2:$B$171,B12,'8月奖金发放记录'!$E$2:$E$171,"补发2月",'8月奖金发放记录'!$A$2:$A$171,A12) -> 0 | Q12: =SUMIFS('8月奖金发放记录'!$J$2:$J$171,'8月奖金发放记录'!$B$2:$B$171,B12,'8月奖金发放记录'!$E$2:$E$171,"补发3月",'8月奖金发放记录'!$A$2:$A$171,A12) -> 0 | R12: =SUMIFS('8月奖金发放记录'!$J$2:$J$171,'8月奖金发放记录'!$B$2:$B$171,B12,'8月奖金发放记录'!$E$2:$E$171,"补发4月",'8月奖金发放记录'!$A$2:$A$171,A12) -> 0 | S12: =SUMIFS('8月奖金发放记录'!$J$2:$J$171,'8月奖金发放记录'!$B$2:$B$171,B12,'8月奖金发放记录'!$E$2:$E$171,"补发5月",'8月奖金发放记录'!$A$2:$A$171,A12) -> 0 | T12: =SUMIFS('8月奖金发放记录'!$J$2:$J$171,'8月奖金发放记录'!$B$2:$B$171,B12,'8月奖金发放记录'!$E$2:$E$171,"补发6月",'8月奖金发放记录'!$A$2:$A$171,A12) -> 0 | U12: =SUMIFS('8月奖金发放记录'!$J$2:$J$171,'8月奖金发放记录'!$B$2:$B$171,B12,'8月奖金发放记录'!$E$2:$E$171,"补发7月",'8月奖金发放记录'!$A$2:$A$171,A12) -> 0 | V12: =SUMIFS('8月奖金发放记录'!$J$2:$J$171,'8月奖金发放记录'!$B$2:$B$171,B12,'8月奖金发放记录'!$E$2:$E$171,"当月",'8月奖金发放记录'!$A$2:$A$171,A12) -> 0 | W12: =SUMIFS('8月奖金发放记录'!$J$2:$J$171,'8月奖金发放记录'!$B$2:$B$171,B12,'8月奖金发放记录'!$E$2:$E$171,"累计补发8月",'8月奖金发放记录'!$A$2:$A$171,A12) -> 0 | X12: =SUM(N12:W12) -> 0 | Y12: 否
A13: 粤A03350F | B13: 刘念念 | C13: 业务二部 | D13: 1 | E13: 31 | F13: 6000 | G13: 756.9 | H13: 否 | I13: 0 | J13: 44709.68 | K13: 32139.5 | L13: 未达标 | M13: 0 | N13: =SUMIFS('8月奖金发放记录'!$J$2:$J$171,'8月奖金发放记录'!$B$2:$B$171,B13,'8月奖金发放记录'!$E$2:$E$171,"结转",'8月奖金发放记录'!$A$2:$A$171,A13) -> 0 | O13: =SUMIFS('8月奖金发放记录'!$J$2:$J$171,'8月奖金发放记录'!$B$2:$B$171,B13,'8月奖金发放记录'!$E$2:$E$171,"补发1月",'8月奖金发放记录'!$A$2:$A$171,A13) -> 0 | P13: =SUMIFS('8月奖金发放记录'!$J$2:$J$171,'8月奖金发放记录'!$B$2:$B$171,B13,'8月奖金发放记录'!$E$2:$E$171,"补发2月",'8月奖金发放记录'!$A$2:$A$171,A13) -> 0 | Q13: =SUMIFS('8月奖金发放记录'!$J$2:$J$171,'8月奖金发放记录'!$B$2:$B$171,B13,'8月奖金发放记录'!$E$2:$E$171,"补发3月",'8月奖金发放记录'!$A$2:$A$171,A13) -> 0 | R13: =SUMIFS('8月奖金发放记录'!$J$2:$J$171,'8月奖金发放记录'!$B$2:$B$171,B13,'8月奖金发放记录'!$E$2:$E$171,"补发4月",'8月奖金发放记录'!$A$2:$A$171,A13) -> 0 | S13: =SUMIFS('8月奖金发放记录'!$J$2:$J$171,'8月奖金发放记录'!$B$2:$B$171,B13,'8月奖金发放记录'!$E$2:$E$171,"补发5月",'8月奖金发放记录'!$A$2:$A$171,A13) -> 0 | T13: =SUMIFS('8月奖金发放记录'!$J$2:$J$171,'8月奖金发放记录'!$B$2:$B$171,B13,'8月奖金发放记录'!$E$2:$E$171,"补发6月",'8月奖金发放记录'!$A$2:$A$171,A13) -> 0 | U13: =SUMIFS('8月奖金发放记录'!$J$2:$J$171,'8月奖金发放记录'!$B$2:$B$171,B13,'8月奖金发放记录'!$E$2:$E$171,"补发7月",'8月奖金发放记录'!$A$2:$A$171,A13) -> 0 | V13: =SUMIFS('8月奖金发放记录'!$J$2:$J$171,'8月奖金发放记录'!$B$2:$B$171,B13,'8月奖金发放记录'!$E$2:$E$171,"当月",'8月奖金发放记录'!$A$2:$A$171,A13) -> 0 | W13: =SUMIFS('8月奖金发放记录'!$J$2:$J$171,'8月奖金发放记录'!$B$2:$B$171,B13,'8月奖金发放记录'!$E$2:$E$171,"累计补发8月",'8月奖金发放记录'!$A$2:$A$171,A13) -> 0 | X13: =SUM(N13:W13) -> 0 | Y13: 否
... A361: 粤A08681F | B361: 陈高伟 | C361: 业务一部 | D361: 1 | E361: 13 | F361: 2516.13 | G361: 173 | H361: 否 | I361: 0 | J361: 4838.71 | K361: 623.4 | L361: 未达标 | M361: 0 | N361: =SUMIFS('8月奖金发放记录'!$J$2:$J$171,'8月奖金发放记录'!$B$2:$B$171,B361,'8月奖金发放记录'!$E$2:$E$171,"结转",'8月奖金发放记录'!$A$2:$A$171,A361) -> 0 | O361: =SUMIFS('8月奖金发放记录'!$J$2:$J$171,'8月奖金发放记录'!$B$2:$B$171,B361,'8月奖金发放记录'!$E$2:$E$171,"补发1月",'8月奖金发放记录'!$A$2:$A$171,A361) -> 0 | P361: =SUMIFS('8月奖金发放记录'!$J$2:$J$171,'8月奖金发放记录'!$B$2:$B$171,B361,'8月奖金发放记录'!$E$2:$E$171,"补发2月",'8月奖金发放记录'!$A$2:$A$171,A361) -> 0 | Q361: =SUMIFS('8月奖金发放记录'!$J$2:$J$171,'8月奖金发放记录'!$B$2:$B$171,B361,'8月奖金发放记录'!$E$2:$E$171,"补发3月",'8月奖金发放记录'!$A$2:$A$171,A361) -> 0 | R361: =SUMIFS('8月奖金发放记录'!$J$2:$J$171,'8月奖金发放记录'!$B$2:$B$171,B361,'8月奖金发放记录'!$E$2:$E$171,"补发4月",'8月奖金发放记录'!$A$2:$A$171,A361) -> 0 | S361: =SUMIFS('8月奖金发放记录'!$J$2:$J$171,'8月奖金发放记录'!$B$2:$B$171,B361,'8月奖金发放记录'!$E$2:$E$171,"补发5月",'8月奖金发放记录'!$A$2:$A$171,A361) -> 0 | T361: =SUMIFS('8月奖金发放记录'!$J$2:$J$171,'8月奖金发放记录'!$B$2:$B$171,B361,'8月奖金发放记录'!$E$2:$E$171,"补发6月",'8月奖金发放记录'!$A$2:$A$171,A361) -> 0 | U361: =SUMIFS('8月奖金发放记录'!$J$2:$J$171,'8月奖金发放记录'!$B$2:$B$171,B361,'8月奖金发放记录'!$E$2:$E$171,"补发7月",'8月奖金发放记录'!$A$2:$A$171,A361) -> 0 | V361: =SUMIFS('8月奖金发放记录'!$J$2:$J$171,'8月奖金发放记录'!$B$2:$B$171,B361,'8月奖金发放记录'!$E$2:$E$171,"当月",'8月奖金发放记录'!$A$2:$A$171,A361) -> 0 | W361: =SUMIFS('8月奖金发放记录'!$J$2:$J$171,'8月奖金发放记录'!$B$2:$B$171,B361,'8月奖金发放记录'!$E$2:$E$171,"累计补发8月",'8月奖金发放记录'!$A$2:$A$171,A361) -> 0 | X361: =SUM(N361:W361) -> 0 | Y361: 否

Sheet 车辆考核追踪
A1: 车牌号 | B1: 车架号 | C1: 归属公司 | D1: 车型 | E1: 考核目标 | F1: 月度奖励 | G1: 业务员 | H1: 1月应考核 | I1: 1月实际 | J1: 1月达标 | K1: 2月应考核 | L1: 2月实际 | M1: 2月达标 | N1: 3月应考核 | O1: 3月实际 | P1: 3月达标 | Q1: 4月应考核 | R1: 4月实际 | S1: 4月达标 | T1: 5月应考核 | U1: 5月实际 | V1: 5月达标 | W1: 6月应考核 | X1: 6月实际 | Y1: 6月达标 | Z1: 7月应考核 | AA1: 7月实际 | AB1: 7月达标 | AC1: 8月应考核 | AD1: 8月实际 | AE1: 8月达标 | AF1: 累计应完成 | AG1: 累计实际 | AH1: 累计达标 | AI1: 客户名称 | AJ1: 客户是否亏损 | AK1: 考核应发 | AL1: 最终发放 | AM1: 未发放原因 | AN1: 本月无考核记录
A2: 粤AGP5613 | B2: LB9A32A22R0LS1635 | C2: 羚牛氢能科技(广东)有限公司 | D2: 4.5吨冷链车 | E2: 羚牛136辆4.5T冷链车 | F2: 300 | G2: 何文斌 | Z2: 2741.94 | AA2: 3534.6 | AB2: ✓ | AC2: 161.29 | AD2: 213.3 | AE2: ✓ | AF2: 2903.23 | AG2: 3747.9 | AH2: ✓ | AI2: 广州智卡物流供应链有限公司 | AJ2: 暂不处理 | AK2: =SUMIFS('8月奖金发放记录'!$G$2:$G$171,'8月奖金发放记录'!$B$2:$B$171,G2,'8月奖金发放记录'!$A$2:$A$171,A2) -> 9.68 | AL2: =SUMIFS('8月奖金发放记录'!$J$2:$J$171,'8月奖金发放记录'!$B$2:$B$171,G2,'8月奖金发放记录'!$A$2:$A$171,A2) -> 0 | AM2: 未满足本月奖励、结转或补发条件 | AN2: 否
A3: 粤AGP9351 | B3: LB9A32A28R0LS1607 | C3: 羚牛氢能科技(广东)有限公司 | D3: 4.5吨冷链车 | E3: 羚牛136辆4.5T冷链车 | F3: 300 | G3: 何文斌 | Z3: 2741.94 | AA3: 2431 | AB3: ✗ | AC3: 161.29 | AD3: 123 | AE3: ✗ | AF3: 2903.23 | AG3: 2554 | AH3: ✗ | AI3: 广州智卡物流供应链有限公司 | AJ3: 暂不处理 | AK3: =SUMIFS('8月奖金发放记录'!$G$2:$G$171,'8月奖金发放记录'!$B$2:$B$171,G3,'8月奖金发放记录'!$A$2:$A$171,A3) -> 0 | AL3: =SUMIFS('8月奖金发放记录'!$J$2:$J$171,'8月奖金发放记录'!$B$2:$B$171,G3,'8月奖金发放记录'!$A$2:$A$171,A3) -> 0 | AM3: 未满足本月奖励、结转或补发条件 | AN3: 否
A4: 粤AGP9773 | B4: LB9A32A27R0LS1548 | C4: 广州开发区交投氢能运营管理有限公司 | D4: 4.5吨冷链车 | E4: 交投190辆4.5T冷链车 | F4: 150 | G4: 何文斌 | AC4: 1548.39 | AD4: 594.8 | AE4: ✗ | AF4: 1548.39 | AG4: 594.8 | AH4: ✗ | AI4: 广州超俊供应链有限公司 | AJ4: 暂不处理 | AK4: =SUMIFS('8月奖金发放记录'!$G$2:$G$171,'8月奖金发放记录'!$B$2:$B$171,G4,'8月奖金发放记录'!$A$2:$A$171,A4) -> 0 | AL4: =SUMIFS('8月奖金发放记录'!$J$2:$J$171,'8月奖金发放记录'!$B$2:$B$171,G4,'8月奖金发放记录'!$A$2:$A$171,A4) -> 0 | AM4: 未满足本月奖励、结转或补发条件 | AN4: 否
A5: 粤A00116F | B5: LNXNEGRR9SR318213 | C5: 羚牛氢能科技(广东)有限公司 | D5: 18吨双飞翼货车 | E5: 羚牛100辆18T | F5: 1000 | G5: 刘念念 | H5: 5032.26 | I5: 3360.9 | J5: ✗ | K5: 6000 | L5: 0.2 | M5: ✗ | N5: 6000 | O5: 5303.6 | P5: ✗ | Q5: 6000 | R5: 7704.5 | S5: ✓ | T5: 6193.55 | U5: 4580.8 | V5: ✗ | W5: 6000 | X5: 685.3 | Y5: ✗ | Z5: 6000 | AA5: 760.2 | AB5: ✗ | AC5: 6000 | AD5: 161.2 | AE5: ✗ | AF5: 47225.81 | AG5: 22556.7 | AH5: ✗ | AI5: 嘉兴市京宝物流有限公司 | AJ5: 暂不处理 | AK5: =SUMIFS('8月奖金发放记录'!$G$2:$G$171,'8月奖金发放记录'!$B$2:$B$171,G5,'8月奖金发放记录'!$A$2:$A$171,A5) -> 0 | AL5: =SUMIFS('8月奖金发放记录'!$J$2:$J$171,'8月奖金发放记录'!$B$2:$B$171,G5,'8月奖金发放记录'!$A$2:$A$171,A5) -> 0 | AM5: 未满足本月奖励、结转或补发条件 | AN5: 否
A6: 粤A00828F | B6: LNXNEGRR0SR319444 | C6: 羚牛氢能科技(广东)有限公司 | D6: 18吨双飞翼货车 | E6: 羚牛100辆18T | F6: 1000 | G6: 刘念念 | N6: 1161.29 | O6: 2472.8 | P6: ✓ | Q6: 6000 | R6: 11145.9 | S6: ✓ | T6: 6000 | U6: 11262.7 | V6: ✓ | W6: 6000 | X6: 10851.6 | Y6: ✓ | Z6: 6000 | AA6: 2227.2 | AB6: ✗ | AC6: 6000 | AD6: 1474.5 | AE6: ✗ | AF6: 31161.29 | AG6: 39434.7 | AH6: ✓ | AI6: 苏州望亭远方物流有限公司 | AJ6: 暂不处理 | AK6: =SUMIFS('8月奖金发放记录'!$G$2:$G$171,'8月奖金发放记录'!$B$2:$B$171,G6,'8月奖金发放记录'!$A$2:$A$171,A6) -> 1000 | AL6: =SUMIFS('8月奖金发放记录'!$J$2:$J$171,'8月奖金发放记录'!$B$2:$B$171,G6,'8月奖金发放记录'!$A$2:$A$171,A6) -> 1000 | AN6: 否
A7: 粤A01013F | B7: LNXNEGRR5SR318208 | C7: 羚牛氢能科技(广东)有限公司 | D7: 18吨双飞翼货车 | E7: 羚牛100辆18T | F7: 1000 | G7: 刘念念 | H7: 3096.77 | I7: 5432.4 | J7: ✓ | K7: 6000 | L7: 8908.1 | M7: ✓ | N7: 6000 | O7: 12352 | P7: ✓ | Q7: 6000 | R7: 12029.4 | S7: ✓ | T7: 6193.54 | U7: 4331.7 | V7: ✗ | W7: 6000 | X7: 367.2 | Y7: ✗ | Z7: 6000 | AA7: 228.4 | AB7: ✗ | AC7: 6000 | AD7: 553.2 | AE7: ✗ | AF7: 45290.31 | AG7: 44202.4 | AH7: ✗ | AI7: 嘉兴市京宝物流有限公司 | AJ7: 暂不处理 | AK7: =SUMIFS('8月奖金发放记录'!$G$2:$G$171,'8月奖金发放记录'!$B$2:$B$171,G7,'8月奖金发放记录'!$A$2:$A$171,A7) -> 0 | AL7: =SUMIFS('8月奖金发放记录'!$J$2:$J$171,'8月奖金发放记录'!$B$2:$B$171,G7,'8月奖金发放记录'!$A$2:$A$171,A7) -> 0 | AM7: 未满足本月奖励、结转或补发条件 | AN7: 否
A8: 粤A01505F | B8: LNXNEGRR8SR319448 | C8: 羚牛氢能科技(广东)有限公司 | D8: 18吨双飞翼货车 | E8: 羚牛100辆18T | F8: 1000 | G8: 刘念念 | Q8: 600 | R8: 490.9 | S8: ✗ | T8: 6000 | U8: 5250.8 | V8: ✗ | W8: 6000 | X8: 5490.6 | Y8: ✗ | Z8: 6000 | AA8: 2727.7 | AB8: ✗ | AC8: 6000 | AD8: 5960.1 | AE8: ✗ | AF8: 24600 | AG8: 19920.1 | AH8: ✗ | AI8: 上海利合供应链管理有限公司 (二部) | AJ8: 暂不处理 | AK8: =SUMIFS('8月奖金发放记录'!$G$2:$G$171,'8月奖金发放记录'!$B$2:$B$171,G8,'8月奖金发放记录'!$A$2:$A$171,A8) -> 0 | AL8: =SUMIFS('8月奖金发放记录'!$J$2:$J$171,'8月奖金发放记录'!$B$2:$B$171,G8,'8月奖金发放记录'!$A$2:$A$171,A8) -> 0 | AM8: 未满足本月奖励、结转或补发条件 | AN8: 否
A9: 粤A01506F | B9: LNXNEGRR8SR319451 | C9: 羚牛氢能科技(广东)有限公司 | D9: 18吨双飞翼货车 | E9: 羚牛100辆18T | F9: 1000 | G9: 刘念念 | K9: 5357.14 | L9: 1280.3 | M9: ✗ | N9: 6000 | O9: 5869.4 | P9: ✗ | Q9: 6000 | R9: 5132.5 | S9: ✗ | T9: 6000 | U9: 5177.3 | V9: ✗ | W9: 6000 | X9: 6413.5 | Y9: ✓ | Z9: 6000 | AA9: 4959.9 | AB9: ✗ | AC9: 6000 | AD9: 6000.5 | AE9: ✓ | AF9: 41357.14 | AG9: 34833.4 | AH9: ✗ | AI9: 上海利合供应链管理有限公司 (二部) | AJ9: 暂不处理 | AK9: =SUMIFS('8月奖金发放记录'!$G$2:$G$171,'8月奖金发放记录'!$B$2:$B$171,G9,'8月奖金发放记录'!$A$2:$A$171,A9) -> 1000 | AL9: =SUMIFS('8月奖金发放记录'!$J$2:$J$171,'8月奖金发放记录'!$B$2:$B$171,G9,'8月奖金发放记录'!$A$2:$A$171,A9) -> 1000 | AN9: 否
A10: 粤A02007F | B10: LNXNEGRR7SR319487 | C10: 羚牛氢能科技(广东)有限公司 | D10: 18吨双飞翼货车 | E10: 羚牛100辆18T | F10: 1000 | G10: 刘念念 | H10: 5225.81 | I10: 6896 | J10: ✓ | K10: 6000 | L10: 6339.7 | M10: ✓ | N10: 6000 | O10: 6512.4 | P10: ✓ | Q10: 6000 | R10: 10520.2 | S10: ✓ | T10: 6193.54 | U10: 3325 | V10: ✗ | W10: 6000 | X10: 483.1 | Y10: ✗ | Z10: 6000 | AA10: 48.9 | AB10: ✗ | AC10: 6000 | AD10: 311.6 | AE10: ✗ | AF10: 47419.35 | AG10: 34436.9 | AH10: ✗ | AI10: 嘉兴市京宝物流有限公司 | AJ10: 暂不处理 | AK10: =SUMIFS('8月奖金发放记录'!$G$2:$G$171,'8月奖金发放记录'!$B$2:$B$171,G10,'8月奖金发放记录'!$A$2:$A$171,A10) -> 0 | AL10: =SUMIFS('8月奖金发放记录'!$J$2:$J$171,'8月奖金发放记录'!$B$2:$B$171,G10,'8月奖金发放记录'!$A$2:$A$171,A10) -> 0 | AM10: 未满足本月奖励、结转或补发条件 | AN10: 否
A11: 粤A02058F | B11: LNXNEGRR4SR319480 | C11: 羚牛氢能科技(广东)有限公司 | D11: 18吨双飞翼货车 | E11: 羚牛100辆18T | F11: 1000 | G11: 刘念念 | K11: 4928.57 | L11: 2901.6 | M11: ✗ | N11: 5419.35 | O11: 2302.9 | P11: ✗ | T11: 2516.13 | U11: 254.8 | V11: ✗ | W11: 6000 | X11: 3773.6 | Y11: ✗ | Z11: 6000 | AA11: 909.2 | AB11: ✗ | AC11: 6000 | AD11: 658 | AE11: ✗ | AF11: 20516.13 | AG11: 5595.6 | AH11: ✗ | AI11: 嘉兴市京宝物流有限公司 | AJ11: 暂不处理 | AK11: =SUMIFS('8月奖金发放记录'!$G$2:$G$171,'8月奖金发放记录'!$B$2:$B$171,G11,'8月奖金发放记录'!$A$2:$A$171,A11) -> 0 | AL11: =SUMIFS('8月奖金发放记录'!$J$2:$J$171,'8月奖金发放记录'!$B$2:$B$171,G11,'8月奖金发放记录'!$A$2:$A$171,A11) -> 0 | AM11: 未满足本月奖励、结转或补发条件 | AN11: 否
A12: 粤A02298F | B12: LNXNEGRR0SR321372 | C12: 羚牛氢能科技(广东)有限公司 | D12: 18吨双飞翼货车 | E12: 羚牛100辆18T | F12: 1000 | G12: 刘念念 | H12: 5032.26 | I12: 7545.3 | J12: ✓ | K12: 6000 | L12: 6233.2 | M12: ✓ | N12: 6000 | O12: 10051.7 | P12: ✓ | Q12: 6000 | R12: 10756.2 | S12: ✓ | T12: 5806.45 | U12: 5339.7 | V12: ✗ | W12: 6000 | X12: 311.5 | Y12: ✗ | Z12: 6000 | AA12: 140.4 | AB12: ✗ | AC12: 6000 | AD12: 1072.7 | AE12: ✗ | AF12: 46838.71 | AG12: 41450.7 | AH12: ✗ | AI12: 嘉兴市京宝物流有限公司 | AJ12: 暂不处理 | AK12: =SUMIFS('8月奖金发放记录'!$G$2:$G$171,'8月奖金发放记录'!$B$2:$B$171,G12,'8月奖金发放记录'!$A$2:$A$171,A12) -> 0 | AL12: =SUMIFS('8月奖金发放记录'!$J$2:$J$171,'8月奖金发放记录'!$B$2:$B$171,G12,'8月奖金发放记录'!$A$2:$A$171,A12) -> 0 | AM12: 未满足本月奖励、结转或补发条件 | AN12: 否
A13: 粤A03350F | B13: LNXNEGRR3SR319485 | C13: 羚牛氢能科技(广东)有限公司 | D13: 18吨双飞翼货车 | E13: 羚牛100辆18T | F13: 1000 | G13: 刘念念 | H13: 2903.23 | I13: 4462.9 | J13: ✓ | K13: 6000 | L13: 836.4 | M13: ✗ | N13: 6000 | O13: 12162 | P13: ✓ | Q13: 6000 | R13: 9826.1 | S13: ✓ | T13: 5806.45 | U13: 3544.2 | V13: ✗ | W13: 6000 | X13: 294.7 | Y13: ✗ | Z13: 6000 | AA13: 256.3 | AB13: ✗ | AC13: 6000 | AD13: 756.9 | AE13: ✗ | AF13: 44709.68 | AG13: 32139.5 | AH13: ✗ | AI13: 嘉兴市京宝物流有限公司 | AJ13: 暂不处理 | AK13: =SUMIFS('8月奖金发放记录'!$G$2:$G$171,'8月奖金发放记录'!$B$2:$B$171,G13,'8月奖金发放记录'!$A$2:$A$171,A13) -> 0 | AL13: =SUMIFS('8月奖金发放记录'!$J$2:$J$171,'8月奖金发放记录'!$B$2:$B$171,G13,'8月奖金发放记录'!$A$2:$A$171,A13) -> 0 | AM13: 未满足本月奖励、结转或补发条件 | AN13: 否
A14: 粤A03517F | B14: LNXNEGRR4SR321374 | C14: 羚牛氢能科技(广东)有限公司 | D14: 18吨双飞翼货车 | E14: 羚牛100辆18T | F14: 1000 | G14: 刘念念 | N14: 2516.13 | O14: 3699.3 | P14: ✓ | Q14: 6000 | R14: 7673.6 | S14: ✓ | T14: 6000 | U14: 11301.9 | V14: ✓ | W14: 6000 | X14: 3687.8 | Y14: ✗ | Z14: 6000 | AA14: 1507.1 | AB14: ✗ | AC14: 6000 | AD14: 1688.6 | AE14: ✗ | AF14: 32516.13 | AG14: 29558.3 | AH14: ✗ | AI14: 嘉兴市南湖区新丰镇乐果货物运输服务部（个体工商户） | AJ14: 暂不处理 | AK14: =SUMIFS('8月奖金发放记录'!$G$2:$G$171,'8月奖金发放记录'!$B$2:$B$171,G14,'8月奖金发放记录'!$A$2:$A$171,A14) -> 0 | AL14: =SUMIFS('8月奖金发放记录'!$J$2:$J$171,'8月奖金发放记录'!$B$2:$B$171,G14,'8月奖金发放记录'!$A$2:$A$171,A14) -> 0 | AM14: 未满足本月奖励、结转或补发条件 | AN14: 否
A15: 粤A03676F | B15: LNXNEGRR0SR319458 | C15: 羚牛氢能科技(广东)有限公司 | D15: 18吨双飞翼货车 | E15: 羚牛100辆18T | F15: 1000 | G15: 刘念念 | N15: 1741.94 | O15: 2417 | P15: ✓ | Q15: 6200 | R15: 6031 | S15: ✗ | T15: 6000 | U15: 8266.7 | V15: ✓ | W15: 6000 | X15: 6887.5 | Y15: ✓ | Z15: 4838.71 | AA15: 2324 | AB15: ✗ | AC15: 6000 | AD15: 1478.5 | AE15: ✗ | AF15: 30780.65 | AG15: 27404.7 | AH15: ✗ | AI15: 嘉兴市南湖区大桥镇雪观运输装卸服务站 | AJ15: 暂不处理 | AK15: =SUMIFS('8月奖金发放记录'!$G$2:$G$171,'8月奖金发放记录'!$B$2:$B$171,G15,'8月奖金发放记录'!$A$2:$A$171,A15) -> 0 | AL15: =SUMIFS('8月奖金发放记录'!$J$2:$J$171,'8月奖金发放记录'!$B$2:$B$171,G15,'8月奖金发放记录'!$A$2:$A$171,A15) -> 0 | AM15: 未满足本月奖励、结转或补发条件 | AN15: 否
A16: 粤A05609F | B16: LNXNEGRR7SR319456 | C16: 羚牛氢能科技(广东)有限公司 | D16: 18吨双飞翼货车 | E16: 羚牛100辆18T | F16: 1000 | G16: 刘念念 | H16: 3677.42 | I16: 1435.6 | J16: ✗ | K16: 6000 | L16: 943.9 | M16: ✗ | N16: 6000 | O16: 6576.9 | P16: ✓ | Q16: 6000 | R16: 7551.7 | S16: ✓ | T16: 6000 | U16: 5895 | V16: ✗ | W16: 6000 | X16: 7747.2 | Y16: ✓ | Z16: 5419.35 | AA16: 285.3 | AB16: ✗ | AC16: 6000 | AD16: 458.1 | AE16: ✗ | AF16: 45096.77 | AG16: 30893.7 | AH16: ✗ | AI16: 嘉兴市京宝物流有限公司 | AJ16: 暂不处理 | AK16: =SUMIFS('8月奖金发放记录'!$G$2:$G$171,'8月奖金发放记录'!$B$2:$B$171,G16,'8月奖金发放记录'!$A$2:$A$171,A16) -> 0 | AL16: =SUMIFS('8月奖金发放记录'!$J$2:$J$171,'8月奖金发放记录'!$B$2:$B$171,G16,'8月奖金发放记录'!$A$2:$A$171,A16) -> 0 | AM16: 未满足本月奖励、结转或补发条件 | AN16: 否
A17: 粤A05650F | B17: LNXNEGRR2SR318201 | C17: 羚牛氢能科技(广东)有限公司 | D17: 18吨双飞翼货车 | E17: 羚牛100辆18T | F17: 1000 | G17: 刘念念 | N17: 2516.13 | O17: 1288.8 | P17: ✗ | Q17: 6000 | R17: 2035.8 | S17: ✗ | T17: 6000 | U17: 2467.2 | V17: ✗ | W17: 3600 | X17: 1649.6 | Y17: ✗ | Z17: 3096.77 | AA17: 2994.9 | AB17: ✗ | AC17: 3290.32 | AD17: 1728.7 | AE17: ✗ | AF17: 24503.22 | AG17: 12165 | AH17: ✗ | AI17: 嘉兴港区众通快递有限公司 | AJ17: 暂不处理 | AK17: =SUMIFS('8月奖金发放记录'!$G$2:$G$171,'8月奖金发放记录'!$B$2:$B$171,G17,'8月奖金发放记录'!$A$2:$A$171,A17) -> 0 | AL17: =SUMIFS('8月奖金发放记录'!$J$2:$J$171,'8月奖金发放记录'!$B$2:$B$171,G17,'8月奖金发放记录'!$A$2:$A$171,A17) -> 0 | AM17: 未满足本月奖励、结转或补发条件 | AN17: 否
A18: 粤A05809F | B18: LNXNEGRRXSR318205 | C18: 羚牛氢能科技(广东)有限公司 | D18: 18吨双飞翼货车 | E18: 羚牛100辆18T | F18: 1000 | G18: 刘念念 | H18: 5032.26 | I18: 8877.2 | J18: ✓ | K18: 6000 | L18: 7883.9 | M18: ✓ | N18: 6000 | O18: 13240.8 | P18: ✓ | Q18: 6200 | R18: 6707.9 | S18: ✓ | T18: 6000 | U18: 446.3 | V18: ✗ | W18: 6000 | X18: 643.8 | Y18: ✗ | Z18: 6000 | AA18: 149.9 | AB18: ✗ | AC18: 6000 | AD18: 471.1 | AE18: ✗ | AF18: 47232.26 | AG18: 38420.9 | AH18: ✗ | AI18: 嘉兴市京宝物流有限公司 | AJ18: 暂不处理 | AK18: =SUMIFS('8月奖金发放记录'!$G$2:$G$171,'8月奖金发放记录'!$B$2:$B$171,G18,'8月奖金发放记录'!$A$2:$A$171,A18) -> 0 | AL18: =SUMIFS('8月奖金发放记录'!$J$2:$J$171,'8月奖金发放记录'!$B$2:$B$171,G18,'8月奖金发放记录'!$A$2:$A$171,A18) -> 0 | AM18: 未满足本月奖励、结转或补发条件 | AN18: 否
A19: 粤A05906F | B19: LNXNEGRR2SR319462 | C19: 羚牛氢能科技(广东)有限公司 | D19: 18吨双飞翼货车 | E19: 羚牛100辆18T | F19: 1000 | G19: 刘念念 | N19: 1741.94 | O19: 1550.4 | P19: ✗ | Q19: 6200 | R19: 4392 | S19: ✗ | T19: 6000 | U19: 9051.6 | V19: ✓ | W19: 6000 | X19: 10525.6 | Y19: ✓ | Z19: 6000 | AA19: 0 | AB19: ✗ | AC19: 6000 | AD19: 2894.2 | AE19: ✗ | AF19: 31941.94 | AG19: 28413.8 | AH19: ✗ | AI19: 嘉兴智奇供应链管理有限公司 | AJ19: 暂不处理 | AK19: =SUMIFS('8月奖金发放记录'!$G$2:$G$171,'8月奖金发放记录'!$B$2:$B$171,G19,'8月奖金发放记录'!$A$2:$A$171,A19) -> 0 | AL19: =SUMIFS('8月奖金发放记录'!$J$2:$J$171,'8月奖金发放记录'!$B$2:$B$171,G19,'8月奖金发放记录'!$A$2:$A$171,A19) -> 0 | AM19: 未满足本月奖励、结转或补发条件 | AN19: 否
A20: 粤A06177F | B20: LNXNEGRR4SR321391 | C20: 羚牛氢能科技(广东)有限公司 | D20: 18吨双飞翼货车 | E20: 羚牛100辆18T | F20: 1000 | G20: 刘念念 | H20: 4838.71 | I20: 2106.7 | J20: ✗ | K20: 6000 | L20: 0 | M20: ✗ | N20: 6000 | O20: 5854.4 | P20: ✗ | Q20: 6000 | R20: 9559.9 | S20: ✓ | T20: 6193.55 | U20: 3398.9 | V20: ✗ | W20: 6000 | X20: 472.7 | Y20: ✗ | Z20: 6000 | AA20: 708.3 | AB20: ✗ | AC20: 6000 | AD20: 551.9 | AE20: ✗ | AF20: 47032.26 | AG20: 22652.8 | AH20: ✗ | AI20: 嘉兴市京宝物流有限公司 | AJ20: 暂不处理 | AK20: =SUMIFS('8月奖金发放记录'!$G$2:$G$171,'8月奖金发放记录'!$B$2:$B$171,G20,'8月奖金发放记录'!$A$2:$A$171,A20) -> 0 | AL20: =SUMIFS('8月奖金发放记录'!$J$2:$J$171,'8月奖金发放记录'!$B$2:$B$171,G20,'8月奖金发放记录'!$A$2:$A$171,A20) -> 0 | AM20: 未满足本月奖励、结转或补发条件 | AN20: 否
A21: 粤A06271F | B21: LNXNEGRR8SR319479 | C21: 羚牛氢能科技(广东)有限公司 | D21: 18吨双飞翼货车 | E21: 羚牛100辆18T | F21: 1000 | G21: 刘念念 | T21: 2516.13 | U21: 355.8 | V21: ✗ | W21: 6000 | X21: 5644.7 | Y21: ✗ | Z21: 6000 | AA21: 3156.7 | AB21: ✗ | AC21: 6000 | AD21: 618.4 | AE21: ✗ | AF21: 20516.13 | AG21: 9775.6 | AH21: ✗ | AI21: 嘉兴市京宝物流有限公司 | AJ21: 暂不处理 | AK21: =SUMIFS('8月奖金发放记录'!$G$2:$G$171,'8月奖金发放记录'!$B$2:$B$171,G21,'8月奖金发放记录'!$A$2:$A$171,A21) -> 0 | AL21: =SUMIFS('8月奖金发放记录'!$J$2:$J$171,'8月奖金发放记录'!$B$2:$B$171,G21,'8月奖金发放记录'!$A$2:$A$171,A21) -> 0 | AM21: 未满足本月奖励、结转或补发条件 | AN21: 否
A22: 粤A06619F | B22: LNXNEGRRXSR319449 | C22: 羚牛氢能科技(广东)有限公司 | D22: 18吨双飞翼货车 | E22: 羚牛100辆18T | F22: 1000 | G22: 刘念念 | T22: 2516.13 | U22: 369.4 | V22: ✗ | W22: 6000 | X22: 687 | Y22: ✗ | Z22: 6000 | AA22: 831 | AB22: ✗ | AC22: 6000 | AD22: 267.5 | AE22: ✗ | AF22: 20516.13 | AG22: 2154.9 | AH22: ✗ | AI22: 嘉兴市京宝物流有限公司 | AJ22: 暂不处理 | AK22: =SUMIFS('8月奖金发放记录'!$G$2:$G$171,'8月奖金发放记录'!$B$2:$B$171,G22,'8月奖金发放记录'!$A$2:$A$171,A22) -> 0 | AL22: =SUMIFS('8月奖金发放记录'!$J$2:$J$171,'8月奖金发放记录'!$B$2:$B$171,G22,'8月奖金发放记录'!$A$2:$A$171,A22) -> 0 | AM22: 未满足本月奖励、结转或补发条件 | AN22: 否
A23: 粤A06632F | B23: LNXNEGRR3SR321396 | C23: 羚牛氢能科技(广东)有限公司 | D23: 18吨双飞翼货车 | E23: 羚牛100辆18T | F23: 1000 | G23: 刘念念 | H23: 3677.42 | I23: 1156.8 | J23: ✗ | K23: 6000 | L23: 0 | M23: ✗ | N23: 6000 | O23: 4925.2 | P23: ✗ | Q23: 6000 | R23: 6427.4 | S23: ✓ | T23: 6000 | U23: 11292.1 | V23: ✓ | W23: 6000 | X23: 10104.2 | Y23: ✓ | Z23: 5612.91 | AA23: 4150 | AB23: ✗ | AC23: 6000 | AD23: 1152.9 | AE23: ✗ | AF23: 45290.33 | AG23: 39208.6 | AH23: ✗ | AI23: 上海昕海供应链管理有限公司 | AJ23: 暂不处理 | AK23: =SUMIFS('8月奖金发放记录'!$G$2:$G$171,'8月奖金发放记录'!$B$2:$B$171,G23,'8月奖金发放记录'!$A$2:$A$171,A23) -> 0 | AL23: =SUMIFS('8月奖金发放记录'!$J$2:$J$171,'8月奖金发放记录'!$B$2:$B$171,G23,'8月奖金发放记录'!$A$2:$A$171,A23) -> 0 | AM23: 未满足本月奖励、结转或补发条件 | AN23: 否
A24: 粤A07577F | B24: LNXNEGRRXSR319483 | C24: 羚牛氢能科技(广东)有限公司 | D24: 18吨双飞翼货车 | E24: 羚牛100辆18T | F24: 1000 | G24: 刘念念 | N24: 1161.29 | O24: 2422.9 | P24: ✓ | Q24: 6000 | R24: 10296.1 | S24: ✓ | T24: 6000 | U24: 13707.1 | V24: ✓ | W24: 6000 | X24: 11502.8 | Y24: ✓ | Z24: 5419.36 | AA24: 1432.9 | AB24: ✗ | AC24: 6000 | AD24: 1426.9 | AE24: ✗ | AF24: 30580.65 | AG24: 40788.7 | AH24: ✓ | AI24: 嘉兴港区韵达快递有限公司新仓分理部 | AJ24: 暂不处理 | AK24: =SUMIFS('8月奖金发放记录'!$G$2:$G$171,'8月奖金发放记录'!$B$2:$B$171,G24,'8月奖金发放记录'!$A$2:$A$171,A24) -> 1000 | AL24: =SUMIFS('8月奖金发放记录'!$J$2:$J$171,'8月奖金发放记录'!$B$2:$B$171,G24,'8月奖金发放记录'!$A$2:$A$171,A24) -> 1000 | AN24: 否
A25: 粤A08506F | B25: LNXNEGRR7SR318212 | C25: 羚牛氢能科技(广东)有限公司 | D25: 18吨双飞翼货车 | E25: 羚牛100辆18T | F25: 1000 | G25: 刘念念 | H25: 5225.81 | I25: 2772.1 | J25: ✗ | K25: 6000 | L25: 132.2 | M25: ✗ | N25: 6000 | O25: 10851.2 | P25: ✓ | Q25: 6000 | R25: 10938.1 | S25: ✓ | T25: 6193.54 | U25: 3846.2 | V25: ✗ | W25: 6000 | X25: 705.2 | Y25: ✗ | Z25: 6000 | AA25: 116 | AB25: ✗ | AC25: 6000 | AD25: 249.6 | AE25: ✗ | AF25: 47419.35 | AG25: 29610.6 | AH25: ✗ | AI25: 嘉兴市京宝物流有限公司 | AJ25: 暂不处理 | AK25: =SUMIFS('8月奖金发放记录'!$G$2:$G$171,'8月奖金发放记录'!$B$2:$B$171,G25,'8月奖金发放记录'!$A$2:$A$171,A25) -> 0 | AL25: =SUMIFS('8月奖金发放记录'!$J$2:$J$171,'8月奖金发放记录'!$B$2:$B$171,G25,'8月奖金发放记录'!$A$2:$A$171,A25) -> 0 | AM25: 未满足本月奖励、结转或补发条件 | AN25: 否
A26: 粤A08578F | B26: LNXNEGRR9SR319443 | C26: 羚牛氢能科技(广东)有限公司 | D26: 18吨双飞翼货车 | E26: 羚牛100辆18T | F26: 1000 | G26: 刘念念 | N26: 6000 | O26: 4759.8 | P26: ✗ | Q26: 6200 | R26: 5993.2 | S26: ✗ | T26: 6000 | U26: 7531 | V26: ✓ | W26: 6000 | X26: 6947.7 | Y26: ✓ | Z26: 5225.8 | AA26: 5890.7 | AB26: ✓ | AC26: 6000 | AD26: 5379.6 | AE26: ✗ | AF26: 35425.8 | AG26: 36502 | AH26: ✓ | AI26: 嘉兴智奇供应链管理有限公司 | AJ26: 暂不处理 | AK26: =SUMIFS('8月奖金发放记录'!$G$2:$G$171,'8月奖金发放记录'!$B$2:$B$171,G26,'8月奖金发放记录'!$A$2:$A$171,A26) -> 1000 | AL26: =SUMIFS('8月奖金发放记录'!$J$2:$J$171,'8月奖金发放记录'!$B$2:$B$171,G26,'8月奖金发放记录'!$A$2:$A$171,A26) -> 1000 | AN26: 否
A27: 粤A09209F | B27: LNXNEGRRXSR319466 | C27: 羚牛氢能科技(广东)有限公司 | D27: 18吨双飞翼货车 | E27: 羚牛100辆18T | F27: 1000 | G27: 刘念念 | N27: 1354.84 | O27: 2759.2 | P27: ✓ | Q27: 6000 | R27: 11740.9 | S27: ✓ | T27: 6000 | U27: 13847.9 | V27: ✓ | W27: 6000 | X27: 6771.5 | Y27: ✓ | Z27: 5419.35 | AA27: 223.4 | AB27: ✗ | AC27: 6000 | AD27: 191.1 | AE27: ✗ | AF27: 30774.19 | AG27: 35534 | AH27: ✓ | AI27: 嘉兴市京宝物流有限公司 | AJ27: 暂不处理 | AK27: =SUMIFS('8月奖金发放记录'!$G$2:$G$171,'8月奖金发放记录'!$B$2:$B$171,G27,'8月奖金发放记录'!$A$2:$A$171,A27) -> 1000 | AL27: =SUMIFS('8月奖金发放记录'!$J$2:$J$171,'8月奖金发放记录'!$B$2:$B$171,G27,'8月奖金发放记录'!$A$2:$A$171,A27) -> 1000 | AN27: 否
A28: 粤AFH3525 | B28: LB9A32A21P0LS1252 | C28: 现代氢能科技(广州)有限公司 | D28: 4.5吨货车 | E28: 恒运50辆4.5T普货 | F28: 260 | G28: 刘念念 | Q28: 3000 | R28: 691.9 | S28: ✗ | T28: 5000 | U28: 1778.1 | V28: ✗ | W28: 5000 | X28: 1699.5 | Y28: ✗ | Z28: 5000 | AA28: 1806.8 | AB28: ✗ | AC28: 5000 | AD28: 1000.5 | AE28: ✗ | AF28: 23000 | AG28: 6976.8 | AH28: ✗ | AI28: 桐乡市丰韵快递有限责任公司 | AJ28: 暂不处理 | AK28: =SUMIFS('8月奖金发放记录'!$G$2:$G$171,'8月奖金发放记录'!$B$2:$B$171,G28,'8月奖金发放记录'!$A$2:$A$171,A28) -> 0 | AL28: =SUMIFS('8月奖金发放记录'!$J$2:$J$171,'8月奖金发放记录'!$B$2:$B$171,G28,'8月奖金发放记录'!$A$2:$A$171,A28) -> 0 | AM28: 未满足本月奖励、结转或补发条件 | AN28: 否
A29: 粤AFQ7882 | B29: LB9A32A27P0LS1255 | C29: 现代氢能科技(广州)有限公司 | D29: 4.5吨货车 | E29: 恒运50辆4.5T普货 | F29: 260 | G29: 刘念念 | T29: 1612.9 | U29: 386.1 | V29: ✗ | W29: 5000 | X29: 1316 | Y29: ✗ | Z29: 5000 | AA29: 1715.5 | AB29: ✗ | AC29: 5000 | AD29: 1471.2 | AE29: ✗ | AF29: 16612.9 | AG29: 4888.8 | AH29: ✗ | AI29: 嘉兴港区韵达快递有限公司 | AJ29: 暂不处理 | AK29: =SUMIFS('8月奖金发放记录'!$G$2:$G$171,'8月奖金发放记录'!$B$2:$B$171,G29,'8月奖金发放记录'!$A$2:$A$171,A29) -> 0 | AL29: =SUMIFS('8月奖金发放记录'!$J$2:$J$171,'8月奖金发放记录'!$B$2:$B$171,G29,'8月奖金发放记录'!$A$2:$A$171,A29) -> 0 | AM29: 未满足本月奖励、结转或补发条件 | AN29: 否
A30: 粤AG03213 | B30: LB9A32A24P0LS1245 | C30: 现代氢能科技（广州）有限公司 | D30: 4.5吨货车 | E30: 恒运50辆4.5T普货 | F30: 260 | G30: 刘念念 | W30: 3333.33 | X30: 669.4 | Y30: ✗ | Z30: 5000 | AA30: 1120.2 | AB30: ✗ | AC30: 5000 | AD30: 1686.4 | AE30: ✗ | AF30: 13333.33 | AG30: 3476 | AH30: ✗ | AI30: 嘉兴港区众通快递有限公司 | AJ30: 暂不处理 | AK30: =SUMIFS('8月奖金发放记录'!$G$2:$G$171,'8月奖金发放记录'!$B$2:$B$171,G30,'8月奖金发放记录'!$A$2:$A$171,A30) -> 0 | AL30: =SUMIFS('8月奖金发放记录'!$J$2:$J$171,'8月奖金发放记录'!$B$2:$B$171,G30,'8月奖金发放记录'!$A$2:$A$171,A30) -> 0 | AM30: 未满足本月奖励、结转或补发条件 | AN30: 否
A31: 粤AG15568 | B31: LB9A32A23P0LS1222 | C31: 现代氢能科技（广州）有限公司 | D31: 4.5吨货车 | E31: 恒运50辆4.5T普货 | F31: 260 | G31: 刘念念 | W31: 3333.33 | X31: 1034.3 | Y31: ✗ | Z31: 5000 | AA31: 1635.4 | AB31: ✗ | AC31: 5000 | AD31: 1383.6 | AE31: ✗ | AF31: 13333.33 | AG31: 4053.3 | AH31: ✗ | AI31: 嘉兴港区众通快递有限公司 | AJ31: 暂不处理 | AK31: =SUMIFS('8月奖金发放记录'!$G$2:$G$171,'8月奖金发放记录'!$B$2:$B$171,G31,'8月奖金发放记录'!$A$2:$A$171,A31) -> 0 | AL31: =SUMIFS('8月奖金发放记录'!$J$2:$J$171,'8月奖金发放记录'!$B$2:$B$171,G31,'8月奖金发放记录'!$A$2:$A$171,A31) -> 0 | AM31: 未满足本月奖励、结转或补发条件 | AN31: 否
A32: 粤AGP3078 | B32: LB9A32A26R0LS1699 | C32: 羚牛氢能科技(广东)有限公司 | D32: 4.5吨冷链车 | E32: 羚牛136辆4.5T冷链车 | F32: 260 | G32: 刘念念 | H32: 5000 | I32: 3986.8 | J32: ✗ | K32: 5000 | L32: 1022.4 | M32: ✗ | N32: 5000 | O32: 6920.9 | P32: ✓ | Q32: 5000 | R32: 2426 | S32: ✗ | T32: 5000 | U32: 9424.3 | V32: ✓ | W32: 5000 | X32: 3849 | Y32: ✗ | Z32: 5000 | AA32: 9470.7 | AB32: ✓ | AC32: 4516.13 | AD32: 7195.2 | AE32: ✓ | AF32: 39516.13 | AG32: 44295.3 | AH32: ✓ | AI32: 浙江洋开供应链管理有限公司 | AJ32: 暂不处理 | AK32: =SUMIFS('8月奖金发放记录'!$G$2:$G$171,'8月奖金发放记录'!$B$2:$B$171,G32,'8月奖金发放记录'!$A$2:$A$171,A32) -> 234.84 | AL32: =SUMIFS('8月奖金发放记录'!$J$2:$J$171,'8月奖金发放记录'!$B$2:$B$171,G32,'8月奖金发放记录'!$A$2:$A$171,A32) -> 234.84 | AN32: 否
A33: 粤AGP3508 | B33: LB9A32A20R0LS1424 | C33: 广州开发区交投氢能运营管理有限公司 | D33: 4.5吨冷链车 | E33: 交投190辆4.5T冷链车 | F33: 150 | G33: 刘念念 | H33: 3000 | I33: 4474.7 | J33: ✓ | K33: 3000 | L33: 4479.7 | M33: ✓ | N33: 3000 | O33: 7320 | P33: ✓ | Q33: 3000 | R33: 7444.9 | S33: ✓ | T33: 3000 | U33: 7754.7 | V33: ✓ | W33: 3000 | X33: 9009.6 | Y33: ✓ | Z33: 3000 | AA33: 7789.7 | AB33: ✓ | AC33: 2225.81 | AD33: 6707.3 | AE33: ✓ | AF33: 23225.81 | AG33: 54980.6 | AH33: ✓ | AI33: 浙江洋开供应链管理有限公司 | AJ33: 暂不处理 | AK33: =SUMIFS('8月奖金发放记录'!$G$2:$G$171,'8月奖金发放记录'!$B$2:$B$171,G33,'8月奖金发放记录'!$A$2:$A$171,A33) -> 150 | AL33: =SUMIFS('8月奖金发放记录'!$J$2:$J$171,'8月奖金发放记录'!$B$2:$B$171,G33,'8月奖金发放记录'!$A$2:$A$171,A33) -> 150 | AN33: 否
A34: 粤AGP3607 | B34: LB9A32A29R0LS1597 | C34: 羚牛氢能科技(广东)有限公司 | D34: 4.5吨冷链车 | E34: 羚牛136辆4.5T冷链车 | F34: 260 | G34: 刘念念 | H34: 5000 | I34: 4292.8 | J34: ✗ | K34: 5000 | L34: 1401 | M34: ✗ | N34: 5000 | O34: 4632.8 | P34: ✗ | Q34: 5000 | R34: 1911.3 | S34: ✗ | T34: 5000 | U34: 10908.5 | V34: ✓ | W34: 5000 | X34: 13277.3 | Y34: ✓ | Z34: 5000 | AA34: 8138.6 | AB34: ✓ | AC34: 4516.13 | AD34: 8835.7 | AE34: ✓ | AF34: 39516.13 | AG34: 53398 | AH34: ✓ | AI34: 浙江洋开供应链管理有限公司 | AJ34: 暂不处理 | AK34: =SUMIFS('8月奖金发放记录'!$G$2:$G$171,'8月奖金发放记录'!$B$2:$B$171,G34,'8月奖金发放记录'!$A$2:$A$171,A34) -> 234.84 | AL34: =SUMIFS('8月奖金发放记录'!$J$2:$J$171,'8月奖金发放记录'!$B$2:$B$171,G34,'8月奖金发放记录'!$A$2:$A$171,A34) -> 234.84 | AN34: 否
A35: 粤AGP3609 | B35: LB9A32A23R0LS1661 | C35: 羚牛氢能科技(广东)有限公司 | D35: 4.5吨冷链车 | E35: 羚牛136辆4.5T冷链车 | F35: 260 | G35: 刘念念 | N35: 2258.06 | O35: 3688.7 | P35: ✓ | Q35: 5000 | R35: 8068.2 | S35: ✓ | T35: 5000 | U35: 7468.3 | V35: ✓ | W35: 5000 | X35: 7261.3 | Y35: ✓ | Z35: 5000 | AA35: 4765.6 | AB35: ✗ | AC35: 5000 | AD35: 4531.5 | AE35: ✗ | AF35: 27258.06 | AG35: 35783.6 | AH35: ✓ | AI35: 嘉兴吉时物流有限公司 | AJ35: 暂不处理 | AK35: =SUMIFS('8月奖金发放记录'!$G$2:$G$171,'8月奖金发放记录'!$B$2:$B$171,G35,'8月奖金发放记录'!$A$2:$A$171,A35) -> 260 | AL35: =SUMIFS('8月奖金发放记录'!$J$2:$J$171,'8月奖金发放记录'!$B$2:$B$171,G35,'8月奖金发放记录'!$A$2:$A$171,A35) -> 260 | AN35: 否
A36: 粤AGP3690 | B36: LB9A32A20R0LS1584 | C36: 羚牛氢能科技(广东)有限公司 | D36: 4.5吨冷链车 | E36: 羚牛136辆4.5T冷链车 | F36: 260 | G36: 刘念念 | H36: 2580.65 | I36: 552.5 | J36: ✗ | K36: 5000 | L36: 364 | M36: ✗ | N36: 5000 | O36: 757 | P36: ✗ | Q36: 2166.67 | R36: 549.7 | S36: ✗ | W36: 4333.33 | X36: 159.8 | Y36: ✗ | Z36: 5000 | AA36: 272 | AB36: ✗ | AC36: 5000 | AD36: 349.5 | AE36: ✗ | AF36: 14333.33 | AG36: 781.3 | AH36: ✗ | AI36: 嘉兴港区韵达快递有限公司 | AJ36: 暂不处理 | AK36: =SUMIFS('8月奖金发放记录'!$G$2:$G$171,'8月奖金发放记录'!$B$2:$B$171,G36,'8月奖金发放记录'!$A$2:$A$171,A36) -> 0 | AL36: =SUMIFS('8月奖金发放记录'!$J$2:$J$171,'8月奖金发放记录'!$B$2:$B$171,G36,'8月奖金发放记录'!$A$2:$A$171,A36) -> 0 | AM36: 未满足本月奖励、结转或补发条件 | AN36: 否
A37: 粤AGP4335 | B37: LB9A32A20R0LS1634 | C37: 羚牛氢能科技(广东)有限公司 | D37: 4.5吨冷链车 | E37: 羚牛136辆4.5T冷链车 | F37: 260 | G37: 刘念念 | H37: 161.29 | I37: 73.4 | J37: ✗ | K37: 5000 | L37: 1865.7 | M37: ✗ | N37: 5000 | O37: 4896.6 | P37: ✗ | Q37: 666.67 | R37: 303.7 | S37: ✗ | T37: 2741.94 | U37: 3039.7 | V37: ✓ | W37: 5000 | X37: 6905.2 | Y37: ✓ | Z37: 5000 | AA37: 5914.1 | AB37: ✓ | AC37: 5000 | AD37: 5080 | AE37: ✓ | AF37: 28569.9 | AG37: 28078.4 | AH37: ✗ | AI37: 嘉兴坤鑫物流有限公司 | AJ37: 暂不处理 | AK37: =SUMIFS('8月奖金发放记录'!$G$2:$G$171,'8月奖金发放记录'!$B$2:$B$171,G37,'8月奖金发放记录'!$A$2:$A$171,A37) -> 260 | AL37: =SUMIFS('8月奖金发放记录'!$J$2:$J$171,'8月奖金发放记录'!$B$2:$B$171,G37,'8月奖金发放记录'!$A$2:$A$171,A37) -> 260 | AN37: 否
A38: 粤AGP4597 | B38: LB9A32A27R0LS1601 | C38: 羚牛氢能科技(广东)有限公司 | D38: 4.5吨冷链车 | E38: 羚牛136辆4.5T冷链车 | F38: 260 | G38: 刘念念 | H38: 5000 | I38: 1149.5 | J38: ✗ | K38: 5000 | L38: 691.1 | M38: ✗ | N38: 5000 | O38: 411.9 | P38: ✗ | Q38: 500 | R38: 53.9 | S38: ✗ | W38: 4500 | X38: 1779.6 | Y38: ✗ | Z38: 5000 | AA38: 1918.1 | AB38: ✗ | AC38: 5000 | AD38: 1952.8 | AE38: ✗ | AF38: 14500 | AG38: 5650.5 | AH38: ✗ | AI38: 桐乡市丰韵快递有限责任公司 | AJ38: 暂不处理 | AK38: =SUMIFS('8月奖金发放记录'!$G$2:$G$171,'8月奖金发放记录'!$B$2:$B$171,G38,'8月奖金发放记录'!$A$2:$A$171,A38) -> 0 | AL38: =SUMIFS('8月奖金发放记录'!$J$2:$J$171,'8月奖金发放记录'!$B$2:$B$171,G38,'8月奖金发放记录'!$A$2:$A$171,A38) -> 0 | AM38: 未满足本月奖励、结转或补发条件 | AN38: 否
A39: 粤AGP4623 | B39: LB9A32A26R0LS1668 | C39: 羚牛氢能科技(广东)有限公司 | D39: 4.5吨冷链车 | E39: 羚牛136辆4.5T冷链车 | F39: 260 | G39: 刘念念 | H39: 161.29 | I39: 69 | J39: ✗ | K39: 5000 | L39: 451.5 | M39: ✗ | N39: 3870.97 | O39: 1537.1 | P39: ✗ | Z39: 4516.13 | AA39: 1257.6 | AB39: ✗ | AC39: 5000 | AD39: 1767.9 | AE39: ✗ | AF39: 9516.13 | AG39: 3025.5 | AH39: ✗ | AI39: 嘉兴港区众通快递有限公司 | AJ39: 暂不处理 | AK39: =SUMIFS('8月奖金发放记录'!$G$2:$G$171,'8月奖金发放记录'!$B$2:$B$171,G39,'8月奖金发放记录'!$A$2:$A$171,A39) -> 0 | AL39: =SUMIFS('8月奖金发放记录'!$J$2:$J$171,'8月奖金发放记录'!$B$2:$B$171,G39,'8月奖金发放记录'!$A$2:$A$171,A39) -> 0 | AM39: 未满足本月奖励、结转或补发条件 | AN39: 否
A40: 粤AGP5378 | B40: LB9A32A29R0LS1521 | C40: 广州开发区交投氢能运营管理有限公司 | D40: 4.5吨冷链车 | E40: 交投190辆4.5T冷链车 | F40: 150 | G40: 刘念念 | H40: 3000 | I40: 1882.4 | J40: ✗ | K40: 3000 | L40: 7.3 | M40: ✗ | N40: 3000 | O40: 5796.8 | P40: ✓ | Q40: 3000 | R40: 4537.9 | S40: ✓ | T40: 3000 | U40: 1112.8 | V40: ✗ | W40: 3000 | X40: 10806.9 | Y40: ✓ | Z40: 3000 | AA40: 2540 | AB40: ✗ | AC40: 2032.26 | AD40: 1013.8 | AE40: ✗ | AF40: 23032.26 | AG40: 27697.9 | AH40: ✓ | AI40: 浙江洋开供应链管理有限公司 | AJ40: 暂不处理 | AK40: =SUMIFS('8月奖金发放记录'!$G$2:$G$171,'8月奖金发放记录'!$B$2:$B$171,G40,'8月奖金发放记录'!$A$2:$A$171,A40) -> 101.61 | AL40: =SUMIFS('8月奖金发放记录'!$J$2:$J$171,'8月奖金发放记录'!$B$2:$B$171,G40,'8月奖金发放记录'!$A$2:$A$171,A40) -> 101.61 | AN40: 否
...

Sheet 8月奖金发放记录
A1: 车牌号 | B1: 业务员 | C1: 部门 | D1: 客户名称 | E1: 发放类型 | F1: 对应考核月 | G1: 考核应发 | H1: 客户盈亏 | I1: 不发/扣减 | J1: 实发金额 | K1: 奖励基准 | L1: 折算分子 | M1: 折算分母 | N1: 原发放编号 | O1: 说明
A2: 粤AGG3040 | B2: 钟祥 | C2: 业务一部 | D2: 广州华轩供应链管理有限公司 | E2: 当月 | F2: 8 | G2: =ROUND(K2*L2/M2,2) -> 150 | H2: 暂不处理 | I2: 0 | J2: =G2-I2 -> 150 | K2: 150 | L2: 31 | M2: 31 | N2: 1
A3: 粤AGP2017 | B3: 钟祥 | C3: 业务一部 | D3: 佛山市龙天运力新能源汽车租赁有限公司 | E3: 当月 | F3: 8 | G3: =ROUND(K3*L3/M3,2) -> 260 | H3: 暂不处理 | I3: 0 | J3: =G3-I3 -> 260 | K3: 260 | L3: 31 | M3: 31 | N3: 2
A4: 粤AGP5766 | B4: 钟祥 | C4: 业务一部 | D4: 佛山市龙天运力新能源汽车租赁有限公司 | E4: 当月 | F4: 8 | G4: =ROUND(K4*L4/M4,2) -> 150 | H4: 暂不处理 | I4: 0 | J4: =G4-I4 -> 150 | K4: 150 | L4: 31 | M4: 31 | N4: 3
A5: 粤AGQ3028 | B5: 钟祥 | C5: 业务一部 | D5: 佛山市龙天运力新能源汽车租赁有限公司 | E5: 当月 | F5: 8 | G5: =ROUND(K5*L5/M5,2) -> 150 | H5: 暂不处理 | I5: 0 | J5: =G5-I5 -> 150 | K5: 150 | L5: 31 | M5: 31 | N5: 4
A6: 粤AGR5056 | B6: 钟祥 | C6: 业务一部 | D6: 佛山龙天红专汽车服务有限公司 | E6: 当月 | F6: 8 | G6: =ROUND(K6*L6/M6,2) -> 150 | H6: 暂不处理 | I6: 0 | J6: =G6-I6 -> 150 | K6: 150 | L6: 31 | M6: 31 | N6: 5
A7: 粤AGR5058 | B7: 钟祥 | C7: 业务一部 | D7: 佛山市三水淼供农产品有限公司 | E7: 当月 | F7: 8 | G7: =ROUND(K7*L7/M7,2) -> 150 | H7: 暂不处理 | I7: 0 | J7: =G7-I7 -> 150 | K7: 150 | L7: 31 | M7: 31 | N7: 6
